BEGIN:VCALENDAR
VERSION:2.0
PRODID:-//Administration - ECPv6.15.15//NONSGML v1.0//EN
CALSCALE:GREGORIAN
METHOD:PUBLISH
X-ORIGINAL-URL:https://duggerunionschools.org/administration
X-WR-CALDESC:Events for Administration
REFRESH-INTERVAL;VALUE=DURATION:PT1H
X-Robots-Tag:noindex
X-PUBLISHED-TTL:PT1H
BEGIN:VTIMEZONE
TZID:America/Indiana/Indianapolis
BEGIN:DAYLIGHT
TZOFFSETFROM:-0500
TZOFFSETTO:-0400
TZNAME:EDT
DTSTART:20230312T070000
END:DAYLIGHT
BEGIN:STANDARD
TZOFFSETFROM:-0400
TZOFFSETTO:-0500
TZNAME:EST
DTSTART:20231105T060000
END:STANDARD
BEGIN:DAYLIGHT
TZOFFSETFROM:-0500
TZOFFSETTO:-0400
TZNAME:EDT
DTSTART:20240310T070000
END:DAYLIGHT
BEGIN:STANDARD
TZOFFSETFROM:-0400
TZOFFSETTO:-0500
TZNAME:EST
DTSTART:20241103T060000
END:STANDARD
BEGIN:DAYLIGHT
TZOFFSETFROM:-0500
TZOFFSETTO:-0400
TZNAME:EDT
DTSTART:20250309T070000
END:DAYLIGHT
BEGIN:STANDARD
TZOFFSETFROM:-0400
TZOFFSETTO:-0500
TZNAME:EST
DTSTART:20251102T060000
END:STANDARD
BEGIN:DAYLIGHT
TZOFFSETFROM:-0500
TZOFFSETTO:-0400
TZNAME:EDT
DTSTART:20260308T070000
END:DAYLIGHT
BEGIN:STANDARD
TZOFFSETFROM:-0400
TZOFFSETTO:-0500
TZNAME:EST
DTSTART:20261101T060000
END:STANDARD
END:VTIMEZONE
BEGIN:VEVENT
DTSTART;VALUE=DATE:20241219
DTEND;VALUE=DATE:20250104
DTSTAMP:20260421T062048
CREATED:20240606T201227Z
LAST-MODIFIED:20250103T234257Z
UID:103742-1734566400-1735948799@duggerunionschools.org
SUMMARY:Christmas Break - No School
DESCRIPTION:
URL:https://duggerunionschools.org/administration/event/christmas-break-no-school-17/
END:VEVENT
BEGIN:VEVENT
DTSTART;VALUE=DATE:20250103
DTEND;VALUE=DATE:20250104
DTSTAMP:20260421T062048
CREATED:20240606T201228Z
LAST-MODIFIED:20250103T234257Z
UID:103743-1735862400-1735948799@duggerunionschools.org
SUMMARY:DUCS Staff Workday
DESCRIPTION:CPR training – odd years
URL:https://duggerunionschools.org/administration/event/ducs-staff-workday-2/
END:VEVENT
BEGIN:VEVENT
DTSTART;TZID=America/Indiana/Indianapolis:20250103T180000
DTEND;TZID=America/Indiana/Indianapolis:20250103T200000
DTSTAMP:20260421T062048
CREATED:20240106T041317Z
LAST-MODIFIED:20241009T232912Z
UID:78034-1735927200-1735934400@duggerunionschools.org
SUMMARY:Basketball (Boys JV) @ Wood Memorial High School
DESCRIPTION:
URL:https://duggerunionschools.org/administration/event/basketball-boys-jv-wood-memorial-high-school-2/
LOCATION:Wood Memorial High School
END:VEVENT
BEGIN:VEVENT
DTSTART;TZID=America/Indiana/Indianapolis:20250103T180000
DTEND;TZID=America/Indiana/Indianapolis:20250103T200000
DTSTAMP:20260421T062048
CREATED:20241116T084320Z
LAST-MODIFIED:20250104T003049Z
UID:127331-1735927200-1735934400@duggerunionschools.org
SUMMARY:Basketball (Boys JV) - Indiana Deaf School
DESCRIPTION:
URL:https://duggerunionschools.org/administration/event/basketball-boys-jv-indiana-deaf-school/
LOCATION:Dugger Union Community School
END:VEVENT
BEGIN:VEVENT
DTSTART;TZID=America/Indiana/Indianapolis:20250103T193000
DTEND;TZID=America/Indiana/Indianapolis:20250103T213000
DTSTAMP:20260421T062048
CREATED:20240106T041317Z
LAST-MODIFIED:20240308T235923Z
UID:78033-1735932600-1735939800@duggerunionschools.org
SUMMARY:Basketball (Boys V) @ Wood Memorial High School
DESCRIPTION:
URL:https://duggerunionschools.org/administration/event/basketball-boys-v-wood-memorial-high-school-2/
LOCATION:Wood Memorial High School
END:VEVENT
BEGIN:VEVENT
DTSTART;TZID=America/Indiana/Indianapolis:20250103T193000
DTEND;TZID=America/Indiana/Indianapolis:20250103T213000
DTSTAMP:20260421T062048
CREATED:20240524T154350Z
LAST-MODIFIED:20241009T232909Z
UID:102001-1735932600-1735939800@duggerunionschools.org
SUMMARY:Basketball (Boys V) @ Wood Memorial High School
DESCRIPTION:
URL:https://duggerunionschools.org/administration/event/basketball-boys-v-wood-memorial-high-school-3/
LOCATION:Wood Memorial High School
END:VEVENT
BEGIN:VEVENT
DTSTART;TZID=America/Indiana/Indianapolis:20250103T193000
DTEND;TZID=America/Indiana/Indianapolis:20250103T213000
DTSTAMP:20260421T062048
CREATED:20241116T084321Z
LAST-MODIFIED:20250104T014548Z
UID:127332-1735932600-1735939800@duggerunionschools.org
SUMMARY:Basketball (Boys V) - Indiana Deaf School
DESCRIPTION:
URL:https://duggerunionschools.org/administration/event/basketball-boys-v-indiana-deaf-school-2/
LOCATION:Dugger Union Community School
END:VEVENT
BEGIN:VEVENT
DTSTART;TZID=America/Indiana/Indianapolis:20250104T150000
DTEND;TZID=America/Indiana/Indianapolis:20250104T170000
DTSTAMP:20260421T062048
CREATED:20240103T135835Z
LAST-MODIFIED:20250104T214551Z
UID:77307-1736002800-1736010000@duggerunionschools.org
SUMMARY:Basketball (Girls V) - Washington Catholic High School
DESCRIPTION:
URL:https://duggerunionschools.org/administration/event/basketball-girls-v-washington-catholic-high-school-3/
LOCATION:Dugger Union Community School
END:VEVENT
BEGIN:VEVENT
DTSTART;TZID=America/Indiana/Indianapolis:20250104T163000
DTEND;TZID=America/Indiana/Indianapolis:20250104T183000
DTSTAMP:20260421T062048
CREATED:20240103T135835Z
LAST-MODIFIED:20250104T225805Z
UID:77306-1736008200-1736015400@duggerunionschools.org
SUMMARY:Basketball (Boys V) - Washington Catholic High School
DESCRIPTION:
URL:https://duggerunionschools.org/administration/event/basketball-boys-v-washington-catholic-high-school-3/
LOCATION:Dugger Union Community School
END:VEVENT
BEGIN:VEVENT
DTSTART;VALUE=DATE:20250106
DTEND;VALUE=DATE:20250107
DTSTAMP:20260421T062048
CREATED:20240606T201228Z
LAST-MODIFIED:20250106T231219Z
UID:103744-1736121600-1736207999@duggerunionschools.org
SUMMARY:School Resumes - First Student Day of 2nd Semester
DESCRIPTION:
URL:https://duggerunionschools.org/administration/event/school-resumes-first-student-day-of-2nd-semester-2/
END:VEVENT
BEGIN:VEVENT
DTSTART;TZID=America/Indiana/Indianapolis:20250109T180000
DTEND;TZID=America/Indiana/Indianapolis:20250109T200000
DTSTAMP:20260421T062048
CREATED:20240112T035823Z
LAST-MODIFIED:20250110T004237Z
UID:79744-1736445600-1736452800@duggerunionschools.org
SUMMARY:Basketball (Boys 5 & 6) - Hymera Elementary School
DESCRIPTION:
URL:https://duggerunionschools.org/administration/event/basketball-boys-5-6-hymera-elementary-school-2/
LOCATION:Dugger Union Community School
END:VEVENT
BEGIN:VEVENT
DTSTART;TZID=America/Indiana/Indianapolis:20250109T180000
DTEND;TZID=America/Indiana/Indianapolis:20250109T200000
DTSTAMP:20260421T062048
CREATED:20240117T071430Z
LAST-MODIFIED:20250110T004240Z
UID:81227-1736445600-1736452800@duggerunionschools.org
SUMMARY:Basketball (Boys 7 & 8) @ Clay City
DESCRIPTION:
URL:https://duggerunionschools.org/administration/event/basketball-boys-7-8-clay-city-2/
LOCATION:Clay City Jr/Sr. High School
END:VEVENT
BEGIN:VEVENT
DTSTART;VALUE=DATE:20250110
DTEND;VALUE=DATE:20250112
DTSTAMP:20260421T062049
CREATED:20240912T181225Z
LAST-MODIFIED:20250111T235742Z
UID:116545-1736467200-1736639999@duggerunionschools.org
SUMMARY:POSTPONED - Archery Tournament
DESCRIPTION:
URL:https://duggerunionschools.org/administration/event/archery-tournament-all-day/
END:VEVENT
BEGIN:VEVENT
DTSTART;VALUE=DATE:20250111
DTEND;VALUE=DATE:20250112
DTSTAMP:20260421T062049
CREATED:20240912T181225Z
LAST-MODIFIED:20250111T131230Z
UID:116546-1736553600-1736639999@duggerunionschools.org
SUMMARY:Archery tournament all day
DESCRIPTION:
URL:https://duggerunionschools.org/administration/event/archery-tournament-all-day-2/
END:VEVENT
BEGIN:VEVENT
DTSTART;TZID=America/Indiana/Indianapolis:20250113T180000
DTEND;TZID=America/Indiana/Indianapolis:20250113T200000
DTSTAMP:20260421T062049
CREATED:20240115T131315Z
LAST-MODIFIED:20250114T001636Z
UID:80692-1736791200-1736798400@duggerunionschools.org
SUMMARY:Basketball (Boys 5 & 6) - St Patricks Middle School
DESCRIPTION:
URL:https://duggerunionschools.org/administration/event/basketball-boys-5-6-st-patricks-middle-school-3/
LOCATION:Dugger Union Community School
END:VEVENT
BEGIN:VEVENT
DTSTART;TZID=America/Indiana/Indianapolis:20250113T190000
DTEND;TZID=America/Indiana/Indianapolis:20250113T210000
DTSTAMP:20260421T062049
CREATED:20240115T131315Z
LAST-MODIFIED:20250114T012737Z
UID:80691-1736794800-1736802000@duggerunionschools.org
SUMMARY:Basketball (Boys 7 & 8) - St Patricks Middle School
DESCRIPTION:
URL:https://duggerunionschools.org/administration/event/basketball-boys-7-8-st-patricks-middle-school-2/
LOCATION:Dugger Union Community School
END:VEVENT
BEGIN:VEVENT
DTSTART;TZID=America/Indiana/Indianapolis:20250114T180000
DTEND;TZID=America/Indiana/Indianapolis:20250114T200000
DTSTAMP:20260421T062049
CREATED:20240116T091324Z
LAST-MODIFIED:20240724T192920Z
UID:80939-1736877600-1736884800@duggerunionschools.org
SUMMARY:Basketball (Boys JV) - Clay City Jr/Sr. High School
DESCRIPTION:
URL:https://duggerunionschools.org/administration/event/basketball-boys-jv-clay-city-jr-sr-high-school-2/
END:VEVENT
BEGIN:VEVENT
DTSTART;TZID=America/Indiana/Indianapolis:20250114T180000
DTEND;TZID=America/Indiana/Indianapolis:20250114T200000
DTSTAMP:20260421T062049
CREATED:20240217T021323Z
LAST-MODIFIED:20250113T153103Z
UID:87564-1736877600-1736884800@duggerunionschools.org
SUMMARY:Basketball (Boys JV) - Clay City Jr/Sr. High School
DESCRIPTION:
URL:https://duggerunionschools.org/administration/event/basketball-boys-jv-2/
END:VEVENT
BEGIN:VEVENT
DTSTART;TZID=America/Indiana/Indianapolis:20250114T180000
DTEND;TZID=America/Indiana/Indianapolis:20250114T200000
DTSTAMP:20260421T062049
CREATED:20241121T064327Z
LAST-MODIFIED:20250115T005752Z
UID:127817-1736877600-1736884800@duggerunionschools.org
SUMMARY:Basketball (Boys 7 & 8) @ Vincennes Clark Middle School
DESCRIPTION:
URL:https://duggerunionschools.org/administration/event/basketball-boys-7-8-vincennes-clark-middle-school/
LOCATION:Vincennes Clark Middle School
END:VEVENT
BEGIN:VEVENT
DTSTART;TZID=America/Indiana/Indianapolis:20250114T180000
DTEND;TZID=America/Indiana/Indianapolis:20250114T200000
DTSTAMP:20260421T062049
CREATED:20250113T164252Z
LAST-MODIFIED:20250115T005749Z
UID:134335-1736877600-1736884800@duggerunionschools.org
SUMMARY:Basketball (Boys JV) - Eminence High School
DESCRIPTION:
URL:https://duggerunionschools.org/administration/event/basketball-boys-jv-eminence-high-school-2/
LOCATION:Dugger Union Community School
END:VEVENT
BEGIN:VEVENT
DTSTART;TZID=America/Indiana/Indianapolis:20250114T193000
DTEND;TZID=America/Indiana/Indianapolis:20250114T213000
DTSTAMP:20260421T062049
CREATED:20240116T091324Z
LAST-MODIFIED:20240524T142841Z
UID:80940-1736883000-1736890200@duggerunionschools.org
SUMMARY:Basketball (Boys V) - Clay City Jr/Sr. High School
DESCRIPTION:
URL:https://duggerunionschools.org/administration/event/basketball-boys-v-clay-city-jr-sr-high-school-3/
LOCATION:Dugger Union Community School
END:VEVENT
BEGIN:VEVENT
DTSTART;TZID=America/Indiana/Indianapolis:20250114T193000
DTEND;TZID=America/Indiana/Indianapolis:20250114T213000
DTSTAMP:20260421T062049
CREATED:20240217T021323Z
LAST-MODIFIED:20250115T021630Z
UID:87565-1736883000-1736890200@duggerunionschools.org
SUMMARY:Basketball (Boys V) - Eminence High School
DESCRIPTION:
URL:https://duggerunionschools.org/administration/event/basketball-boys-v-eminence-high-school-2/
LOCATION:Dugger Union
END:VEVENT
BEGIN:VEVENT
DTSTART;TZID=America/Indiana/Indianapolis:20250115T160000
DTEND;TZID=America/Indiana/Indianapolis:20250115T173000
DTSTAMP:20260421T062049
CREATED:20241113T225732Z
LAST-MODIFIED:20250115T222740Z
UID:127100-1736956800-1736962200@duggerunionschools.org
SUMMARY:Executive Board Meeting
DESCRIPTION:Join with Google Meet: https://meet.google.com/xwu-adid-wxe\nOr dial: (US) +1 919-590-3200 PIN: 217632269#\nLearn more about Meet at: https://support.google.com/a/users/answer/9282720
URL:https://duggerunionschools.org/administration/event/executive-board-meeting-6/
END:VEVENT
BEGIN:VEVENT
DTSTART;TZID=America/Indiana/Indianapolis:20250115T180000
DTEND;TZID=America/Indiana/Indianapolis:20250115T200000
DTSTAMP:20260421T062049
CREATED:20231211T065821Z
LAST-MODIFIED:20250116T001527Z
UID:70441-1736964000-1736971200@duggerunionschools.org
SUMMARY:Basketball (Boys 7 & 8) - Carlisle Elementary/Jr. High
DESCRIPTION:
URL:https://duggerunionschools.org/administration/event/basketball-boys-7-8-carlisle-elementary-jr-high-4/
LOCATION:Dugger Union Community School
END:VEVENT
BEGIN:VEVENT
DTSTART;TZID=America/Indiana/Indianapolis:20250116T180000
DTEND;TZID=America/Indiana/Indianapolis:20250116T181500
DTSTAMP:20260421T062049
CREATED:20241106T161239Z
LAST-MODIFIED:20250116T224240Z
UID:126188-1737050400-1737051300@duggerunionschools.org
SUMMARY:HS Girls BB - Senior Night
DESCRIPTION:
URL:https://duggerunionschools.org/administration/event/hs-girls-bb-senior-night-3/
END:VEVENT
BEGIN:VEVENT
DTSTART;TZID=America/Indiana/Indianapolis:20250116T180000
DTEND;TZID=America/Indiana/Indianapolis:20250116T200000
DTSTAMP:20260421T062049
CREATED:20240118T231341Z
LAST-MODIFIED:20250117T003056Z
UID:81745-1737050400-1737057600@duggerunionschools.org
SUMMARY:Basketball (Boys 5 & 6) @ Clay City Elementary School
DESCRIPTION:
URL:https://duggerunionschools.org/administration/event/basketball-boys-5-6-clay-city-elementary-school-2/
LOCATION:Clay City Elementary School
END:VEVENT
BEGIN:VEVENT
DTSTART;TZID=America/Indiana/Indianapolis:20250116T183000
DTEND;TZID=America/Indiana/Indianapolis:20250116T203000
DTSTAMP:20260421T062049
CREATED:20240307T054340Z
LAST-MODIFIED:20250117T003059Z
UID:92163-1737052200-1737059400@duggerunionschools.org
SUMMARY:Basketball (Girls V) - RED HILL HIGH SCHOOL
DESCRIPTION:
URL:https://duggerunionschools.org/administration/event/basketball-girls-v-red-hill-high-school-4/
LOCATION:Dugger Union Community School
END:VEVENT
BEGIN:VEVENT
DTSTART;TZID=America/Indiana/Indianapolis:20250117T183000
DTEND;TZID=America/Indiana/Indianapolis:20250117T203000
DTSTAMP:20260421T062049
CREATED:20240119T195839Z
LAST-MODIFIED:20250118T011237Z
UID:81998-1737138600-1737145800@duggerunionschools.org
SUMMARY:CANCELED - Basketball (Girls 7 & 8) - Springville Community Academy
DESCRIPTION:Start Time: 6:30 PM\nEnd Time: 8:30 PM\nSport: Basketball\nGender: Girls\nLevel: 7th Grade\nLocation: Dugger Union Community School\nOpponent(s): Springville Community Academy
URL:https://duggerunionschools.org/administration/event/basketball-girls-7-8-springville-community-academy-2/
LOCATION:Dugger Union Community School
END:VEVENT
BEGIN:VEVENT
DTSTART;TZID=America/Indiana/Indianapolis:20250117T190000
DTEND;TZID=America/Indiana/Indianapolis:20250117T210000
DTSTAMP:20260421T062049
CREATED:20240119T195838Z
LAST-MODIFIED:20250118T011237Z
UID:81997-1737140400-1737147600@duggerunionschools.org
SUMMARY:Basketball (Boys 7 & 8) @ Springville Community Academy
DESCRIPTION:Start Time: 7:00 PM\nEnd Time: 9:00 PM\nSport: Basketball\nGender: Boys\nLevel: 7th Grade\nLocation: Springville Community Academy\nOpponent(s): Springville Community Academy
URL:https://duggerunionschools.org/administration/event/basketball-boys-7-8-springville-community-academy-2/
LOCATION:Springville Community Academy
END:VEVENT
BEGIN:VEVENT
DTSTART;TZID=America/Indiana/Indianapolis:20250118T140000
DTEND;TZID=America/Indiana/Indianapolis:20250118T160000
DTSTAMP:20260421T062049
CREATED:20240307T054333Z
LAST-MODIFIED:20250118T210052Z
UID:92159-1737208800-1737216000@duggerunionschools.org
SUMMARY:Basketball (Girls V) - Seven Oaks Classical School
DESCRIPTION:Start Time: 2:00 PM\nEnd Time: 4:00 PM\nSport: Basketball\nGender: Girls\nLevel: Varsity\nLocation: Dugger Union Community School\nOpponent(s): Seven Oaks Classical School
URL:https://duggerunionschools.org/administration/event/basketball-girls-v-seven-oaks-classical-school-3/
LOCATION:Dugger Union Community School
END:VEVENT
END:VCALENDAR