BEGIN:VCALENDAR
VERSION:2.0
PRODID:-//Administration - ECPv6.15.15//NONSGML v1.0//EN
CALSCALE:GREGORIAN
METHOD:PUBLISH
X-ORIGINAL-URL:https://duggerunionschools.org/administration
X-WR-CALDESC:Events for Administration
REFRESH-INTERVAL;VALUE=DURATION:PT1H
X-Robots-Tag:noindex
X-PUBLISHED-TTL:PT1H
BEGIN:VTIMEZONE
TZID:America/Indiana/Indianapolis
BEGIN:DAYLIGHT
TZOFFSETFROM:-0500
TZOFFSETTO:-0400
TZNAME:EDT
DTSTART:20220313T070000
END:DAYLIGHT
BEGIN:STANDARD
TZOFFSETFROM:-0400
TZOFFSETTO:-0500
TZNAME:EST
DTSTART:20221106T060000
END:STANDARD
BEGIN:DAYLIGHT
TZOFFSETFROM:-0500
TZOFFSETTO:-0400
TZNAME:EDT
DTSTART:20230312T070000
END:DAYLIGHT
BEGIN:STANDARD
TZOFFSETFROM:-0400
TZOFFSETTO:-0500
TZNAME:EST
DTSTART:20231105T060000
END:STANDARD
BEGIN:DAYLIGHT
TZOFFSETFROM:-0500
TZOFFSETTO:-0400
TZNAME:EDT
DTSTART:20240310T070000
END:DAYLIGHT
BEGIN:STANDARD
TZOFFSETFROM:-0400
TZOFFSETTO:-0500
TZNAME:EST
DTSTART:20241103T060000
END:STANDARD
END:VTIMEZONE
BEGIN:VEVENT
DTSTART;TZID=America/Indiana/Indianapolis:20231205T183000
DTEND;TZID=America/Indiana/Indianapolis:20231205T203000
DTSTAMP:20260421T092730
CREATED:20231202T011305Z
LAST-MODIFIED:20231206T011310Z
UID:66440-1701801000-1701808200@duggerunionschools.org
SUMMARY:Basketball (Boys JV) @ RED HILL HIGH SCHOOL
DESCRIPTION:
URL:https://duggerunionschools.org/administration/event/basketball-boys-jv-red-hill-high-school/
LOCATION:RED HILL HIGH SCHOOL
END:VEVENT
BEGIN:VEVENT
DTSTART;TZID=America/Indiana/Indianapolis:20231205T193000
DTEND;TZID=America/Indiana/Indianapolis:20231205T213000
DTSTAMP:20260421T092730
CREATED:20230927T012737Z
LAST-MODIFIED:20231206T021342Z
UID:55658-1701804600-1701811800@duggerunionschools.org
SUMMARY:Basketball (Boys V) @ RED HILL HIGH SCHOOL
DESCRIPTION:
URL:https://duggerunionschools.org/administration/event/basketball-boys-v-red-hill-high-school/
LOCATION:RED HILL HIGH SCHOOL
END:VEVENT
BEGIN:VEVENT
DTSTART;TZID=America/Indiana/Indianapolis:20231207T083000
DTEND;TZID=America/Indiana/Indianapolis:20231207T143000
DTSTAMP:20260421T092730
CREATED:20231101T184220Z
LAST-MODIFIED:20231207T185720Z
UID:57432-1701937800-1701959400@duggerunionschools.org
SUMMARY:Life Skills - Vincennes field trip
DESCRIPTION:
URL:https://duggerunionschools.org/administration/event/life-skills-vincennes-field-trip/
END:VEVENT
BEGIN:VEVENT
DTSTART;TZID=America/Indiana/Indianapolis:20231207T180000
DTEND;TZID=America/Indiana/Indianapolis:20231207T200000
DTSTAMP:20260421T092730
CREATED:20230928T004611Z
LAST-MODIFIED:20231208T002759Z
UID:55706-1701972000-1701979200@duggerunionschools.org
SUMMARY:Basketball (Boys 5 & 6) @ Linton-Stockton Elementary School
DESCRIPTION:
URL:https://duggerunionschools.org/administration/event/basketball-boys-5-6-linton-stockton-elementary-school/
LOCATION:Linton-Stockton Elementary School
END:VEVENT
BEGIN:VEVENT
DTSTART;TZID=America/Indiana/Indianapolis:20231207T183000
DTEND;TZID=America/Indiana/Indianapolis:20231207T203000
DTSTAMP:20260421T092730
CREATED:20230928T004611Z
LAST-MODIFIED:20231208T002759Z
UID:55704-1701973800-1701981000@duggerunionschools.org
SUMMARY:Basketball (Girls 5 & 6) @ Springville Community Academy
DESCRIPTION:
URL:https://duggerunionschools.org/administration/event/basketball-girls-5-6-springville-community-academy-2/
LOCATION:Springville Community Academy
END:VEVENT
BEGIN:VEVENT
DTSTART;TZID=America/Indiana/Indianapolis:20231208T080000
DTEND;TZID=America/Indiana/Indianapolis:20231208T170000
DTSTAMP:20260421T092730
CREATED:20230126T182034Z
LAST-MODIFIED:20231208T214439Z
UID:26101-1702022400-1702054800@duggerunionschools.org
SUMMARY:Musical Theater/Advanced Choir
DESCRIPTION:
URL:https://duggerunionschools.org/administration/event/musical-theater-advanced-choir/
LOCATION:Beef & Boards Dinner Theatre\, 9301 Michigan Rd\, Indianapolis\, IN\, United States
END:VEVENT
BEGIN:VEVENT
DTSTART;TZID=America/Indiana/Indianapolis:20231208T081500
DTEND;TZID=America/Indiana/Indianapolis:20231208T143000
DTSTAMP:20260421T092730
CREATED:20231120T162723Z
LAST-MODIFIED:20231208T192740Z
UID:63021-1702023300-1702045800@duggerunionschools.org
SUMMARY:Computer Science
DESCRIPTION:
URL:https://duggerunionschools.org/administration/event/computer-science/
LOCATION:Vincennes University\, 1002 N 1st St\, Vincennes\, IN\, United States
END:VEVENT
BEGIN:VEVENT
DTSTART;TZID=America/Indiana/Indianapolis:20231208T180000
DTEND;TZID=America/Indiana/Indianapolis:20231208T200000
DTSTAMP:20260421T092731
CREATED:20230929T002745Z
LAST-MODIFIED:20231209T002801Z
UID:55759-1702058400-1702065600@duggerunionschools.org
SUMMARY:Basketball (Girls 7 & 8) @ Seven Oaks
DESCRIPTION:
URL:https://duggerunionschools.org/administration/event/basketball-girls-7-8-seven-oaks/
LOCATION:Seven Oaks
END:VEVENT
BEGIN:VEVENT
DTSTART;TZID=America/Indiana/Indianapolis:20231208T190000
DTEND;TZID=America/Indiana/Indianapolis:20231208T210000
DTSTAMP:20260421T092731
CREATED:20230930T005907Z
LAST-MODIFIED:20231209T012839Z
UID:55811-1702062000-1702069200@duggerunionschools.org
SUMMARY:Basketball (Boys 7 & 8) @ Seven Oaks Classical School
DESCRIPTION:
URL:https://duggerunionschools.org/administration/event/basketball-boys-7-8-seven-oaks-classical-school-2/
LOCATION:Seven Oaks
END:VEVENT
BEGIN:VEVENT
DTSTART;VALUE=DATE:20231208
DTEND;VALUE=DATE:20231210
DTSTAMP:20260421T092731
CREATED:20230930T005907Z
LAST-MODIFIED:20231201T005850Z
UID:55810-1702062000-1702148399@duggerunionschools.org
SUMMARY:Basketball (Boys 7 & 8) @ Owen Valley Middle School (8th Grade Patriot Invite)
DESCRIPTION:
URL:https://duggerunionschools.org/administration/event/basketball-boys-7-8-owen-valley-middle-school-8th-grade-patriot-invite/
LOCATION:Owen Valley Middle School
END:VEVENT
BEGIN:VEVENT
DTSTART;TZID=America/Indiana/Indianapolis:20231209T090000
DTEND;TZID=America/Indiana/Indianapolis:20231209T110000
DTSTAMP:20260421T092731
CREATED:20230929T002745Z
LAST-MODIFIED:20231209T152821Z
UID:55758-1702112400-1702119600@duggerunionschools.org
SUMMARY:Basketball (Boys 7 & 8) @ Owen Valley Middle School (7th Grade Patriot Invite)
DESCRIPTION:
URL:https://duggerunionschools.org/administration/event/basketball-boys-7-8-owen-valley-middle-school-7th-grade-patriot-invite/
LOCATION:Owen Valley Middle School
END:VEVENT
BEGIN:VEVENT
DTSTART;TZID=America/Indiana/Indianapolis:20231209T140000
DTEND;TZID=America/Indiana/Indianapolis:20231209T160000
DTSTAMP:20260421T092731
CREATED:20230930T215841Z
LAST-MODIFIED:20231209T205810Z
UID:55851-1702130400-1702137600@duggerunionschools.org
SUMMARY:Basketball (Girls V) - North Vermillion
DESCRIPTION:
URL:https://duggerunionschools.org/administration/event/basketball-girls-v-north-vermillion/
LOCATION:Dugger Union Community School
END:VEVENT
BEGIN:VEVENT
DTSTART;TZID=America/Indiana/Indianapolis:20231209T153000
DTEND;TZID=America/Indiana/Indianapolis:20231209T173000
DTSTAMP:20260421T092731
CREATED:20231001T001235Z
LAST-MODIFIED:20231209T221239Z
UID:55858-1702135800-1702143000@duggerunionschools.org
SUMMARY:Basketball (Boys V) - North Vermillion High School
DESCRIPTION:
URL:https://duggerunionschools.org/administration/event/basketball-boys-v-north-vermillion-high-school/
LOCATION:Dugger Union Community School
END:VEVENT
BEGIN:VEVENT
DTSTART;TZID=America/Indiana/Indianapolis:20231211T090000
DTEND;TZID=America/Indiana/Indianapolis:20231211T123000
DTSTAMP:20260421T092731
CREATED:20231113T125737Z
LAST-MODIFIED:20231211T172716Z
UID:60863-1702285200-1702297800@duggerunionschools.org
SUMMARY:Field trip 1st grade Eagle Theater
DESCRIPTION:
URL:https://duggerunionschools.org/administration/event/field-trip-1st-grade-eagle-theater/
LOCATION:Eagle Theater\, 1803 W Main St\, Robinson\, IL\, United States
END:VEVENT
BEGIN:VEVENT
DTSTART;TZID=America/Indiana/Indianapolis:20231211T130000
DTEND;TZID=America/Indiana/Indianapolis:20231211T140000
DTSTAMP:20260421T092731
CREATED:20231101T132826Z
LAST-MODIFIED:20231211T184241Z
UID:57399-1702299600-1702303200@duggerunionschools.org
SUMMARY:7-8 NWEA incentive celebration
DESCRIPTION:
URL:https://duggerunionschools.org/administration/event/7-8-nwea-incentive-celebration/
LOCATION:New gym
END:VEVENT
BEGIN:VEVENT
DTSTART;TZID=America/Indiana/Indianapolis:20231211T183000
DTEND;TZID=America/Indiana/Indianapolis:20231211T203000
DTSTAMP:20260421T092731
CREATED:20231003T022750Z
LAST-MODIFIED:20231212T002716Z
UID:55960-1702319400-1702326600@duggerunionschools.org
SUMMARY:Basketball (Boys 7 & 8) @ RED HILL HIGH SCHOOL
DESCRIPTION:
URL:https://duggerunionschools.org/administration/event/basketball-boys-7-8-red-hill-high-school/
LOCATION:RED HILL HIGH SCHOOL
END:VEVENT
BEGIN:VEVENT
DTSTART;VALUE=DATE:20231212
DTEND;VALUE=DATE:20231213
DTSTAMP:20260421T092731
CREATED:20231103T181229Z
LAST-MODIFIED:20231212T234255Z
UID:58113-1702339200-1702425599@duggerunionschools.org
SUMMARY:JH/HS Christmas program rehearsal
DESCRIPTION:
URL:https://duggerunionschools.org/administration/event/jh-hs-christmas-program-rehearsal-afternoon/
END:VEVENT
BEGIN:VEVENT
DTSTART;TZID=America/Indiana/Indianapolis:20231212T150000
DTEND;TZID=America/Indiana/Indianapolis:20231212T170000
DTSTAMP:20260421T092731
CREATED:20230907T151529Z
LAST-MODIFIED:20231212T215730Z
UID:54115-1702393200-1702400400@duggerunionschools.org
SUMMARY:Junior Dance Camp practice
DESCRIPTION:
URL:https://duggerunionschools.org/administration/event/junior-dance-camp-practice/
END:VEVENT
BEGIN:VEVENT
DTSTART;TZID=America/Indiana/Indianapolis:20231212T180000
DTEND;TZID=America/Indiana/Indianapolis:20231212T200000
DTSTAMP:20260421T092731
CREATED:20231003T232903Z
LAST-MODIFIED:20231213T002813Z
UID:56007-1702404000-1702411200@duggerunionschools.org
SUMMARY:Basketball (Girls 7 & 8) - Linton-Stockton Jr Sr High School
DESCRIPTION:
URL:https://duggerunionschools.org/administration/event/basketball-girls-7-8-linton-stockton-jr-sr-high-school/
LOCATION:Dugger Union Community School
END:VEVENT
BEGIN:VEVENT
DTSTART;TZID=America/Indiana/Indianapolis:20231212T180000
DTEND;TZID=America/Indiana/Indianapolis:20231212T200000
DTSTAMP:20260421T092731
CREATED:20231004T004308Z
LAST-MODIFIED:20231213T002814Z
UID:56012-1702404000-1702411200@duggerunionschools.org
SUMMARY:Basketball (Girls V) @ Seven Oaks Classical School
DESCRIPTION:
URL:https://duggerunionschools.org/administration/event/basketball-girls-v-seven-oaks-classical-school-2/
LOCATION:Seven Oaks Classical School
END:VEVENT
BEGIN:VEVENT
DTSTART;TZID=America/Indiana/Indianapolis:20231212T193000
DTEND;TZID=America/Indiana/Indianapolis:20231212T213000
DTSTAMP:20260421T092732
CREATED:20231004T004308Z
LAST-MODIFIED:20231213T014245Z
UID:56011-1702409400-1702416600@duggerunionschools.org
SUMMARY:Basketball (Boys V) @ Seven Oaks Classical School
DESCRIPTION:
URL:https://duggerunionschools.org/administration/event/basketball-boys-v-seven-oaks-classical-school-2/
LOCATION:Seven Oaks Classical School
END:VEVENT
BEGIN:VEVENT
DTSTART;VALUE=DATE:20231213
DTEND;VALUE=DATE:20231214
DTSTAMP:20260421T092732
CREATED:20231012T181247Z
LAST-MODIFIED:20231213T234243Z
UID:56444-1702425600-1702511999@duggerunionschools.org
SUMMARY:JH/HS Final Exams - Period 5
DESCRIPTION:
URL:https://duggerunionschools.org/administration/event/jh-hs-final-exams-period-5/
END:VEVENT
BEGIN:VEVENT
DTSTART;TZID=America/Indiana/Indianapolis:20231213T090000
DTEND;TZID=America/Indiana/Indianapolis:20231213T100000
DTSTAMP:20260421T092732
CREATED:20230807T184222Z
LAST-MODIFIED:20231213T145746Z
UID:49548-1702458000-1702461600@duggerunionschools.org
SUMMARY:K-12 Christmas program
DESCRIPTION:
URL:https://duggerunionschools.org/administration/event/k-12-christmas-program-4/
END:VEVENT
BEGIN:VEVENT
DTSTART;TZID=America/Indiana/Indianapolis:20231213T180000
DTEND;TZID=America/Indiana/Indianapolis:20231213T190000
DTSTAMP:20260421T092732
CREATED:20230807T184222Z
LAST-MODIFIED:20231213T234244Z
UID:49549-1702490400-1702494000@duggerunionschools.org
SUMMARY:K-12 Christmas program
DESCRIPTION:
URL:https://duggerunionschools.org/administration/event/k-12-christmas-program-5/
END:VEVENT
BEGIN:VEVENT
DTSTART;VALUE=DATE:20231214
DTEND;VALUE=DATE:20231215
DTSTAMP:20260421T092732
CREATED:20231012T181247Z
LAST-MODIFIED:20231214T235805Z
UID:56443-1702512000-1702598399@duggerunionschools.org
SUMMARY:JH/HS Final Exams - Periods 6-9
DESCRIPTION:
URL:https://duggerunionschools.org/administration/event/jh-hs-final-exams-periods-6-9/
END:VEVENT
BEGIN:VEVENT
DTSTART;TZID=America/Indiana/Indianapolis:20231214T150000
DTEND;TZID=America/Indiana/Indianapolis:20231214T170000
DTSTAMP:20260421T092732
CREATED:20230907T151530Z
LAST-MODIFIED:20231214T215743Z
UID:54116-1702566000-1702573200@duggerunionschools.org
SUMMARY:Junior Dance Camp practice
DESCRIPTION:
URL:https://duggerunionschools.org/administration/event/junior-dance-camp-practice-2/
END:VEVENT
BEGIN:VEVENT
DTSTART;TZID=America/Indiana/Indianapolis:20231214T180000
DTEND;TZID=America/Indiana/Indianapolis:20231214T200000
DTSTAMP:20260421T092732
CREATED:20231005T024240Z
LAST-MODIFIED:20231215T001329Z
UID:56072-1702576800-1702584000@duggerunionschools.org
SUMMARY:Basketball (Girls 5 & 6) @ Washington Catholic Middle and High School
DESCRIPTION:
URL:https://duggerunionschools.org/administration/event/basketball-girls-5-6-washington-catholic-middle-and-high-school/
LOCATION:Washington Catholic Middle and High School
END:VEVENT
BEGIN:VEVENT
DTSTART;TZID=America/Indiana/Indianapolis:20231214T183000
DTEND;TZID=America/Indiana/Indianapolis:20231214T203000
DTSTAMP:20260421T092732
CREATED:20231005T014242Z
LAST-MODIFIED:20231215T011327Z
UID:56065-1702578600-1702585800@duggerunionschools.org
SUMMARY:CANCELED - Basketball (Boys 5 & 6) @ Springville Community Academy
DESCRIPTION:
URL:https://duggerunionschools.org/administration/event/basketball-boys-5-6-springville-community-academy/
LOCATION:Springville Community Academy
END:VEVENT
BEGIN:VEVENT
DTSTART;TZID=America/Indiana/Indianapolis:20231214T190000
DTEND;TZID=America/Indiana/Indianapolis:20231214T210000
DTSTAMP:20260421T092732
CREATED:20231005T002819Z
LAST-MODIFIED:20231215T011327Z
UID:56061-1702580400-1702587600@duggerunionschools.org
SUMMARY:Basketball (Girls 7 & 8) @ Washington Catholic Middle and High School
DESCRIPTION:
URL:https://duggerunionschools.org/administration/event/basketball-girls-7-8-washington-catholic-middle-and-high-school/
LOCATION:Washington Catholic Middle and High School
END:VEVENT
BEGIN:VEVENT
DTSTART;VALUE=DATE:20231215
DTEND;VALUE=DATE:20231216
DTSTAMP:20260421T092732
CREATED:20230730T232721Z
LAST-MODIFIED:20231215T234235Z
UID:48345-1702598400-1702684799@duggerunionschools.org
SUMMARY:Last Day of 1st Semester/2nd Nine Week Grading Period
DESCRIPTION:
URL:https://duggerunionschools.org/administration/event/last-day-of-1st-semester-2nd-nine-week-grading-period/
END:VEVENT
END:VCALENDAR