BEGIN:VCALENDAR
VERSION:2.0
PRODID:-//Administration - ECPv6.15.15//NONSGML v1.0//EN
CALSCALE:GREGORIAN
METHOD:PUBLISH
X-ORIGINAL-URL:https://duggerunionschools.org/administration
X-WR-CALDESC:Events for Administration
REFRESH-INTERVAL;VALUE=DURATION:PT1H
X-Robots-Tag:noindex
X-PUBLISHED-TTL:PT1H
BEGIN:VTIMEZONE
TZID:America/Indiana/Indianapolis
BEGIN:DAYLIGHT
TZOFFSETFROM:-0500
TZOFFSETTO:-0400
TZNAME:EDT
DTSTART:20260308T070000
END:DAYLIGHT
BEGIN:STANDARD
TZOFFSETFROM:-0400
TZOFFSETTO:-0500
TZNAME:EST
DTSTART:20261101T060000
END:STANDARD
BEGIN:DAYLIGHT
TZOFFSETFROM:-0500
TZOFFSETTO:-0400
TZNAME:EDT
DTSTART:20270314T070000
END:DAYLIGHT
BEGIN:STANDARD
TZOFFSETFROM:-0400
TZOFFSETTO:-0500
TZNAME:EST
DTSTART:20271107T060000
END:STANDARD
BEGIN:DAYLIGHT
TZOFFSETFROM:-0500
TZOFFSETTO:-0400
TZNAME:EDT
DTSTART:20280312T070000
END:DAYLIGHT
BEGIN:STANDARD
TZOFFSETFROM:-0400
TZOFFSETTO:-0500
TZNAME:EST
DTSTART:20281105T060000
END:STANDARD
END:VTIMEZONE
BEGIN:VEVENT
DTSTART;TZID=America/Indiana/Indianapolis:20270402T173000
DTEND;TZID=America/Indiana/Indianapolis:20270402T193000
DTSTAMP:20260419T205720
CREATED:20260403T013429Z
LAST-MODIFIED:20260420T000406Z
UID:182317-1806687000-1806694200@duggerunionschools.org
SUMMARY:Jr High softball - Mooresville Christian Academy
DESCRIPTION:Start Time: 5:30 PM\nEnd Time: 7:30 PM\nSport: Softball\nGender: Girls\nLevel: Junior High\nLocation: Dugger Union Community School
URL:https://duggerunionschools.org/administration/event/jr-high-softball-mooresville-christian-academy-2/
LOCATION:Dugger Union Community School
END:VEVENT
BEGIN:VEVENT
DTSTART;TZID=America/Indiana/Indianapolis:20270405T173000
DTEND;TZID=America/Indiana/Indianapolis:20270405T193000
DTSTAMP:20260419T205720
CREATED:20260406T023329Z
LAST-MODIFIED:20260420T000406Z
UID:182637-1806946200-1806953400@duggerunionschools.org
SUMMARY:Softball (Girls V) @ Cloverdale High School
DESCRIPTION:Start Time: 5:30 PM\nEnd Time: 7:30 PM\nSport: Softball\nGender: Girls\nLevel: Varsity\nLocation: Cloverdale High School\nOpponent(s): Cloverdale
URL:https://duggerunionschools.org/administration/event/softball-girls-v-cloverdale-high-school-2/
LOCATION:Cloverdale High School\, 205 Market St\, Cloverdale\, IN\, United States
END:VEVENT
BEGIN:VEVENT
DTSTART;TZID=America/Indiana/Indianapolis:20270406T173000
DTEND;TZID=America/Indiana/Indianapolis:20270406T193000
DTSTAMP:20260419T205720
CREATED:20260407T030339Z
LAST-MODIFIED:20260420T000412Z
UID:182746-1807032600-1807039800@duggerunionschools.org
SUMMARY:Softball (Girls V) @ RED HILL HIGH SCHOOL
DESCRIPTION:Start Time: 5:30 PM\nEnd Time: 7:30 PM\nSport: Softball\nGender: Girls\nLevel: Varsity\nLocation: RED HILL HIGH SCHOOL\nOpponent(s): RED HILL HIGH SCHOOL
URL:https://duggerunionschools.org/administration/event/softball-girls-v-red-hill-high-school-8/
LOCATION:RED HILL HIGH SCHOOL
END:VEVENT
BEGIN:VEVENT
DTSTART;TZID=America/Indiana/Indianapolis:20270406T173000
DTEND;TZID=America/Indiana/Indianapolis:20270406T193000
DTSTAMP:20260419T205721
CREATED:20260407T030340Z
LAST-MODIFIED:20260420T000418Z
UID:182747-1807032600-1807039800@duggerunionschools.org
SUMMARY:Baseball (Boys V) @ RED HILL HIGH SCHOOL
DESCRIPTION:Start Time: 5:30 PM\nEnd Time: 7:30 PM\nSport: Baseball\nGender: Boys\nLevel: Varsity\nLocation: RED HILL HIGH SCHOOL\nOpponent(s): RED HILL HIGH SCHOOL
URL:https://duggerunionschools.org/administration/event/baseball-boys-v-red-hill-high-school-5/
LOCATION:RED HILL HIGH SCHOOL
END:VEVENT
BEGIN:VEVENT
DTSTART;TZID=America/Indiana/Indianapolis:20270407T180000
DTEND;TZID=America/Indiana/Indianapolis:20270407T200000
DTSTAMP:20260419T205721
CREATED:20260409T033449Z
LAST-MODIFIED:20260420T000419Z
UID:182954-1807120800-1807128000@duggerunionschools.org
SUMMARY:Baseball (Boys V) @ Evansville Christian School
DESCRIPTION:Start Time: 6:00 PM\nEnd Time: 8:00 PM\nSport: Baseball\nGender: Boys\nLevel: Varsity\nLocation: Evansville Christian School\nOpponent(s): Evansville Christian School
URL:https://duggerunionschools.org/administration/event/baseball-boys-v-evansville-christian-school-2/
LOCATION:Evansville Christian School
END:VEVENT
BEGIN:VEVENT
DTSTART;TZID=America/Indiana/Indianapolis:20270407T180000
DTEND;TZID=America/Indiana/Indianapolis:20270407T200000
DTSTAMP:20260419T205721
CREATED:20260409T033450Z
LAST-MODIFIED:20260420T000419Z
UID:182955-1807120800-1807128000@duggerunionschools.org
SUMMARY:Jr High softball @ Bloomfield Junior High School
DESCRIPTION:Start Time: 6:00 PM\nEnd Time: 8:00 PM\nSport: Softball\nGender: Girls\nLevel: Junior High\nLocation: Bloomfield Junior High School\nOpponent(s): Bloomfield Jr-Sr High School
URL:https://duggerunionschools.org/administration/event/jr-high-softball-bloomfield-junior-high-school-5/
LOCATION:Bloomfield Junior High School
END:VEVENT
BEGIN:VEVENT
DTSTART;TZID=America/Indiana/Indianapolis:20270408T180000
DTEND;TZID=America/Indiana/Indianapolis:20270408T200000
DTSTAMP:20260419T205721
CREATED:20260410T042033Z
LAST-MODIFIED:20260420T000420Z
UID:183058-1807207200-1807214400@duggerunionschools.org
SUMMARY:Jr High baseball @ Clay City Jr-Sr High School
DESCRIPTION:Start Time: 6:00 PM\nEnd Time: 8:00 PM\nSport: Baseball\nGender: Boys\nLevel: Junior High\nLocation: Clay City Jr-Sr High School\nOpponent(s): Clay City Jr-Sr High School
URL:https://duggerunionschools.org/administration/event/jr-high-baseball-clay-city-jr-sr-high-school-5/
LOCATION:Clay City Jr-Sr High School
END:VEVENT
BEGIN:VEVENT
DTSTART;TZID=America/Indiana/Indianapolis:20270409T173000
DTEND;TZID=America/Indiana/Indianapolis:20270409T193000
DTSTAMP:20260419T205721
CREATED:20260410T042033Z
LAST-MODIFIED:20260420T000421Z
UID:183059-1807291800-1807299000@duggerunionschools.org
SUMMARY:Softball (Girls V) @ Hutsonville High School
DESCRIPTION:Start Time: 5:30 PM\nEnd Time: 7:30 PM\nSport: Softball\nGender: Girls\nLevel: Varsity\nLocation: Hutsonville High School\nOpponent(s): Hutsonville High School
URL:https://duggerunionschools.org/administration/event/softball-girls-v-hutsonville-high-school-8/
LOCATION:Hutsonville High School
END:VEVENT
BEGIN:VEVENT
DTSTART;TZID=America/Indiana/Indianapolis:20270409T180000
DTEND;TZID=America/Indiana/Indianapolis:20270409T200000
DTSTAMP:20260419T205721
CREATED:20260411T050421Z
LAST-MODIFIED:20260420T000420Z
UID:183123-1807293600-1807300800@duggerunionschools.org
SUMMARY:Jr High softball - White River Valley High School
DESCRIPTION:Start Time: 6:00 PM\nEnd Time: 8:00 PM\nSport: Softball\nGender: Girls\nLevel: Junior High\nLocation: Dugger Union Community School\nOpponent(s): White River Valley High School
URL:https://duggerunionschools.org/administration/event/jr-high-softball-white-river-valley-high-school-5/
LOCATION:Dugger Union Community School
END:VEVENT
BEGIN:VEVENT
DTSTART;TZID=America/Indiana/Indianapolis:20270412T173000
DTEND;TZID=America/Indiana/Indianapolis:20270412T193000
DTSTAMP:20260419T205721
CREATED:20260413T123423Z
LAST-MODIFIED:20260420T000421Z
UID:183255-1807551000-1807558200@duggerunionschools.org
SUMMARY:Softball (Girls V) - Martinsville\, IL Hi School
DESCRIPTION:Start Time: 5:30 PM\nEnd Time: 7:30 PM\nSport: Softball\nGender: Girls\nLevel: Varsity\nLocation: Dugger Union Community School\nOpponent(s): Martinsville\, IL High School
URL:https://duggerunionschools.org/administration/event/softball-girls-v-martinsville-il-hi-school-6/
LOCATION:Dugger Union Community School
END:VEVENT
BEGIN:VEVENT
DTSTART;TZID=America/Indiana/Indianapolis:20270413T180000
DTEND;TZID=America/Indiana/Indianapolis:20270413T200000
DTSTAMP:20260419T205721
CREATED:20260416T194928Z
LAST-MODIFIED:20260420T000434Z
UID:183392-1807639200-1807646400@duggerunionschools.org
SUMMARY:Jr High baseball @ North Central HS-Farmersburg
DESCRIPTION:Start Time: 6:00 PM\nEnd Time: 8:00 PM\nSport: Baseball\nGender: Boys\nLevel: Junior High\nLocation: North Central Jr/Sr High School (Farmersburg)\nOpponent(s): North Central HS-Farmersburg
URL:https://duggerunionschools.org/administration/event/jr-high-baseball-north-central-hs-farmersburg-5/
LOCATION:North Central Jr/Sr High School (Farmersburg)
END:VEVENT
BEGIN:VEVENT
DTSTART;TZID=America/Indiana/Indianapolis:20270413T180000
DTEND;TZID=America/Indiana/Indianapolis:20270413T200000
DTSTAMP:20260419T205722
CREATED:20260416T194928Z
LAST-MODIFIED:20260420T000435Z
UID:183393-1807639200-1807646400@duggerunionschools.org
SUMMARY:Jr High softball - North Central HS-Farmersburg
DESCRIPTION:Start Time: 6:00 PM\nEnd Time: 8:00 PM\nSport: Softball\nGender: Girls\nLevel: Junior High\nLocation: Dugger Union Community School\nOpponent(s): North Central HS-Farmersburg
URL:https://duggerunionschools.org/administration/event/jr-high-softball-north-central-hs-farmersburg-7/
LOCATION:Dugger Union Community School
END:VEVENT
BEGIN:VEVENT
DTSTART;TZID=America/Indiana/Indianapolis:20270414T180000
DTEND;TZID=America/Indiana/Indianapolis:20270414T200000
DTSTAMP:20260419T205722
CREATED:20260416T194928Z
LAST-MODIFIED:20260420T000435Z
UID:183394-1807725600-1807732800@duggerunionschools.org
SUMMARY:Jr High softball @ Vincennes Clark Middle School
DESCRIPTION:Start Time: 6:00 PM\nEnd Time: 8:00 PM\nSport: Softball\nGender: Girls\nLevel: Junior High\nLocation: Vincennes Clark Middle School\nOpponent(s): Vincennes Clark Middle School
URL:https://duggerunionschools.org/administration/event/jr-high-softball-vincennes-clark-middle-school-3/
LOCATION:Vincennes Clark Middle School
END:VEVENT
BEGIN:VEVENT
DTSTART;TZID=America/Indiana/Indianapolis:20270414T180000
DTEND;TZID=America/Indiana/Indianapolis:20270414T200000
DTSTAMP:20260419T205722
CREATED:20260416T194929Z
LAST-MODIFIED:20260420T000435Z
UID:183395-1807725600-1807732800@duggerunionschools.org
SUMMARY:Jr High baseball - White River Valley High School
DESCRIPTION:Start Time: 6:00 PM\nEnd Time: 8:00 PM\nSport: Baseball\nGender: Boys\nLevel: Junior High\nLocation: Dugger Union Community School\nOpponent(s): White River Valley High School
URL:https://duggerunionschools.org/administration/event/jr-high-baseball-white-river-valley-high-school-5/
LOCATION:Dugger Union Community School
END:VEVENT
BEGIN:VEVENT
DTSTART;TZID=America/Indiana/Indianapolis:20270415T180000
DTEND;TZID=America/Indiana/Indianapolis:20270415T200000
DTSTAMP:20260419T205722
CREATED:20260417T081940Z
LAST-MODIFIED:20260420T000436Z
UID:183442-1807812000-1807819200@duggerunionschools.org
SUMMARY:CANCELED - Jr High softball - North Knox Jr-Sr High School
DESCRIPTION:Start Time: 6:00 PM\nEnd Time: 8:00 PM\nSport: Softball\nGender: Girls\nLevel: Junior High\nLocation: Dugger Union Community School\nOpponent(s): North Knox Jr-Sr High School
URL:https://duggerunionschools.org/administration/event/canceled-jr-high-softball-north-knox-jr-sr-high-school/
LOCATION:Dugger Union Community School
END:VEVENT
BEGIN:VEVENT
DTSTART;TZID=America/Indiana/Indianapolis:20270416T183000
DTEND;TZID=America/Indiana/Indianapolis:20270416T203000
DTSTAMP:20260419T205722
CREATED:20260418T090822Z
LAST-MODIFIED:20260420T000436Z
UID:183532-1807900200-1807907400@duggerunionschools.org
SUMMARY:Baseball (Boys V) @ Wood Memorial High School
DESCRIPTION:Start Time: 6:30 PM\nEnd Time: 8:30 PM\nSport: Baseball\nGender: Boys\nLevel: Varsity\nLocation: Wood Memorial High School\nOpponent(s): Wood Memorial High School
URL:https://duggerunionschools.org/administration/event/baseball-boys-v-wood-memorial-high-school-5/
LOCATION:Wood Memorial High School
END:VEVENT
BEGIN:VEVENT
DTSTART;TZID=America/Indiana/Indianapolis:20270417T100000
DTEND;TZID=America/Indiana/Indianapolis:20270417T120000
DTSTAMP:20260419T205722
CREATED:20260418T090823Z
LAST-MODIFIED:20260420T000442Z
UID:183533-1807956000-1807963200@duggerunionschools.org
SUMMARY:Jr High baseball - Eminence Jr-Sr High School
DESCRIPTION:Start Time: 10:00 AM\nEnd Time: 12:00 PM\nSport: Baseball\nGender: Boys\nLevel: Junior High\nLocation: Dugger Union Community School\nOpponent(s): Eminence High School
URL:https://duggerunionschools.org/administration/event/jr-high-baseball-eminence-jr-sr-high-school-2/
LOCATION:Dugger Union Community School
END:VEVENT
BEGIN:VEVENT
DTSTART;TZID=America/Indiana/Indianapolis:20270417T120000
DTEND;TZID=America/Indiana/Indianapolis:20270417T140000
DTSTAMP:20260419T205722
CREATED:20260418T090823Z
LAST-MODIFIED:20260420T000443Z
UID:183534-1807963200-1807970400@duggerunionschools.org
SUMMARY:Baseball (Boys V) - Eminence Jr-Sr High School
DESCRIPTION:Start Time: 12:00 PM\nEnd Time: 2:00 PM\nSport: Baseball\nGender: Boys\nLevel: Varsity\nLocation: Dugger Union Community School\nOpponent(s): Eminence High School
URL:https://duggerunionschools.org/administration/event/baseball-boys-v-eminence-jr-sr-high-school-2/
LOCATION:Dugger Union Community School
END:VEVENT
BEGIN:VEVENT
DTSTART;VALUE=DATE:20270420
DTEND;VALUE=DATE:20270426
DTSTAMP:20260419T205722
CREATED:20260415T144229Z
LAST-MODIFIED:20260420T004229Z
UID:183324-1808179200-1808697599@duggerunionschools.org
SUMMARY:Culinary Arts Field Trip - Disney World
DESCRIPTION:
URL:https://duggerunionschools.org/administration/event/culinary-arts-field-trip-disney-world/
LOCATION:Epcot\, Eustis\, FL\, United States
END:VEVENT
BEGIN:VEVENT
DTSTART;VALUE=DATE:20270629
DTEND;VALUE=DATE:20270630
DTSTAMP:20260419T205722
CREATED:20250629T002748Z
LAST-MODIFIED:20260420T004229Z
UID:164534-1814227200-1814313599@duggerunionschools.org
SUMMARY:Both gyms closed for resurfacing
DESCRIPTION:
URL:https://duggerunionschools.org/administration/event/both-gyms-closed-for-resurfacing-2/
END:VEVENT
END:VCALENDAR