BEGIN:VCALENDAR
VERSION:2.0
PRODID:-//Administration - ECPv6.15.15//NONSGML v1.0//EN
CALSCALE:GREGORIAN
METHOD:PUBLISH
X-WR-CALNAME:Administration
X-ORIGINAL-URL:https://duggerunionschools.org/administration
X-WR-CALDESC:Events for Administration
REFRESH-INTERVAL;VALUE=DURATION:PT1H
X-Robots-Tag:noindex
X-PUBLISHED-TTL:PT1H
BEGIN:VTIMEZONE
TZID:America/Indiana/Indianapolis
BEGIN:DAYLIGHT
TZOFFSETFROM:-0500
TZOFFSETTO:-0400
TZNAME:EDT
DTSTART:20260308T070000
END:DAYLIGHT
BEGIN:STANDARD
TZOFFSETFROM:-0400
TZOFFSETTO:-0500
TZNAME:EST
DTSTART:20261101T060000
END:STANDARD
BEGIN:DAYLIGHT
TZOFFSETFROM:-0500
TZOFFSETTO:-0400
TZNAME:EDT
DTSTART:20270314T070000
END:DAYLIGHT
BEGIN:STANDARD
TZOFFSETFROM:-0400
TZOFFSETTO:-0500
TZNAME:EST
DTSTART:20271107T060000
END:STANDARD
BEGIN:DAYLIGHT
TZOFFSETFROM:-0500
TZOFFSETTO:-0400
TZNAME:EDT
DTSTART:20280312T070000
END:DAYLIGHT
BEGIN:STANDARD
TZOFFSETFROM:-0400
TZOFFSETTO:-0500
TZNAME:EST
DTSTART:20281105T060000
END:STANDARD
END:VTIMEZONE
BEGIN:VEVENT
DTSTART;TZID=America/Indiana/Indianapolis:20270128T180000
DTEND;TZID=America/Indiana/Indianapolis:20270128T200000
DTSTAMP:20260419T211318
CREATED:20260130T043401Z
LAST-MODIFIED:20260420T000336Z
UID:178335-1801159200-1801166400@duggerunionschools.org
SUMMARY:Basketball (Girls 5 & 6) - St Patricks Middle School
DESCRIPTION:Start Time: 6:00 PM\nEnd Time: 8:00 PM\nSport: Basketball\nGender: Girls\nLevel: 5th Grade\nLocation: Dugger Union Community School\nOpponent(s): St Patricks Middle School
URL:https://duggerunionschools.org/administration/event/basketball-girls-5-6-st-patricks-middle-school-5/
LOCATION:Dugger Union Community School
END:VEVENT
BEGIN:VEVENT
DTSTART;TZID=America/Indiana/Indianapolis:20270128T180000
DTEND;TZID=America/Indiana/Indianapolis:20270128T200000
DTSTAMP:20260419T211318
CREATED:20260130T043401Z
LAST-MODIFIED:20260420T000336Z
UID:178336-1801159200-1801166400@duggerunionschools.org
SUMMARY:Basketball (Boys 7 & 8) @ Carlisle Elementary/Jr. High
DESCRIPTION:Start Time: 6:00 PM\nEnd Time: 8:00 PM\nSport: Basketball\nGender: Boys\nLevel: 7th Grade\nLocation: Carlisle Elementary/Jr. High\nOpponent(s): Carlisle Elementary/Jr. High
URL:https://duggerunionschools.org/administration/event/basketball-boys-7-8-carlisle-elementary-jr-high-9/
LOCATION:Carlisle Elementary/Jr. High
END:VEVENT
BEGIN:VEVENT
DTSTART;TZID=America/Indiana/Indianapolis:20270128T190000
DTEND;TZID=America/Indiana/Indianapolis:20270128T210000
DTSTAMP:20260419T211319
CREATED:20260130T043401Z
LAST-MODIFIED:20260420T000337Z
UID:178337-1801162800-1801170000@duggerunionschools.org
SUMMARY:Basketball (Girls 7 & 8) - St Patricks Middle School
DESCRIPTION:Start Time: 7:00 PM\nEnd Time: 9:00 PM\nSport: Basketball\nGender: Girls\nLevel: 7th Grade\nLocation: Dugger Union Community School\nOpponent(s): St Patricks Middle School
URL:https://duggerunionschools.org/administration/event/basketball-girls-7-8-st-patricks-middle-school-4/
LOCATION:Dugger Union Community School
END:VEVENT
BEGIN:VEVENT
DTSTART;TZID=America/Indiana/Indianapolis:20270130T180000
DTEND;TZID=America/Indiana/Indianapolis:20270130T200000
DTSTAMP:20260419T211319
CREATED:20260302T233258Z
LAST-MODIFIED:20260420T000337Z
UID:180115-1801332000-1801339200@duggerunionschools.org
SUMMARY:Basketball (Boys JV) @ Bloomfield Jr-Sr High School
DESCRIPTION:Start Time: 6:00 PM\nEnd Time: 8:00 PM\nSport: Basketball\nGender: Boys\nLevel: Junior Varsity\nLocation: Bloomfield Jr-Sr High School\nOpponent(s): Bloomfield Jr-Sr High School
URL:https://duggerunionschools.org/administration/event/basketball-boys-jv-bloomfield-jr-sr-high-school/
LOCATION:Bloomfield Jr-Sr High School
END:VEVENT
BEGIN:VEVENT
DTSTART;TZID=America/Indiana/Indianapolis:20270130T193000
DTEND;TZID=America/Indiana/Indianapolis:20270130T213000
DTSTAMP:20260419T211319
CREATED:20260227T204804Z
LAST-MODIFIED:20260420T000337Z
UID:180036-1801337400-1801344600@duggerunionschools.org
SUMMARY:Basketball (Boys V) @ Bloomfield Jr-Sr High School
DESCRIPTION:Start Time: 7:30 PM\nEnd Time: 9:30 PM\nSport: Basketball\nGender: Boys\nLevel: Varsity\nLocation: Bloomfield Jr-Sr High School\nOpponent(s): Bloomfield Jr-Sr High School
URL:https://duggerunionschools.org/administration/event/basketball-boys-v-bloomfield-jr-sr-high-school/
LOCATION:Bloomfield Jr-Sr High School
END:VEVENT
BEGIN:VEVENT
DTSTART;TZID=America/Indiana/Indianapolis:20270201T180000
DTEND;TZID=America/Indiana/Indianapolis:20270201T200000
DTSTAMP:20260419T211319
CREATED:20260203T084924Z
LAST-MODIFIED:20260420T000338Z
UID:178600-1801504800-1801512000@duggerunionschools.org
SUMMARY:Basketball (Boys 5 & 6) @ Sullivan Elementary
DESCRIPTION:Start Time: 6:00 PM\nEnd Time: 8:00 PM\nSport: Basketball\nGender: Boys\nLevel: 6th Grade\nLocation: Sullivan Elementary\nOpponent(s): Sullivan Elementary
URL:https://duggerunionschools.org/administration/event/basketball-boys-5-6-sullivan-elementary-4/
LOCATION:Sullivan Elementary
END:VEVENT
BEGIN:VEVENT
DTSTART;TZID=America/Indiana/Indianapolis:20270202T180000
DTEND;TZID=America/Indiana/Indianapolis:20270202T200000
DTSTAMP:20260419T211319
CREATED:20260204T093318Z
LAST-MODIFIED:20260420T000338Z
UID:178667-1801591200-1801598400@duggerunionschools.org
SUMMARY:Basketball (Girls V) @ Sectional
DESCRIPTION:Start Time: 6:00 PM\nEnd Time: 8:00 PM\nSport: Basketball\nGender: Girls\nLevel: Varsity\nLocation: Clay City Jr/Sr. High School
URL:https://duggerunionschools.org/administration/event/basketball-girls-v-sectional/
LOCATION:Clay City Jr/Sr. High School
END:VEVENT
BEGIN:VEVENT
DTSTART;TZID=America/Indiana/Indianapolis:20270202T180000
DTEND;TZID=America/Indiana/Indianapolis:20270202T200000
DTSTAMP:20260419T211319
CREATED:20260204T093319Z
LAST-MODIFIED:20260420T000338Z
UID:178668-1801591200-1801598400@duggerunionschools.org
SUMMARY:Basketball (Girls 5 & 6) @ Carlisle Elementary/Jr. High
DESCRIPTION:Start Time: 6:00 PM\nEnd Time: 8:00 PM\nSport: Basketball\nGender: Girls\nLevel: 5th Grade\nLocation: Carlisle Elementary/Jr. High\nOpponent(s): Carlisle Elementary/Jr. High
URL:https://duggerunionschools.org/administration/event/basketball-girls-5-6-carlisle-elementary-jr-high-8/
LOCATION:Carlisle Elementary/Jr. High
END:VEVENT
BEGIN:VEVENT
DTSTART;TZID=America/Indiana/Indianapolis:20270204T180000
DTEND;TZID=America/Indiana/Indianapolis:20270204T200000
DTSTAMP:20260419T211319
CREATED:20260206T113417Z
LAST-MODIFIED:20260420T000339Z
UID:178793-1801764000-1801771200@duggerunionschools.org
SUMMARY:Basketball (Boys 5 & 6) - Carlisle Elementary/Jr. High
DESCRIPTION:Start Time: 6:00 PM\nEnd Time: 8:00 PM\nSport: Basketball\nGender: Boys\nLevel: 6th Grade\nLocation: Dugger Union Community School\nOpponent(s): Carlisle Elementary/Jr. High
URL:https://duggerunionschools.org/administration/event/basketball-boys-5-6-carlisle-elementary-jr-high-5/
LOCATION:Dugger Union Community School
END:VEVENT
BEGIN:VEVENT
DTSTART;TZID=America/Indiana/Indianapolis:20270205T180000
DTEND;TZID=America/Indiana/Indianapolis:20270205T200000
DTSTAMP:20260419T211319
CREATED:20260207T124859Z
LAST-MODIFIED:20260420T000339Z
UID:178859-1801850400-1801857600@duggerunionschools.org
SUMMARY:CANCELED - Basketball (Boys 5 & 6) @ Hutsonville Elem & Jr High Sch
DESCRIPTION:Start Time: 6:00 PM\nEnd Time: 8:00 PM\nSport: Basketball\nGender: Boys\nLevel: 6th Grade\nLocation: Hutsonville Elem & Jr High Sch\nOpponent(s): Hutsonville Elem & Jr High Sch
URL:https://duggerunionschools.org/administration/event/basketball-boys-5-6-hutsonville-elem-jr-high-sch-4/
LOCATION:Hutsonville Elem & Jr High Sch
END:VEVENT
BEGIN:VEVENT
DTSTART;TZID=America/Indiana/Indianapolis:20270206T140000
DTEND;TZID=America/Indiana/Indianapolis:20270206T160000
DTSTAMP:20260419T211319
CREATED:20260207T124900Z
LAST-MODIFIED:20260420T000340Z
UID:178860-1801922400-1801929600@duggerunionschools.org
SUMMARY:Basketball (Boys V) - LOVC
DESCRIPTION:Start Time: 2:00 PM\nEnd Time: 4:00 PM\nSport: Basketball\nGender: Boys\nLevel: Varsity\nLocation: Dugger Union Community School
URL:https://duggerunionschools.org/administration/event/basketball-boys-v-lovc-4/
LOCATION:Dugger Union Community School
END:VEVENT
BEGIN:VEVENT
DTSTART;TZID=America/Indiana/Indianapolis:20270208T183000
DTEND;TZID=America/Indiana/Indianapolis:20270208T203000
DTSTAMP:20260419T211319
CREATED:20260210T032049Z
LAST-MODIFIED:20260420T000345Z
UID:179020-1802111400-1802118600@duggerunionschools.org
SUMMARY:Basketball (Boys 5 & 6) - Sumner Attendance Center
DESCRIPTION:Start Time: 6:30 PM\nEnd Time: 8:30 PM\nSport: Basketball\nGender: Boys\nLevel: 6th Grade\nLocation: Dugger Union Community School\nOpponent(s): Sumner Attendance Center (Red Hill)
URL:https://duggerunionschools.org/administration/event/basketball-boys-5-6-sumner-attendance-center-4/
LOCATION:Dugger Union Community School
END:VEVENT
BEGIN:VEVENT
DTSTART;TZID=America/Indiana/Indianapolis:20270208T183000
DTEND;TZID=America/Indiana/Indianapolis:20270208T203000
DTSTAMP:20260419T211319
CREATED:20260210T032049Z
LAST-MODIFIED:20260420T000340Z
UID:179021-1802111400-1802118600@duggerunionschools.org
SUMMARY:Basketball (Girls 5 & 6) @ Sumner Attendance Center
DESCRIPTION:Start Time: 6:30 PM\nEnd Time: 8:30 PM\nSport: Basketball\nGender: Girls\nLevel: 5th Grade\nLocation: Sumner Attendance Center\nOpponent(s): Sumner Attendance Center (Red Hill)
URL:https://duggerunionschools.org/administration/event/basketball-girls-5-6-sumner-attendance-center-4/
LOCATION:Sumner Attendance Center
END:VEVENT
BEGIN:VEVENT
DTSTART;TZID=America/Indiana/Indianapolis:20270209T180000
DTEND;TZID=America/Indiana/Indianapolis:20270209T200000
DTSTAMP:20260419T211319
CREATED:20260211T041934Z
LAST-MODIFIED:20260420T000346Z
UID:179095-1802196000-1802203200@duggerunionschools.org
SUMMARY:Basketball (Boys JV) @ North Vermillion High School
DESCRIPTION:Start Time: 6:00 PM\nEnd Time: 8:00 PM\nSport: Basketball\nGender: Boys\nLevel: Junior Varsity\nLocation: North Vermillion High School\nOpponent(s): North Vermillion High School
URL:https://duggerunionschools.org/administration/event/basketball-boys-jv-north-vermillion-high-school-2/
LOCATION:North Vermillion High School
END:VEVENT
BEGIN:VEVENT
DTSTART;TZID=America/Indiana/Indianapolis:20270210T180000
DTEND;TZID=America/Indiana/Indianapolis:20270210T200000
DTSTAMP:20260419T211320
CREATED:20260212T051922Z
LAST-MODIFIED:20260420T000347Z
UID:179165-1802282400-1802289600@duggerunionschools.org
SUMMARY:Basketball (Boys 5 & 6) @ Spencer Elementary School
DESCRIPTION:Start Time: 6:00 PM\nEnd Time: 8:00 PM\nSport: Basketball\nGender: Boys\nLevel: 6th Grade\nLocation: Spencer Elementary School\nOpponent(s): Spencer Elementary School
URL:https://duggerunionschools.org/administration/event/basketball-boys-5-6-spencer-elementary-school-6/
LOCATION:Spencer Elementary School
END:VEVENT
BEGIN:VEVENT
DTSTART;TZID=America/Indiana/Indianapolis:20270211T180000
DTEND;TZID=America/Indiana/Indianapolis:20270211T200000
DTSTAMP:20260419T211320
CREATED:20260213T061843Z
LAST-MODIFIED:20260420T000352Z
UID:179228-1802368800-1802376000@duggerunionschools.org
SUMMARY:Basketball (Boys JV) @ Martinsville\, IL High School
DESCRIPTION:Start Time: 6:00 PM\nEnd Time: 8:00 PM\nSport: Basketball\nGender: Boys\nLevel: Junior Varsity\nLocation: Martinsville\, IL High School\nOpponent(s): Martinsville\, IL High School
URL:https://duggerunionschools.org/administration/event/basketball-boys-jv-martinsville-il-high-school-3/
LOCATION:Martinsville\, IL High School
END:VEVENT
BEGIN:VEVENT
DTSTART;VALUE=DATE:20270220
DTEND;VALUE=DATE:20270221
DTSTAMP:20260419T211320
CREATED:20260304T003333Z
LAST-MODIFIED:20260420T000358Z
UID:180144-1803081600-1803167999@duggerunionschools.org
SUMMARY:Basketball (Boys 5 & 6) @ Patriot Invitational
DESCRIPTION:Start Time: TBD\nEnd Time: TBD\nSport: Basketball\nGender: Boys\nLevel: 6th Grade\nLocation: Spencer Elementary School
URL:https://duggerunionschools.org/administration/event/basketball-boys-5-6-patriot-invitational/
LOCATION:Spencer Elementary School
END:VEVENT
BEGIN:VEVENT
DTSTART;TZID=America/Indiana/Indianapolis:20270220T193000
DTEND;TZID=America/Indiana/Indianapolis:20270220T213000
DTSTAMP:20260419T211320
CREATED:20260222T024853Z
LAST-MODIFIED:20260420T000359Z
UID:179770-1803151800-1803159000@duggerunionschools.org
SUMMARY:Basketball (Boys V) @ Clay City Jr/Sr. High School
DESCRIPTION:Start Time: 7:30 PM\nEnd Time: 9:30 PM\nSport: Basketball\nGender: Boys\nLevel: Varsity\nLocation: Dugger Union Community School\nOpponent(s): Clay City Invitational
URL:https://duggerunionschools.org/administration/event/basketball-boys-v-clay-city-jr-sr-high-school-5/
LOCATION:Dugger Union Community School
END:VEVENT
BEGIN:VEVENT
DTSTART;TZID=America/Indiana/Indianapolis:20270223T180000
DTEND;TZID=America/Indiana/Indianapolis:20270223T200000
DTSTAMP:20260419T211320
CREATED:20260225T061947Z
LAST-MODIFIED:20260420T000400Z
UID:179962-1803405600-1803412800@duggerunionschools.org
SUMMARY:Basketball (Boys JV) @ North Central HS-Farmersburg
DESCRIPTION:Start Time: 6:00 PM\nEnd Time: 8:00 PM\nSport: Basketball\nGender: Boys\nLevel: Junior Varsity\nLocation: North Central HS-Farmersburg\nOpponent(s): North Central HS-Farmersburg
URL:https://duggerunionschools.org/administration/event/basketball-boys-jv-north-central-hs-farmersburg-6/
LOCATION:North Central HS-Farmersburg
END:VEVENT
BEGIN:VEVENT
DTSTART;TZID=America/Indiana/Indianapolis:20270223T193000
DTEND;TZID=America/Indiana/Indianapolis:20270223T213000
DTSTAMP:20260419T211320
CREATED:20260225T061947Z
LAST-MODIFIED:20260420T000359Z
UID:179963-1803411000-1803418200@duggerunionschools.org
SUMMARY:Basketball (Boys V) @ North Central HS-Farmersburg
DESCRIPTION:Start Time: 7:30 PM\nEnd Time: 9:30 PM\nSport: Basketball\nGender: Boys\nLevel: Varsity\nLocation: North Central HS-Farmersburg\nOpponent(s): North Central HS-Farmersburg
URL:https://duggerunionschools.org/administration/event/basketball-boys-v-north-central-hs-farmersburg-6/
LOCATION:North Central HS-Farmersburg
END:VEVENT
BEGIN:VEVENT
DTSTART;TZID=America/Indiana/Indianapolis:20270225T180000
DTEND;TZID=America/Indiana/Indianapolis:20270225T200000
DTSTAMP:20260419T211320
CREATED:20260227T081834Z
LAST-MODIFIED:20260420T000400Z
UID:180019-1803578400-1803585600@duggerunionschools.org
SUMMARY:Basketball (Girls 5 & 6) @ Farmersburg Elementary School
DESCRIPTION:Start Time: 6:00 PM\nEnd Time: 8:00 PM\nSport: Basketball\nGender: Girls\nLevel: 5th Grade\nLocation: Farmersburg Elementary School\nOpponent(s): Farmersburg Elementary School
URL:https://duggerunionschools.org/administration/event/basketball-girls-5-6-farmersburg-elementary-school-5/
LOCATION:Farmersburg Elementary School
END:VEVENT
BEGIN:VEVENT
DTSTART;TZID=America/Indiana/Indianapolis:20270329T180000
DTEND;TZID=America/Indiana/Indianapolis:20270329T200000
DTSTAMP:20260419T211320
CREATED:20260331T033420Z
LAST-MODIFIED:20260420T000405Z
UID:182001-1806343200-1806350400@duggerunionschools.org
SUMMARY:Jr High softball @ North Knox Jr. High
DESCRIPTION:Start Time: 6:00 PM\nEnd Time: 8:00 PM\nSport: Softball\nGender: Girls\nLevel: Junior High\nLocation: North Knox Jr. High\nOpponent(s): North Knox Jr. High
URL:https://duggerunionschools.org/administration/event/jr-high-softball-north-knox-jr-high-3/
LOCATION:North Knox Jr. High
END:VEVENT
BEGIN:VEVENT
DTSTART;TZID=America/Indiana/Indianapolis:20270331T170000
DTEND;TZID=America/Indiana/Indianapolis:20270331T190000
DTSTAMP:20260419T211320
CREATED:20260401T124849Z
LAST-MODIFIED:20260420T000405Z
UID:182147-1806512400-1806519600@duggerunionschools.org
SUMMARY:Softball (Girls V) @ North Central HS-Farmersburg
DESCRIPTION:Start Time: 5:00 PM\nEnd Time: 7:00 PM\nSport: Softball\nGender: Girls\nLevel: Varsity\nLocation: North Central HS-Farmersburg\nOpponent(s): North Central HS-Farmersburg
URL:https://duggerunionschools.org/administration/event/softball-girls-v-north-central-hs-farmersburg-5/
LOCATION:North Central HS-Farmersburg
END:VEVENT
BEGIN:VEVENT
DTSTART;TZID=America/Indiana/Indianapolis:20270401T171500
DTEND;TZID=America/Indiana/Indianapolis:20270401T191500
DTSTAMP:20260419T211320
CREATED:20260402T011832Z
LAST-MODIFIED:20260420T000405Z
UID:182211-1806599700-1806606900@duggerunionschools.org
SUMMARY:Softball (Girls V) @ South Knox
DESCRIPTION:Start Time: 5:15 PM\nEnd Time: 7:15 PM\nSport: Softball\nGender: Girls\nLevel: Varsity\nLocation: South Knox High School\nOpponent(s): South Knox
URL:https://duggerunionschools.org/administration/event/softball-girls-v-south-knox-3/
LOCATION:South Knox High School
END:VEVENT
BEGIN:VEVENT
DTSTART;TZID=America/Indiana/Indianapolis:20270402T173000
DTEND;TZID=America/Indiana/Indianapolis:20270402T193000
DTSTAMP:20260419T211320
CREATED:20260403T013429Z
LAST-MODIFIED:20260420T000406Z
UID:182317-1806687000-1806694200@duggerunionschools.org
SUMMARY:Jr High softball - Mooresville Christian Academy
DESCRIPTION:Start Time: 5:30 PM\nEnd Time: 7:30 PM\nSport: Softball\nGender: Girls\nLevel: Junior High\nLocation: Dugger Union Community School
URL:https://duggerunionschools.org/administration/event/jr-high-softball-mooresville-christian-academy-2/
LOCATION:Dugger Union Community School
END:VEVENT
BEGIN:VEVENT
DTSTART;TZID=America/Indiana/Indianapolis:20270405T173000
DTEND;TZID=America/Indiana/Indianapolis:20270405T193000
DTSTAMP:20260419T211320
CREATED:20260406T023329Z
LAST-MODIFIED:20260420T000406Z
UID:182637-1806946200-1806953400@duggerunionschools.org
SUMMARY:Softball (Girls V) @ Cloverdale High School
DESCRIPTION:Start Time: 5:30 PM\nEnd Time: 7:30 PM\nSport: Softball\nGender: Girls\nLevel: Varsity\nLocation: Cloverdale High School\nOpponent(s): Cloverdale
URL:https://duggerunionschools.org/administration/event/softball-girls-v-cloverdale-high-school-2/
LOCATION:Cloverdale High School\, 205 Market St\, Cloverdale\, IN\, United States
END:VEVENT
BEGIN:VEVENT
DTSTART;TZID=America/Indiana/Indianapolis:20270406T173000
DTEND;TZID=America/Indiana/Indianapolis:20270406T193000
DTSTAMP:20260419T211321
CREATED:20260407T030339Z
LAST-MODIFIED:20260420T000412Z
UID:182746-1807032600-1807039800@duggerunionschools.org
SUMMARY:Softball (Girls V) @ RED HILL HIGH SCHOOL
DESCRIPTION:Start Time: 5:30 PM\nEnd Time: 7:30 PM\nSport: Softball\nGender: Girls\nLevel: Varsity\nLocation: RED HILL HIGH SCHOOL\nOpponent(s): RED HILL HIGH SCHOOL
URL:https://duggerunionschools.org/administration/event/softball-girls-v-red-hill-high-school-8/
LOCATION:RED HILL HIGH SCHOOL
END:VEVENT
BEGIN:VEVENT
DTSTART;TZID=America/Indiana/Indianapolis:20270406T173000
DTEND;TZID=America/Indiana/Indianapolis:20270406T193000
DTSTAMP:20260419T211321
CREATED:20260407T030340Z
LAST-MODIFIED:20260420T000418Z
UID:182747-1807032600-1807039800@duggerunionschools.org
SUMMARY:Baseball (Boys V) @ RED HILL HIGH SCHOOL
DESCRIPTION:Start Time: 5:30 PM\nEnd Time: 7:30 PM\nSport: Baseball\nGender: Boys\nLevel: Varsity\nLocation: RED HILL HIGH SCHOOL\nOpponent(s): RED HILL HIGH SCHOOL
URL:https://duggerunionschools.org/administration/event/baseball-boys-v-red-hill-high-school-5/
LOCATION:RED HILL HIGH SCHOOL
END:VEVENT
BEGIN:VEVENT
DTSTART;TZID=America/Indiana/Indianapolis:20270407T180000
DTEND;TZID=America/Indiana/Indianapolis:20270407T200000
DTSTAMP:20260419T211321
CREATED:20260409T033449Z
LAST-MODIFIED:20260420T000419Z
UID:182954-1807120800-1807128000@duggerunionschools.org
SUMMARY:Baseball (Boys V) @ Evansville Christian School
DESCRIPTION:Start Time: 6:00 PM\nEnd Time: 8:00 PM\nSport: Baseball\nGender: Boys\nLevel: Varsity\nLocation: Evansville Christian School\nOpponent(s): Evansville Christian School
URL:https://duggerunionschools.org/administration/event/baseball-boys-v-evansville-christian-school-2/
LOCATION:Evansville Christian School
END:VEVENT
BEGIN:VEVENT
DTSTART;TZID=America/Indiana/Indianapolis:20270407T180000
DTEND;TZID=America/Indiana/Indianapolis:20270407T200000
DTSTAMP:20260419T211321
CREATED:20260409T033450Z
LAST-MODIFIED:20260420T000419Z
UID:182955-1807120800-1807128000@duggerunionschools.org
SUMMARY:Jr High softball @ Bloomfield Junior High School
DESCRIPTION:Start Time: 6:00 PM\nEnd Time: 8:00 PM\nSport: Softball\nGender: Girls\nLevel: Junior High\nLocation: Bloomfield Junior High School\nOpponent(s): Bloomfield Jr-Sr High School
URL:https://duggerunionschools.org/administration/event/jr-high-softball-bloomfield-junior-high-school-5/
LOCATION:Bloomfield Junior High School
END:VEVENT
END:VCALENDAR