BEGIN:VCALENDAR
VERSION:2.0
PRODID:-//Administration - ECPv6.15.15//NONSGML v1.0//EN
CALSCALE:GREGORIAN
METHOD:PUBLISH
X-WR-CALNAME:Administration
X-ORIGINAL-URL:https://duggerunionschools.org/administration
X-WR-CALDESC:Events for Administration
REFRESH-INTERVAL;VALUE=DURATION:PT1H
X-Robots-Tag:noindex
X-PUBLISHED-TTL:PT1H
BEGIN:VTIMEZONE
TZID:America/Indiana/Indianapolis
BEGIN:DAYLIGHT
TZOFFSETFROM:-0500
TZOFFSETTO:-0400
TZNAME:EDT
DTSTART:20230312T070000
END:DAYLIGHT
BEGIN:STANDARD
TZOFFSETFROM:-0400
TZOFFSETTO:-0500
TZNAME:EST
DTSTART:20231105T060000
END:STANDARD
BEGIN:DAYLIGHT
TZOFFSETFROM:-0500
TZOFFSETTO:-0400
TZNAME:EDT
DTSTART:20240310T070000
END:DAYLIGHT
BEGIN:STANDARD
TZOFFSETFROM:-0400
TZOFFSETTO:-0500
TZNAME:EST
DTSTART:20241103T060000
END:STANDARD
BEGIN:DAYLIGHT
TZOFFSETFROM:-0500
TZOFFSETTO:-0400
TZNAME:EDT
DTSTART:20250309T070000
END:DAYLIGHT
BEGIN:STANDARD
TZOFFSETFROM:-0400
TZOFFSETTO:-0500
TZNAME:EST
DTSTART:20251102T060000
END:STANDARD
END:VTIMEZONE
BEGIN:VEVENT
DTSTART;TZID=America/Indiana/Indianapolis:20240219T180000
DTEND;TZID=America/Indiana/Indianapolis:20240219T200000
DTSTAMP:20260422T035347
CREATED:20231103T134941Z
LAST-MODIFIED:20240220T005809Z
UID:57772-1708365600-1708372800@duggerunionschools.org
SUMMARY:Basketball (Boys V) @ Eminence High School
DESCRIPTION:
URL:https://duggerunionschools.org/administration/event/basketball-boys-v-eminence-high-school/
LOCATION:Eminence Jr-Sr High School
END:VEVENT
BEGIN:VEVENT
DTSTART;TZID=America/Indiana/Indianapolis:20240219T180000
DTEND;TZID=America/Indiana/Indianapolis:20240219T200000
DTSTAMP:20260422T035347
CREATED:20231103T134942Z
LAST-MODIFIED:20240220T005810Z
UID:57780-1708365600-1708372800@duggerunionschools.org
SUMMARY:Basketball (Boys 5 & 6) - Spencer Elementary School
DESCRIPTION:
URL:https://duggerunionschools.org/administration/event/basketball-boys-5-6-spencer-elementary-school-2/
LOCATION:Dugger Union Community School
END:VEVENT
BEGIN:VEVENT
DTSTART;VALUE=DATE:20240220
DTEND;VALUE=DATE:20240221
DTSTAMP:20260422T035347
CREATED:20240214T211229Z
LAST-MODIFIED:20240220T224244Z
UID:86941-1708387200-1708473599@duggerunionschools.org
SUMMARY:FFA Spirit Week
DESCRIPTION:
URL:https://duggerunionschools.org/administration/event/ffa-spirit-week-4/
END:VEVENT
BEGIN:VEVENT
DTSTART;TZID=America/Indiana/Indianapolis:20240220T080000
DTEND;TZID=America/Indiana/Indianapolis:20240220T110000
DTSTAMP:20260422T035347
CREATED:20240213T225717Z
LAST-MODIFIED:20240220T154225Z
UID:86741-1708416000-1708426800@duggerunionschools.org
SUMMARY:6th Grade Field Trip
DESCRIPTION:
URL:https://duggerunionschools.org/administration/event/6th-grade-field-trip-5/
LOCATION:Eagle Theater\, 1802 W Main St\, Robinson\, IL 62454\, USA
END:VEVENT
BEGIN:VEVENT
DTSTART;TZID=America/Indiana/Indianapolis:20240220T180000
DTEND;TZID=America/Indiana/Indianapolis:20240220T190000
DTSTAMP:20260422T035347
CREATED:20230806T002948Z
LAST-MODIFIED:20240129T175358Z
UID:49302-1708452000-1708455600@duggerunionschools.org
SUMMARY:DUCS public board meeting
DESCRIPTION:
URL:https://duggerunionschools.org/administration/event/ducs-public-board-meeting-10/
LOCATION:Cafeteria
END:VEVENT
BEGIN:VEVENT
DTSTART;TZID=America/Indiana/Indianapolis:20240220T180000
DTEND;TZID=America/Indiana/Indianapolis:20240220T200000
DTSTAMP:20260422T035347
CREATED:20231103T134941Z
LAST-MODIFIED:20240221T004312Z
UID:57771-1708452000-1708459200@duggerunionschools.org
SUMMARY:CANCELED - Basketball (Boys JV) @ Eminence High School
DESCRIPTION:
URL:https://duggerunionschools.org/administration/event/basketball-boys-jv-eminence-high-school/
LOCATION:Eminence High School
END:VEVENT
BEGIN:VEVENT
DTSTART;VALUE=DATE:20240221
DTEND;VALUE=DATE:20240222
DTSTAMP:20260422T035348
CREATED:20231212T204229Z
LAST-MODIFIED:20240221T212844Z
UID:70976-1708473600-1708559999@duggerunionschools.org
SUMMARY:NAEP Assessment - Grade 4 Math & Reading
DESCRIPTION:
URL:https://duggerunionschools.org/administration/event/naep-assessment-grade-4-math-reading/
END:VEVENT
BEGIN:VEVENT
DTSTART;VALUE=DATE:20240221
DTEND;VALUE=DATE:20240222
DTSTAMP:20260422T035348
CREATED:20240214T211229Z
LAST-MODIFIED:20240221T212844Z
UID:86940-1708473600-1708559999@duggerunionschools.org
SUMMARY:FFA Spirit Week
DESCRIPTION:
URL:https://duggerunionschools.org/administration/event/ffa-spirit-week-3/
END:VEVENT
BEGIN:VEVENT
DTSTART;TZID=America/Indiana/Indianapolis:20240221T180000
DTEND;TZID=America/Indiana/Indianapolis:20240221T200000
DTSTAMP:20260422T035348
CREATED:20231103T134942Z
LAST-MODIFIED:20240222T004329Z
UID:57781-1708538400-1708545600@duggerunionschools.org
SUMMARY:Basketball (Boys 5 & 6) @ Hutsonville tournament
DESCRIPTION:
URL:https://duggerunionschools.org/administration/event/basketball-boys-5-6-hutsonville-tournament-3/
LOCATION:Hutsonville High School
END:VEVENT
BEGIN:VEVENT
DTSTART;VALUE=DATE:20240222
DTEND;VALUE=DATE:20240223
DTSTAMP:20260422T035348
CREATED:20240214T211228Z
LAST-MODIFIED:20240222T224223Z
UID:86939-1708560000-1708646399@duggerunionschools.org
SUMMARY:FFA Spirit Week
DESCRIPTION:
URL:https://duggerunionschools.org/administration/event/ffa-spirit-week-2/
END:VEVENT
BEGIN:VEVENT
DTSTART;TZID=America/Indiana/Indianapolis:20240222T083000
DTEND;TZID=America/Indiana/Indianapolis:20240222T143000
DTSTAMP:20260422T035348
CREATED:20240206T171224Z
LAST-MODIFIED:20240222T192717Z
UID:85274-1708590600-1708612200@duggerunionschools.org
SUMMARY:McCammon Field Trip
DESCRIPTION:
URL:https://duggerunionschools.org/administration/event/mccammon-field-trip-2/
END:VEVENT
BEGIN:VEVENT
DTSTART;TZID=America/Indiana/Indianapolis:20240222T180000
DTEND;TZID=America/Indiana/Indianapolis:20240222T200000
DTSTAMP:20260422T035348
CREATED:20231103T134942Z
LAST-MODIFIED:20240223T002730Z
UID:57782-1708624800-1708632000@duggerunionschools.org
SUMMARY:Basketball (Girls 5 & 6) - Farmersburg Elementary School
DESCRIPTION:
URL:https://duggerunionschools.org/administration/event/basketball-girls-5-6-farmersburg-elementary-school-2/
LOCATION:Dugger Union Community School
END:VEVENT
BEGIN:VEVENT
DTSTART;TZID=America/Indiana/Indianapolis:20240222T180000
DTEND;TZID=America/Indiana/Indianapolis:20240222T200000
DTSTAMP:20260422T035348
CREATED:20231103T134942Z
LAST-MODIFIED:20240223T002728Z
UID:57783-1708624800-1708632000@duggerunionschools.org
SUMMARY:Basketball (Boys 5 & 6) @ Hutsonville tournament
DESCRIPTION:
URL:https://duggerunionschools.org/administration/event/basketball-boys-5-6-hutsonville-tournament-4/
LOCATION:Hutsonville High School
END:VEVENT
BEGIN:VEVENT
DTSTART;VALUE=DATE:20240223
DTEND;VALUE=DATE:20240224
DTSTAMP:20260422T035348
CREATED:20240214T211228Z
LAST-MODIFIED:20240223T215721Z
UID:86938-1708646400-1708732799@duggerunionschools.org
SUMMARY:FFA Spirit Week
DESCRIPTION:
URL:https://duggerunionschools.org/administration/event/ffa-spirit-week/
END:VEVENT
BEGIN:VEVENT
DTSTART;TZID=America/Indiana/Indianapolis:20240223T193000
DTEND;TZID=America/Indiana/Indianapolis:20240223T213000
DTSTAMP:20260422T035348
CREATED:20231103T134942Z
LAST-MODIFIED:20240224T015724Z
UID:57785-1708716600-1708723800@duggerunionschools.org
SUMMARY:Basketball (Boys V) @ EVANSVILLE DAY SCHOOL
DESCRIPTION:
URL:https://duggerunionschools.org/administration/event/basketball-boys-v-evansville-day-school-2/
LOCATION:EVANSVILLE DAY SCHOOL
END:VEVENT
BEGIN:VEVENT
DTSTART;TZID=America/Indiana/Indianapolis:20240224T090000
DTEND;TZID=America/Indiana/Indianapolis:20240224T110000
DTSTAMP:20260422T035348
CREATED:20231103T134943Z
LAST-MODIFIED:20240224T155722Z
UID:57786-1708765200-1708772400@duggerunionschools.org
SUMMARY:Basketball (Boys 5 & 6) @ Hutsonville tournament
DESCRIPTION:
URL:https://duggerunionschools.org/administration/event/basketball-boys-5-6-hutsonville-tournament-5/
LOCATION:Hutsonville High School
END:VEVENT
BEGIN:VEVENT
DTSTART;VALUE=DATE:20240226
DTEND;VALUE=DATE:20240227
DTSTAMP:20260422T035348
CREATED:20240206T181244Z
LAST-MODIFIED:20240226T215717Z
UID:85291-1708905600-1708991999@duggerunionschools.org
SUMMARY:Bring Change 2 Mind Week - Wear Green to Support Mental Health
DESCRIPTION:
URL:https://duggerunionschools.org/administration/event/bring-change-2-mind-week-wear-green-to-support-mental-health/
END:VEVENT
BEGIN:VEVENT
DTSTART;VALUE=DATE:20240227
DTEND;VALUE=DATE:20240228
DTSTAMP:20260422T035348
CREATED:20240206T181244Z
LAST-MODIFIED:20240227T232721Z
UID:85293-1708992000-1709078399@duggerunionschools.org
SUMMARY:Bring Change 2 Mind Week - Emotions Can Mean Many Colors - Wear Tie-Dye
DESCRIPTION:
URL:https://duggerunionschools.org/administration/event/bring-change-2-mind-week-emotions-can-mean-many-colors-wear-tie-dye/
END:VEVENT
BEGIN:VEVENT
DTSTART;VALUE=DATE:20240228
DTEND;VALUE=DATE:20240229
DTSTAMP:20260422T035348
CREATED:20240206T181244Z
LAST-MODIFIED:20240228T234318Z
UID:85292-1709078400-1709164799@duggerunionschools.org
SUMMARY:Bring Change 2 Mind Week - Strike Out the Stigma - Wear a Jersey
DESCRIPTION:
URL:https://duggerunionschools.org/administration/event/bring-change-2-mind-week-strike-out-the-stigma-wear-a-jersey/
END:VEVENT
BEGIN:VEVENT
DTSTART;TZID=America/Indiana/Indianapolis:20240228T123000
DTEND;TZID=America/Indiana/Indianapolis:20240228T143000
DTSTAMP:20260422T035348
CREATED:20240221T152732Z
LAST-MODIFIED:20240228T192718Z
UID:89073-1709123400-1709130600@duggerunionschools.org
SUMMARY:5th Grade Field Trip - Sullivan Library
DESCRIPTION:
URL:https://duggerunionschools.org/administration/event/5th-grade-field-trip-sullivan-library/
LOCATION:Sullivan Library
END:VEVENT
BEGIN:VEVENT
DTSTART;TZID=America/Indiana/Indianapolis:20240228T193000
DTEND;TZID=America/Indiana/Indianapolis:20240228T213000
DTSTAMP:20260422T035348
CREATED:20231103T134943Z
LAST-MODIFIED:20240229T014226Z
UID:57787-1709148600-1709155800@duggerunionschools.org
SUMMARY:Basketball (Boys V) @ IHSAA SECTIONALS
DESCRIPTION:
URL:https://duggerunionschools.org/administration/event/basketball-boys-v-ihsaa-sectionals-3/
LOCATION:White River Valley High School
END:VEVENT
BEGIN:VEVENT
DTSTART;VALUE=DATE:20240229
DTEND;VALUE=DATE:20240301
DTSTAMP:20260422T035348
CREATED:20240206T181244Z
LAST-MODIFIED:20240229T234228Z
UID:85294-1709164800-1709251199@duggerunionschools.org
SUMMARY:Bring Change 2 Mind Week - We Can Cope With Our Feelings Together - Pick a Friend and Match
DESCRIPTION:
URL:https://duggerunionschools.org/administration/event/bring-change-2-mind-week-we-can-cope-with-our-feelings-together-pick-a-friend-and-match/
END:VEVENT
BEGIN:VEVENT
DTSTART;TZID=America/Indiana/Indianapolis:20240229T080000
DTEND;TZID=America/Indiana/Indianapolis:20240229T140000
DTSTAMP:20260422T035348
CREATED:20231214T181355Z
LAST-MODIFIED:20240229T184221Z
UID:71537-1709193600-1709215200@duggerunionschools.org
SUMMARY:College Fair - Juniors & Seniors
DESCRIPTION:
URL:https://duggerunionschools.org/administration/event/college-fair-juniors-seniors-2/
LOCATION:Terre Haute North Vigo High School\, 3434 Maple Ave\, Terre Haute\, IN 47804\, USA
END:VEVENT
BEGIN:VEVENT
DTSTART;TZID=America/Indiana/Indianapolis:20240229T180000
DTEND;TZID=America/Indiana/Indianapolis:20240229T190000
DTSTAMP:20260422T035348
CREATED:20231201T175726Z
LAST-MODIFIED:20240229T234228Z
UID:66305-1709229600-1709233200@duggerunionschools.org
SUMMARY:Talent show sponsored by DUCS Dance Team & Music Dept.
DESCRIPTION:
URL:https://duggerunionschools.org/administration/event/talent-show-sponsored-by-ducs-dance-team-music-dept/
LOCATION:Old Gym
END:VEVENT
BEGIN:VEVENT
DTSTART;VALUE=DATE:20240301
DTEND;VALUE=DATE:20240302
DTSTAMP:20260422T035348
CREATED:20240206T181249Z
LAST-MODIFIED:20240301T234230Z
UID:85296-1709251200-1709337599@duggerunionschools.org
SUMMARY:Bring Change 2 Mind Week - No Bulldog Fights Alone - Wear School Colors to Show Support For Each Other
DESCRIPTION:
URL:https://duggerunionschools.org/administration/event/bring-change-2-mind-week-no-bulldog-fights-alone-wear-school-colors-to-show-support-for-each-other/
END:VEVENT
BEGIN:VEVENT
DTSTART;VALUE=DATE:20240304
DTEND;VALUE=DATE:20240309
DTSTAMP:20260422T035348
CREATED:20230905T001523Z
LAST-MODIFIED:20240308T234232Z
UID:53733-1709510400-1709942399@duggerunionschools.org
SUMMARY:IREAD Testing - all students in grades 2-3
DESCRIPTION:
URL:https://duggerunionschools.org/administration/event/iread-testing-all-students-in-grades-2-3/
END:VEVENT
BEGIN:VEVENT
DTSTART;TZID=America/Indiana/Indianapolis:20240305T080000
DTEND;TZID=America/Indiana/Indianapolis:20240305T083000
DTSTAMP:20260422T035348
CREATED:20230606T132829Z
LAST-MODIFIED:20240305T131233Z
UID:41557-1709625600-1709627400@duggerunionschools.org
SUMMARY:Commitment to Graduate 8th grade banner signing
DESCRIPTION:
URL:https://duggerunionschools.org/administration/event/commitment-to-graduate-8th-grade-banner-signing/
END:VEVENT
BEGIN:VEVENT
DTSTART;TZID=America/Indiana/Indianapolis:20240305T083000
DTEND;TZID=America/Indiana/Indianapolis:20240305T090000
DTSTAMP:20260422T035348
CREATED:20230606T132829Z
LAST-MODIFIED:20240305T134234Z
UID:41558-1709627400-1709629200@duggerunionschools.org
SUMMARY:Senior graduation products delivery
DESCRIPTION:
URL:https://duggerunionschools.org/administration/event/senior-graduation-products-delivery/
END:VEVENT
BEGIN:VEVENT
DTSTART;TZID=America/Indiana/Indianapolis:20240305T090000
DTEND;TZID=America/Indiana/Indianapolis:20240305T093000
DTSTAMP:20260422T035348
CREATED:20230606T132829Z
LAST-MODIFIED:20240305T141237Z
UID:41559-1709629200-1709631000@duggerunionschools.org
SUMMARY:Junior Class Officers Announcement Selection Meeting
DESCRIPTION:
URL:https://duggerunionschools.org/administration/event/junior-class-officers-announcement-selection-meeting/
END:VEVENT
BEGIN:VEVENT
DTSTART;VALUE=DATE:20240308
DTEND;VALUE=DATE:20240309
DTSTAMP:20260422T035348
CREATED:20231023T191257Z
LAST-MODIFIED:20240308T234232Z
UID:56962-1709856000-1709942399@duggerunionschools.org
SUMMARY:Last day of 3rd Nine Week Grading Period
DESCRIPTION:
URL:https://duggerunionschools.org/administration/event/last-day-of-3rd-nine-week-grading-period/
END:VEVENT
END:VCALENDAR