BEGIN:VCALENDAR
VERSION:2.0
PRODID:-//Administration - ECPv6.15.15//NONSGML v1.0//EN
CALSCALE:GREGORIAN
METHOD:PUBLISH
X-WR-CALNAME:Administration
X-ORIGINAL-URL:https://duggerunionschools.org/administration
X-WR-CALDESC:Events for Administration
REFRESH-INTERVAL;VALUE=DURATION:PT1H
X-Robots-Tag:noindex
X-PUBLISHED-TTL:PT1H
BEGIN:VTIMEZONE
TZID:America/Indiana/Indianapolis
BEGIN:DAYLIGHT
TZOFFSETFROM:-0500
TZOFFSETTO:-0400
TZNAME:EDT
DTSTART:20230312T070000
END:DAYLIGHT
BEGIN:STANDARD
TZOFFSETFROM:-0400
TZOFFSETTO:-0500
TZNAME:EST
DTSTART:20231105T060000
END:STANDARD
BEGIN:DAYLIGHT
TZOFFSETFROM:-0500
TZOFFSETTO:-0400
TZNAME:EDT
DTSTART:20240310T070000
END:DAYLIGHT
BEGIN:STANDARD
TZOFFSETFROM:-0400
TZOFFSETTO:-0500
TZNAME:EST
DTSTART:20241103T060000
END:STANDARD
BEGIN:DAYLIGHT
TZOFFSETFROM:-0500
TZOFFSETTO:-0400
TZNAME:EDT
DTSTART:20250309T070000
END:DAYLIGHT
BEGIN:STANDARD
TZOFFSETFROM:-0400
TZOFFSETTO:-0500
TZNAME:EST
DTSTART:20251102T060000
END:STANDARD
END:VTIMEZONE
BEGIN:VEVENT
DTSTART;TZID=America/Indiana/Indianapolis:20240120T180000
DTEND;TZID=America/Indiana/Indianapolis:20240120T200000
DTSTAMP:20260421T221733
CREATED:20231103T134938Z
LAST-MODIFIED:20240121T004242Z
UID:57748-1705773600-1705780800@duggerunionschools.org
SUMMARY:Basketball (Boys JV) - South Putnam High School
DESCRIPTION:
URL:https://duggerunionschools.org/administration/event/basketball-boys-jv-south-putnam-high-school/
LOCATION:Dugger Union Community School
END:VEVENT
BEGIN:VEVENT
DTSTART;TZID=America/Indiana/Indianapolis:20240120T193000
DTEND;TZID=America/Indiana/Indianapolis:20240120T213000
DTSTAMP:20260421T221733
CREATED:20231103T134938Z
LAST-MODIFIED:20240121T014218Z
UID:57749-1705779000-1705786200@duggerunionschools.org
SUMMARY:Basketball (Boys V) - South Putnam High School
DESCRIPTION:
URL:https://duggerunionschools.org/administration/event/basketball-boys-v-south-putnam-high-school/
LOCATION:Dugger Union Community School
END:VEVENT
BEGIN:VEVENT
DTSTART;TZID=America/Indiana/Indianapolis:20240120T210000
DTEND;TZID=America/Indiana/Indianapolis:20240120T230000
DTSTAMP:20260421T221733
CREATED:20231001T030603Z
LAST-MODIFIED:20240121T035733Z
UID:55865-1705784400-1705791600@duggerunionschools.org
SUMMARY:Dance- Student Council
DESCRIPTION:
URL:https://duggerunionschools.org/administration/event/dance-student-council/
END:VEVENT
BEGIN:VEVENT
DTSTART;TZID=America/Indiana/Indianapolis:20240123T180000
DTEND;TZID=America/Indiana/Indianapolis:20240123T190000
DTSTAMP:20260421T221733
CREATED:20231103T134939Z
LAST-MODIFIED:20240123T234359Z
UID:57751-1706032800-1706036400@duggerunionschools.org
SUMMARY:Basketball (Boys JV) @ Lighthouse Christian Academy - Bloomington
DESCRIPTION:
URL:https://duggerunionschools.org/administration/event/basketball-boys-jv-lighthouse-christian-academy-bloomington/
LOCATION:Lighthouse Christian Academy – Bloomington
END:VEVENT
BEGIN:VEVENT
DTSTART;TZID=America/Indiana/Indianapolis:20240123T180000
DTEND;TZID=America/Indiana/Indianapolis:20240123T200000
DTSTAMP:20260421T221733
CREATED:20240110T085728Z
LAST-MODIFIED:20240124T005729Z
UID:79254-1706032800-1706040000@duggerunionschools.org
SUMMARY:Basketball (Boys 5 & 6) - Linton-Stockton Elementary School
DESCRIPTION:
URL:https://duggerunionschools.org/administration/event/basketball-boys-5-6-linton-stockton-elementary-school-3/
LOCATION:Dugger Union Community School
END:VEVENT
BEGIN:VEVENT
DTSTART;TZID=America/Indiana/Indianapolis:20240123T190000
DTEND;TZID=America/Indiana/Indianapolis:20240123T210000
DTSTAMP:20260421T221733
CREATED:20231103T134939Z
LAST-MODIFIED:20240124T005730Z
UID:57752-1706036400-1706043600@duggerunionschools.org
SUMMARY:Basketball (Boys V) @ Lighthouse Christian Academy - Bloomington
DESCRIPTION:
URL:https://duggerunionschools.org/administration/event/basketball-boys-v-lighthouse-christian-academy-bloomington-2/
LOCATION:Lighthouse Christian Academy – Bloomington
END:VEVENT
BEGIN:VEVENT
DTSTART;TZID=America/Indiana/Indianapolis:20240124T180000
DTEND;TZID=America/Indiana/Indianapolis:20240124T200000
DTSTAMP:20260421T221733
CREATED:20231103T134939Z
LAST-MODIFIED:20240125T005733Z
UID:57754-1706119200-1706126400@duggerunionschools.org
SUMMARY:Basketball (Girls V) - North Central HS-Farmersburg
DESCRIPTION:
URL:https://duggerunionschools.org/administration/event/basketball-girls-v-north-central-hs-farmersburg/
LOCATION:Dugger Union Community School
END:VEVENT
BEGIN:VEVENT
DTSTART;TZID=America/Indiana/Indianapolis:20240124T180000
DTEND;TZID=America/Indiana/Indianapolis:20240124T200000
DTSTAMP:20260421T221733
CREATED:20231103T134939Z
LAST-MODIFIED:20240125T005735Z
UID:57755-1706119200-1706126400@duggerunionschools.org
SUMMARY:Basketball (Boys 5 & 6) @ Washington Catholic Middle and High School
DESCRIPTION:
URL:https://duggerunionschools.org/administration/event/basketball-boys-5-6-washington-catholic-middle-and-high-school/
LOCATION:Washington Catholic Middle and High School
END:VEVENT
BEGIN:VEVENT
DTSTART;TZID=America/Indiana/Indianapolis:20240124T180000
DTEND;TZID=America/Indiana/Indianapolis:20240124T200000
DTSTAMP:20260421T221733
CREATED:20231103T134939Z
LAST-MODIFIED:20240125T005733Z
UID:57756-1706119200-1706126400@duggerunionschools.org
SUMMARY:CANCELED - Basketball (Girls 5 & 6) @ St Patricks Middle School
DESCRIPTION:
URL:https://duggerunionschools.org/administration/event/basketball-girls-5-6-st-patricks-middle-school-2/
LOCATION:St Patricks Middle School
END:VEVENT
BEGIN:VEVENT
DTSTART;TZID=America/Indiana/Indianapolis:20240124T180000
DTEND;TZID=America/Indiana/Indianapolis:20240124T200000
DTSTAMP:20260421T221734
CREATED:20231103T134940Z
LAST-MODIFIED:20240125T005733Z
UID:57757-1706119200-1706126400@duggerunionschools.org
SUMMARY:Basketball (Girls 7 & 8) @ St Patricks Middle School
DESCRIPTION:
URL:https://duggerunionschools.org/administration/event/basketball-girls-7-8-st-patricks-middle-school/
LOCATION:St Patricks Middle School
END:VEVENT
BEGIN:VEVENT
DTSTART;TZID=America/Indiana/Indianapolis:20240124T190000
DTEND;TZID=America/Indiana/Indianapolis:20240124T210000
DTSTAMP:20260421T221734
CREATED:20231103T134939Z
LAST-MODIFIED:20240125T015717Z
UID:57753-1706122800-1706130000@duggerunionschools.org
SUMMARY:Basketball (Boys 7 & 8) @ Washington Catholic Middle and High School
DESCRIPTION:
URL:https://duggerunionschools.org/administration/event/basketball-boys-7-8-washington-catholic-middle-and-high-school/
LOCATION:Washington Catholic Middle and High School
END:VEVENT
BEGIN:VEVENT
DTSTART;TZID=America/Indiana/Indianapolis:20240125T180000
DTEND;TZID=America/Indiana/Indianapolis:20240125T200000
DTSTAMP:20260421T221734
CREATED:20231103T134940Z
LAST-MODIFIED:20240126T004229Z
UID:57758-1706205600-1706212800@duggerunionschools.org
SUMMARY:Basketball (Boys 7 & 8) @ Carlisle Elementary/Jr. High
DESCRIPTION:
URL:https://duggerunionschools.org/administration/event/basketball-boys-7-8-carlisle-elementary-jr-high-3/
LOCATION:Carlisle Elementary/Jr. High
END:VEVENT
BEGIN:VEVENT
DTSTART;TZID=America/Indiana/Indianapolis:20240125T180000
DTEND;TZID=America/Indiana/Indianapolis:20240125T200000
DTSTAMP:20260421T221734
CREATED:20240116T091228Z
LAST-MODIFIED:20240126T004229Z
UID:80936-1706205600-1706212800@duggerunionschools.org
SUMMARY:Basketball (Girls 7 & 8) @ Lighthouse Christian Academy - Bloomington
DESCRIPTION:
URL:https://duggerunionschools.org/administration/event/basketball-girls-7-8-lighthouse-christian-academy-bloomington/
LOCATION:Lighthouse Christian Academy – Bloomington
END:VEVENT
BEGIN:VEVENT
DTSTART;TZID=America/Indiana/Indianapolis:20240126T183000
DTEND;TZID=America/Indiana/Indianapolis:20240126T203000
DTSTAMP:20260421T221734
CREATED:20231103T134940Z
LAST-MODIFIED:20240127T011331Z
UID:57760-1706293800-1706301000@duggerunionschools.org
SUMMARY:Basketball (Girls V) @ Medora
DESCRIPTION:
URL:https://duggerunionschools.org/administration/event/basketball-girls-v-medora/
LOCATION:Medora Jr & Sr High School
END:VEVENT
BEGIN:VEVENT
DTSTART;TZID=America/Indiana/Indianapolis:20240129T180000
DTEND;TZID=America/Indiana/Indianapolis:20240129T200000
DTSTAMP:20260421T221734
CREATED:20231103T134940Z
LAST-MODIFIED:20240130T004233Z
UID:57761-1706551200-1706558400@duggerunionschools.org
SUMMARY:Basketball (Boys 5 & 6) - Sullivan Elementary
DESCRIPTION:
URL:https://duggerunionschools.org/administration/event/basketball-boys-5-6-sullivan-elementary/
LOCATION:Dugger Union Community School
END:VEVENT
BEGIN:VEVENT
DTSTART;TZID=America/Indiana/Indianapolis:20240130T180000
DTEND;TZID=America/Indiana/Indianapolis:20240130T200000
DTSTAMP:20260421T221734
CREATED:20231103T134940Z
LAST-MODIFIED:20240131T001232Z
UID:57762-1706637600-1706644800@duggerunionschools.org
SUMMARY:Basketball (Girls 5 & 6) - Carlisle Elementary/Jr. High
DESCRIPTION:
URL:https://duggerunionschools.org/administration/event/basketball-girls-5-6-carlisle-elementary-jr-high-2/
LOCATION:Dugger Union Community School
END:VEVENT
BEGIN:VEVENT
DTSTART;VALUE=DATE:20240131
DTEND;VALUE=DATE:20240201
DTSTAMP:20260421T221734
CREATED:20240110T124218Z
LAST-MODIFIED:20240130T165757Z
UID:79304-1706659200-1706745599@duggerunionschools.org
SUMMARY:Hat Day - Student Council
DESCRIPTION:
URL:https://duggerunionschools.org/administration/event/hat-day-student-council/
END:VEVENT
BEGIN:VEVENT
DTSTART;TZID=America/Indiana/Indianapolis:20240131T180000
DTEND;TZID=America/Indiana/Indianapolis:20240131T200000
DTSTAMP:20260421T221734
CREATED:20231103T134940Z
LAST-MODIFIED:20240201T001234Z
UID:57763-1706724000-1706731200@duggerunionschools.org
SUMMARY:Basketball (Girls V) @ IHSAA SECTIONALS
DESCRIPTION:
URL:https://duggerunionschools.org/administration/event/basketball-girls-v-ihsaa-sectionals-2/
LOCATION:Bloomfield Junior High School
END:VEVENT
BEGIN:VEVENT
DTSTART;TZID=America/Indiana/Indianapolis:20240201T180000
DTEND;TZID=America/Indiana/Indianapolis:20240201T200000
DTSTAMP:20260421T221734
CREATED:20231103T134940Z
LAST-MODIFIED:20240202T005722Z
UID:57764-1706810400-1706817600@duggerunionschools.org
SUMMARY:Basketball (Boys 5 & 6) @ Carlisle Elementary/Jr. High
DESCRIPTION:
URL:https://duggerunionschools.org/administration/event/basketball-boys-5-6-carlisle-elementary-jr-high-2/
LOCATION:Carlisle Elementary/Jr. High
END:VEVENT
BEGIN:VEVENT
DTSTART;TZID=America/Indiana/Indianapolis:20240201T183000
DTEND;TZID=America/Indiana/Indianapolis:20240201T203000
DTSTAMP:20260421T221734
CREATED:20231103T134937Z
LAST-MODIFIED:20240202T005722Z
UID:57739-1706812200-1706819400@duggerunionschools.org
SUMMARY:Basketball (Girls 7 & 8) @ Springville Community Academy
DESCRIPTION:
URL:https://duggerunionschools.org/administration/event/basketball-girls-7-8-springville-community-academy/
LOCATION:Springville Community Academy
END:VEVENT
BEGIN:VEVENT
DTSTART;TZID=America/Indiana/Indianapolis:20240201T193000
DTEND;TZID=America/Indiana/Indianapolis:20240201T213000
DTSTAMP:20260421T221734
CREATED:20231103T134937Z
LAST-MODIFIED:20240202T015731Z
UID:57740-1706815800-1706823000@duggerunionschools.org
SUMMARY:Basketball (Boys 7 & 8) @ Springville Community Academy
DESCRIPTION:
URL:https://duggerunionschools.org/administration/event/basketball-boys-7-8-springville-community-academy/
LOCATION:Springville Community Academy
END:VEVENT
BEGIN:VEVENT
DTSTART;VALUE=DATE:20240202
DTEND;VALUE=DATE:20240204
DTSTAMP:20260421T221734
CREATED:20240102T195724Z
LAST-MODIFIED:20240130T165800Z
UID:77080-1706832000-1707004799@duggerunionschools.org
SUMMARY:Archery tournament
DESCRIPTION:
URL:https://duggerunionschools.org/administration/event/archery-tournament-2/
LOCATION:New gym
END:VEVENT
BEGIN:VEVENT
DTSTART;TZID=America/Indiana/Indianapolis:20240202T180000
DTEND;TZID=America/Indiana/Indianapolis:20240202T200000
DTSTAMP:20260421T221734
CREATED:20231103T134940Z
LAST-MODIFIED:20240203T004218Z
UID:57766-1706896800-1706904000@duggerunionschools.org
SUMMARY:Basketball (Boys 5 & 6) @ Hutsonville Elem & Jr High Sch
DESCRIPTION:
URL:https://duggerunionschools.org/administration/event/basketball-boys-5-6-hutsonville-elem-jr-high-sch/
LOCATION:Hutsonville Elem & Jr High Sch
END:VEVENT
BEGIN:VEVENT
DTSTART;TZID=America/Indiana/Indianapolis:20240203T090000
DTEND;TZID=America/Indiana/Indianapolis:20240203T110000
DTSTAMP:20260421T221735
CREATED:20240129T142722Z
LAST-MODIFIED:20240203T154232Z
UID:84485-1706950800-1706958000@duggerunionschools.org
SUMMARY:Basketball (Boys 5 & 6) @ North Central HS-Farmersburg
DESCRIPTION:
URL:https://duggerunionschools.org/administration/event/basketball-boys-5-6-north-central-hs-farmersburg/
LOCATION:North Central HS-Farmersburg
END:VEVENT
BEGIN:VEVENT
DTSTART;TZID=America/Indiana/Indianapolis:20240203T143000
DTEND;TZID=America/Indiana/Indianapolis:20240203T163000
DTSTAMP:20260421T221735
CREATED:20231103T134941Z
LAST-MODIFIED:20240203T205722Z
UID:57767-1706970600-1706977800@duggerunionschools.org
SUMMARY:Basketball (Boys V) @ LOVC
DESCRIPTION:
URL:https://duggerunionschools.org/administration/event/basketball-boys-v-lovc/
LOCATION:Oblong H. S.
END:VEVENT
BEGIN:VEVENT
DTSTART;TZID=America/Indiana/Indianapolis:20240205T180000
DTEND;TZID=America/Indiana/Indianapolis:20240205T200000
DTSTAMP:20260421T221735
CREATED:20231103T134938Z
LAST-MODIFIED:20240206T005719Z
UID:57750-1707156000-1707163200@duggerunionschools.org
SUMMARY:Basketball (Girls 7 & 8) - Clay City
DESCRIPTION:
URL:https://duggerunionschools.org/administration/event/basketball-girls-7-8-clay-city/
LOCATION:Dugger Union Community School
END:VEVENT
BEGIN:VEVENT
DTSTART;TZID=America/Indiana/Indianapolis:20240206T150000
DTEND;TZID=America/Indiana/Indianapolis:20240206T163000
DTSTAMP:20260421T221735
CREATED:20240206T171223Z
LAST-MODIFIED:20240206T205817Z
UID:85272-1707231600-1707237000@duggerunionschools.org
SUMMARY:JH winter sports pictures
DESCRIPTION:
URL:https://duggerunionschools.org/administration/event/jh-winter-sports-pictures/
END:VEVENT
BEGIN:VEVENT
DTSTART;TZID=America/Indiana/Indianapolis:20240208T150000
DTEND;TZID=America/Indiana/Indianapolis:20240208T163000
DTSTAMP:20260421T221735
CREATED:20240206T171223Z
LAST-MODIFIED:20240208T212721Z
UID:85273-1707404400-1707409800@duggerunionschools.org
SUMMARY:Elem. winter sports pictures
DESCRIPTION:
URL:https://duggerunionschools.org/administration/event/elem-winter-sports-pictures/
END:VEVENT
BEGIN:VEVENT
DTSTART;TZID=America/Indiana/Indianapolis:20240208T183000
DTEND;TZID=America/Indiana/Indianapolis:20240208T203000
DTSTAMP:20260421T221735
CREATED:20240112T035731Z
LAST-MODIFIED:20240209T012719Z
UID:79741-1707417000-1707424200@duggerunionschools.org
SUMMARY:Basketball (Boys JV) - Martinsville\, IL High School
DESCRIPTION:
URL:https://duggerunionschools.org/administration/event/basketball-boys-jv-martinsville-il-high-school/
LOCATION:Dugger Union Community School
END:VEVENT
BEGIN:VEVENT
DTSTART;TZID=America/Indiana/Indianapolis:20240208T193000
DTEND;TZID=America/Indiana/Indianapolis:20240208T213000
DTSTAMP:20260421T221735
CREATED:20231103T134941Z
LAST-MODIFIED:20240209T022719Z
UID:57768-1707420600-1707427800@duggerunionschools.org
SUMMARY:Basketball (Boys V) - Martinsville\, IL Hi School
DESCRIPTION:
URL:https://duggerunionschools.org/administration/event/basketball-boys-v-martinsville-il-hi-school/
LOCATION:Dugger Union Community School
END:VEVENT
END:VCALENDAR