BEGIN:VCALENDAR
VERSION:2.0
PRODID:-//Administration - ECPv6.15.15//NONSGML v1.0//EN
CALSCALE:GREGORIAN
METHOD:PUBLISH
X-WR-CALNAME:Administration
X-ORIGINAL-URL:https://duggerunionschools.org/administration
X-WR-CALDESC:Events for Administration
REFRESH-INTERVAL;VALUE=DURATION:PT1H
X-Robots-Tag:noindex
X-PUBLISHED-TTL:PT1H
BEGIN:VTIMEZONE
TZID:America/Indiana/Indianapolis
BEGIN:DAYLIGHT
TZOFFSETFROM:-0500
TZOFFSETTO:-0400
TZNAME:EDT
DTSTART:20260308T070000
END:DAYLIGHT
BEGIN:STANDARD
TZOFFSETFROM:-0400
TZOFFSETTO:-0500
TZNAME:EST
DTSTART:20261101T060000
END:STANDARD
BEGIN:DAYLIGHT
TZOFFSETFROM:-0500
TZOFFSETTO:-0400
TZNAME:EDT
DTSTART:20270314T070000
END:DAYLIGHT
BEGIN:STANDARD
TZOFFSETFROM:-0400
TZOFFSETTO:-0500
TZNAME:EST
DTSTART:20271107T060000
END:STANDARD
BEGIN:DAYLIGHT
TZOFFSETFROM:-0500
TZOFFSETTO:-0400
TZNAME:EDT
DTSTART:20280312T070000
END:DAYLIGHT
BEGIN:STANDARD
TZOFFSETFROM:-0400
TZOFFSETTO:-0500
TZNAME:EST
DTSTART:20281105T060000
END:STANDARD
END:VTIMEZONE
BEGIN:VEVENT
DTSTART;TZID=America/Indiana/Indianapolis:20270115T180000
DTEND;TZID=America/Indiana/Indianapolis:20270115T200000
DTSTAMP:20260419T133809
CREATED:20260117T044825Z
LAST-MODIFIED:20260419T173400Z
UID:177422-1800036000-1800043200@duggerunionschools.org
SUMMARY:Basketball (Boys JV) - Medora Junior/Senior High School
DESCRIPTION:Start Time: 6:00 PM\nEnd Time: 8:00 PM\nSport: Basketball\nGender: Boys\nLevel: Junior Varsity\nLocation: Dugger Union Community School\nOpponent(s): Medora Junior/Senior High School
URL:https://duggerunionschools.org/administration/event/basketball-boys-jv-medora-junior-senior-high-school-2/
LOCATION:Dugger Union Community School
END:VEVENT
BEGIN:VEVENT
DTSTART;TZID=America/Indiana/Indianapolis:20270115T183000
DTEND;TZID=America/Indiana/Indianapolis:20270115T203000
DTSTAMP:20260419T133810
CREATED:20260117T044824Z
LAST-MODIFIED:20260419T173400Z
UID:177420-1800037800-1800045000@duggerunionschools.org
SUMMARY:Basketball (Girls 7 & 8) - Springville Community Academy
DESCRIPTION:Start Time: 6:30 PM\nEnd Time: 8:30 PM\nSport: Basketball\nGender: Girls\nLevel: 7th Grade\nLocation: Dugger Union Community School\nOpponent(s): Springville Community Academy
URL:https://duggerunionschools.org/administration/event/basketball-girls-7-8-springville-community-academy-4/
LOCATION:Dugger Union Community School
END:VEVENT
BEGIN:VEVENT
DTSTART;TZID=America/Indiana/Indianapolis:20270115T183000
DTEND;TZID=America/Indiana/Indianapolis:20270115T203000
DTSTAMP:20260419T133810
CREATED:20260117T044824Z
LAST-MODIFIED:20260419T173359Z
UID:177421-1800037800-1800045000@duggerunionschools.org
SUMMARY:Basketball (Boys 7 & 8) @ Springville Community Academy
DESCRIPTION:Start Time: 6:30 PM\nEnd Time: 8:30 PM\nSport: Basketball\nGender: Boys\nLevel: 7th Grade\nLocation: Springville Community Academy\nOpponent(s): Springville Community Academy
URL:https://duggerunionschools.org/administration/event/basketball-boys-7-8-springville-community-academy-4/
LOCATION:Springville Community Academy
END:VEVENT
BEGIN:VEVENT
DTSTART;TZID=America/Indiana/Indianapolis:20270115T193000
DTEND;TZID=America/Indiana/Indianapolis:20270115T213000
DTSTAMP:20260419T133810
CREATED:20260117T044824Z
LAST-MODIFIED:20260419T173400Z
UID:177419-1800041400-1800048600@duggerunionschools.org
SUMMARY:Basketball (Boys V) - Medora Junior/Senior High School
DESCRIPTION:Start Time: 7:30 PM\nEnd Time: 9:30 PM\nSport: Basketball\nGender: Boys\nLevel: Varsity\nLocation: Dugger Union Community School\nOpponent(s): Medora Junior/Senior High School
URL:https://duggerunionschools.org/administration/event/basketball-boys-v-medora-junior-senior-high-school-6/
LOCATION:Dugger Union Community School
END:VEVENT
BEGIN:VEVENT
DTSTART;TZID=America/Indiana/Indianapolis:20270116T140000
DTEND;TZID=America/Indiana/Indianapolis:20270116T160000
DTSTAMP:20260419T133810
CREATED:20260117T044825Z
LAST-MODIFIED:20260419T173401Z
UID:177424-1800108000-1800115200@duggerunionschools.org
SUMMARY:Basketball (Boys JV) - Seven Oaks Classical School
DESCRIPTION:Start Time: 2:00 PM\nEnd Time: 4:00 PM\nSport: Basketball\nGender: Boys\nLevel: Junior Varsity\nLocation: Dugger Union Community School\nOpponent(s): Seven Oaks Classical School
URL:https://duggerunionschools.org/administration/event/basketball-boys-jv-seven-oaks-classical-school-2/
LOCATION:Dugger Union Community School
END:VEVENT
BEGIN:VEVENT
DTSTART;TZID=America/Indiana/Indianapolis:20270116T153000
DTEND;TZID=America/Indiana/Indianapolis:20270116T173000
DTSTAMP:20260419T133810
CREATED:20260117T044825Z
LAST-MODIFIED:20260419T173401Z
UID:177423-1800113400-1800120600@duggerunionschools.org
SUMMARY:Basketball (Boys V) - Seven Oaks Classical School
DESCRIPTION:Start Time: 3:30 PM\nEnd Time: 5:30 PM\nSport: Basketball\nGender: Boys\nLevel: Varsity\nLocation: Dugger Union Community School\nOpponent(s): Seven Oaks Classical School
URL:https://duggerunionschools.org/administration/event/basketball-boys-v-seven-oaks-classical-school-5/
LOCATION:Dugger Union Community School
END:VEVENT
BEGIN:VEVENT
DTSTART;TZID=America/Indiana/Indianapolis:20270118T150000
DTEND;TZID=America/Indiana/Indianapolis:20270118T170000
DTSTAMP:20260419T133810
CREATED:20260119T063312Z
LAST-MODIFIED:20260419T173401Z
UID:177560-1800284400-1800291600@duggerunionschools.org
SUMMARY:Cheerleading (Girls V)
DESCRIPTION:Start Time: 3:00 PM\nEnd Time: 5:00 PM\nSport: Cheerleading\nGender: Girls\nLevel: Varsity
URL:https://duggerunionschools.org/administration/event/cheerleading-girls-v-2/
LOCATION:IN
END:VEVENT
BEGIN:VEVENT
DTSTART;TZID=America/Indiana/Indianapolis:20270119T183000
DTEND;TZID=America/Indiana/Indianapolis:20270119T203000
DTSTAMP:20260419T133810
CREATED:20260121T082034Z
LAST-MODIFIED:20260419T173401Z
UID:177699-1800383400-1800390600@duggerunionschools.org
SUMMARY:Basketball (Boys 7 & 8) - Parkview Jr High School
DESCRIPTION:Start Time: 6:30 PM\nEnd Time: 8:30 PM\nSport: Basketball\nGender: Boys\nLevel: 7th Grade\nLocation: Dugger Union Community School\nOpponent(s): Parkview Jr High School
URL:https://duggerunionschools.org/administration/event/basketball-boys-7-8-parkview-jr-high-school-4/
LOCATION:Dugger Union Community School
END:VEVENT
BEGIN:VEVENT
DTSTART;TZID=America/Indiana/Indianapolis:20270120T180000
DTEND;TZID=America/Indiana/Indianapolis:20270120T200000
DTSTAMP:20260419T133810
CREATED:20260122T091828Z
LAST-MODIFIED:20260419T173402Z
UID:177780-1800468000-1800475200@duggerunionschools.org
SUMMARY:Basketball (Girls 7 & 8) @ Carlisle Elementary/Jr. High
DESCRIPTION:Start Time: 6:00 PM\nEnd Time: 8:00 PM\nSport: Basketball\nGender: Girls\nLevel: 7th Grade\nLocation: Carlisle Elementary/Jr. High\nOpponent(s): Carlisle Elementary/Jr. High
URL:https://duggerunionschools.org/administration/event/basketball-girls-7-8-carlisle-elementary-jr-high-7/
LOCATION:Carlisle Elementary/Jr. High
END:VEVENT
BEGIN:VEVENT
DTSTART;TZID=America/Indiana/Indianapolis:20270120T183000
DTEND;TZID=America/Indiana/Indianapolis:20270120T203000
DTSTAMP:20260419T133810
CREATED:20260122T091828Z
LAST-MODIFIED:20260419T173402Z
UID:177781-1800469800-1800477000@duggerunionschools.org
SUMMARY:Basketball (Girls V) @ Shoals Jr/Sr High School
DESCRIPTION:Start Time: 6:30 PM\nEnd Time: 8:30 PM\nSport: Basketball\nGender: Girls\nLevel: Varsity\nLocation: Shoals Jr/Sr High School\nOpponent(s): Shoals Jr/Sr High School
URL:https://duggerunionschools.org/administration/event/basketball-girls-v-shoals-jr-sr-high-school-5/
LOCATION:Shoals Jr/Sr High School
END:VEVENT
BEGIN:VEVENT
DTSTART;TZID=America/Indiana/Indianapolis:20270121T180000
DTEND;TZID=America/Indiana/Indianapolis:20270121T200000
DTSTAMP:20260419T133810
CREATED:20260123T100505Z
LAST-MODIFIED:20260419T173403Z
UID:177851-1800554400-1800561600@duggerunionschools.org
SUMMARY:Basketball (Girls 5 & 6) - Spencer Elementary School
DESCRIPTION:Start Time: 6:00 PM\nEnd Time: 8:00 PM\nSport: Basketball\nGender: Girls\nLevel: 5th Grade\nLocation: Dugger Union Community School\nOpponent(s): Spencer Elementary School
URL:https://duggerunionschools.org/administration/event/basketball-girls-5-6-spencer-elementary-school-6/
LOCATION:Dugger Union Community School
END:VEVENT
BEGIN:VEVENT
DTSTART;TZID=America/Indiana/Indianapolis:20270121T180000
DTEND;TZID=America/Indiana/Indianapolis:20270121T200000
DTSTAMP:20260419T133810
CREATED:20260123T100505Z
LAST-MODIFIED:20260419T173403Z
UID:177850-1800554400-1800561600@duggerunionschools.org
SUMMARY:Basketball (Girls 7 & 8) @ Sullivan Middle School
DESCRIPTION:Start Time: 6:00 PM\nEnd Time: 8:00 PM\nSport: Basketball\nGender: Girls\nLevel: 7th Grade\nLocation: Sullivan Middle School\nOpponent(s): Sullivan Jr. High School
URL:https://duggerunionschools.org/administration/event/basketball-girls-7-8-sullivan-middle-school/
LOCATION:Sullivan Middle School
END:VEVENT
BEGIN:VEVENT
DTSTART;TZID=America/Indiana/Indianapolis:20270123T100000
DTEND;TZID=America/Indiana/Indianapolis:20270123T120000
DTSTAMP:20260419T133810
CREATED:20260210T032041Z
LAST-MODIFIED:20260419T173403Z
UID:179019-1800698400-1800705600@duggerunionschools.org
SUMMARY:Basketball (Boys V) @ Martinsville\, IL Hi School
DESCRIPTION:Start Time: 10:00 AM\nEnd Time: 12:00 PM\nSport: Basketball\nGender: Boys\nLevel: Varsity\nLocation: Hoosier Gym\nOpponent(s): Martinsville\, IL High School
URL:https://duggerunionschools.org/administration/event/basketball-boys-v-martinsville-il-hi-school-4/
LOCATION:Hoosier Gym
END:VEVENT
BEGIN:VEVENT
DTSTART;TZID=America/Indiana/Indianapolis:20270123T140000
DTEND;TZID=America/Indiana/Indianapolis:20270123T160000
DTSTAMP:20260419T133810
CREATED:20260124T110332Z
LAST-MODIFIED:20260419T173404Z
UID:177918-1800712800-1800720000@duggerunionschools.org
SUMMARY:Basketball (Girls V) - Martinsville\, IL Hi School
DESCRIPTION:Start Time: 2:00 PM\nEnd Time: 4:00 PM\nSport: Basketball\nGender: Girls\nLevel: Varsity\nLocation: Dugger Union Community School\nOpponent(s): Martinsville\, IL High School
URL:https://duggerunionschools.org/administration/event/basketball-girls-v-martinsville-il-hi-school-4/
LOCATION:Dugger Union Community School
END:VEVENT
BEGIN:VEVENT
DTSTART;TZID=America/Indiana/Indianapolis:20270123T180000
DTEND;TZID=America/Indiana/Indianapolis:20270123T200000
DTSTAMP:20260419T133810
CREATED:20260125T120400Z
LAST-MODIFIED:20260419T173404Z
UID:177981-1800727200-1800734400@duggerunionschools.org
SUMMARY:Basketball (Boys JV) @ South Putnam High School
DESCRIPTION:Start Time: 6:00 PM\nEnd Time: 8:00 PM\nSport: Basketball\nGender: Boys\nLevel: Junior Varsity\nLocation: South Putnam High School\nOpponent(s): South Putnam High School
URL:https://duggerunionschools.org/administration/event/basketball-boys-jv-south-putnam-high-school-4/
LOCATION:South Putnam High School
END:VEVENT
BEGIN:VEVENT
DTSTART;TZID=America/Indiana/Indianapolis:20270125T180000
DTEND;TZID=America/Indiana/Indianapolis:20270125T200000
DTSTAMP:20260419T133811
CREATED:20260127T013348Z
LAST-MODIFIED:20260419T173405Z
UID:178097-1800900000-1800907200@duggerunionschools.org
SUMMARY:Basketball (Girls 7 & 8) @ Clay City
DESCRIPTION:Start Time: 6:00 PM\nEnd Time: 8:00 PM\nSport: Basketball\nGender: Girls\nLevel: 7th Grade\nLocation: Clay City Jr/Sr. High School\nOpponent(s): Clay City Jr/Sr. High School
URL:https://duggerunionschools.org/administration/event/basketball-girls-7-8-clay-city-4/
LOCATION:Clay City Jr/Sr. High School
END:VEVENT
BEGIN:VEVENT
DTSTART;TZID=America/Indiana/Indianapolis:20270125T183000
DTEND;TZID=America/Indiana/Indianapolis:20270125T203000
DTSTAMP:20260419T133811
CREATED:20260127T013348Z
LAST-MODIFIED:20260419T173405Z
UID:178096-1800901800-1800909000@duggerunionschools.org
SUMMARY:Basketball (Girls V) - Bloomfield High School
DESCRIPTION:Start Time: 6:30 PM\nEnd Time: 8:30 PM\nSport: Basketball\nGender: Girls\nLevel: Varsity\nLocation: Dugger Union Community School
URL:https://duggerunionschools.org/administration/event/basketball-girls-v-bloomfield-high-school-2/
LOCATION:Dugger Union Community School
END:VEVENT
BEGIN:VEVENT
DTSTART;TZID=America/Indiana/Indianapolis:20270126T180000
DTEND;TZID=America/Indiana/Indianapolis:20270126T200000
DTSTAMP:20260419T133811
CREATED:20260128T023303Z
LAST-MODIFIED:20260419T173406Z
UID:178171-1800986400-1800993600@duggerunionschools.org
SUMMARY:Basketball (Girls 5 & 6) @ Carlisle Elementary/Jr. High
DESCRIPTION:Start Time: 6:00 PM\nEnd Time: 8:00 PM\nSport: Basketball\nGender: Girls\nLevel: 5th Grade\nLocation: Carlisle Elementary/Jr. High\nOpponent(s): Carlisle Elementary/Jr. High
URL:https://duggerunionschools.org/administration/event/basketball-girls-5-6-carlisle-elementary-jr-high-7/
LOCATION:Carlisle Elementary/Jr. High
END:VEVENT
BEGIN:VEVENT
DTSTART;TZID=America/Indiana/Indianapolis:20270126T190000
DTEND;TZID=America/Indiana/Indianapolis:20270126T210000
DTSTAMP:20260419T133811
CREATED:20260128T023303Z
LAST-MODIFIED:20260419T173406Z
UID:178172-1800990000-1800997200@duggerunionschools.org
SUMMARY:Basketball (Boys V) - Lighthouse Christian Academy - Bloomington
DESCRIPTION:Start Time: 7:00 PM\nEnd Time: 9:00 PM\nSport: Basketball\nGender: Boys\nLevel: Varsity\nLocation: Dugger Union Community School\nOpponent(s): Lighthouse Christian Academy – Bloomington
URL:https://duggerunionschools.org/administration/event/basketball-boys-v-lighthouse-christian-academy-bloomington-5/
LOCATION:Dugger Union Community School
END:VEVENT
BEGIN:VEVENT
DTSTART;TZID=America/Indiana/Indianapolis:20270127T180000
DTEND;TZID=America/Indiana/Indianapolis:20270127T200000
DTSTAMP:20260419T133811
CREATED:20260129T033448Z
LAST-MODIFIED:20260419T173406Z
UID:178253-1801072800-1801080000@duggerunionschools.org
SUMMARY:Basketball (Boys 5 & 6) - Washington Catholic Middle and High School
DESCRIPTION:Start Time: 6:00 PM\nEnd Time: 8:00 PM\nSport: Basketball\nGender: Boys\nLevel: 6th Grade\nLocation: Dugger Union Community School\nOpponent(s): Dugger Union Community School
URL:https://duggerunionschools.org/administration/event/basketball-boys-5-6-washington-catholic-middle-and-high-school-4/
LOCATION:Dugger Union Community School
END:VEVENT
BEGIN:VEVENT
DTSTART;TZID=America/Indiana/Indianapolis:20270127T190000
DTEND;TZID=America/Indiana/Indianapolis:20270127T210000
DTSTAMP:20260419T133811
CREATED:20260129T033449Z
LAST-MODIFIED:20260419T173407Z
UID:178254-1801076400-1801083600@duggerunionschools.org
SUMMARY:Basketball (Boys 7 & 8) - Washington Catholic Middle and High School
DESCRIPTION:Start Time: 7:00 PM\nEnd Time: 9:00 PM\nSport: Basketball\nGender: Boys\nLevel: 7th Grade\nLocation: Dugger Union Community School\nOpponent(s): Washington Catholic Middle and High School
URL:https://duggerunionschools.org/administration/event/basketball-boys-7-8-washington-catholic-middle-and-high-school-4/
LOCATION:Dugger Union Community School
END:VEVENT
BEGIN:VEVENT
DTSTART;TZID=America/Indiana/Indianapolis:20270128T180000
DTEND;TZID=America/Indiana/Indianapolis:20270128T200000
DTSTAMP:20260419T133811
CREATED:20260130T043401Z
LAST-MODIFIED:20260419T173407Z
UID:178335-1801159200-1801166400@duggerunionschools.org
SUMMARY:Basketball (Girls 5 & 6) - St Patricks Middle School
DESCRIPTION:Start Time: 6:00 PM\nEnd Time: 8:00 PM\nSport: Basketball\nGender: Girls\nLevel: 5th Grade\nLocation: Dugger Union Community School\nOpponent(s): St Patricks Middle School
URL:https://duggerunionschools.org/administration/event/basketball-girls-5-6-st-patricks-middle-school-5/
LOCATION:Dugger Union Community School
END:VEVENT
BEGIN:VEVENT
DTSTART;TZID=America/Indiana/Indianapolis:20270128T180000
DTEND;TZID=America/Indiana/Indianapolis:20270128T200000
DTSTAMP:20260419T133811
CREATED:20260130T043401Z
LAST-MODIFIED:20260419T173407Z
UID:178336-1801159200-1801166400@duggerunionschools.org
SUMMARY:Basketball (Boys 7 & 8) @ Carlisle Elementary/Jr. High
DESCRIPTION:Start Time: 6:00 PM\nEnd Time: 8:00 PM\nSport: Basketball\nGender: Boys\nLevel: 7th Grade\nLocation: Carlisle Elementary/Jr. High\nOpponent(s): Carlisle Elementary/Jr. High
URL:https://duggerunionschools.org/administration/event/basketball-boys-7-8-carlisle-elementary-jr-high-9/
LOCATION:Carlisle Elementary/Jr. High
END:VEVENT
BEGIN:VEVENT
DTSTART;TZID=America/Indiana/Indianapolis:20270128T190000
DTEND;TZID=America/Indiana/Indianapolis:20270128T210000
DTSTAMP:20260419T133811
CREATED:20260130T043401Z
LAST-MODIFIED:20260419T173408Z
UID:178337-1801162800-1801170000@duggerunionschools.org
SUMMARY:Basketball (Girls 7 & 8) - St Patricks Middle School
DESCRIPTION:Start Time: 7:00 PM\nEnd Time: 9:00 PM\nSport: Basketball\nGender: Girls\nLevel: 7th Grade\nLocation: Dugger Union Community School\nOpponent(s): St Patricks Middle School
URL:https://duggerunionschools.org/administration/event/basketball-girls-7-8-st-patricks-middle-school-4/
LOCATION:Dugger Union Community School
END:VEVENT
BEGIN:VEVENT
DTSTART;TZID=America/Indiana/Indianapolis:20270130T180000
DTEND;TZID=America/Indiana/Indianapolis:20270130T200000
DTSTAMP:20260419T133811
CREATED:20260302T233258Z
LAST-MODIFIED:20260419T173408Z
UID:180115-1801332000-1801339200@duggerunionschools.org
SUMMARY:Basketball (Boys JV) @ Bloomfield Jr-Sr High School
DESCRIPTION:Start Time: 6:00 PM\nEnd Time: 8:00 PM\nSport: Basketball\nGender: Boys\nLevel: Junior Varsity\nLocation: Bloomfield Jr-Sr High School\nOpponent(s): Bloomfield Jr-Sr High School
URL:https://duggerunionschools.org/administration/event/basketball-boys-jv-bloomfield-jr-sr-high-school/
LOCATION:Bloomfield Jr-Sr High School
END:VEVENT
BEGIN:VEVENT
DTSTART;TZID=America/Indiana/Indianapolis:20270130T193000
DTEND;TZID=America/Indiana/Indianapolis:20270130T213000
DTSTAMP:20260419T133811
CREATED:20260227T204804Z
LAST-MODIFIED:20260419T173408Z
UID:180036-1801337400-1801344600@duggerunionschools.org
SUMMARY:Basketball (Boys V) @ Bloomfield Jr-Sr High School
DESCRIPTION:Start Time: 7:30 PM\nEnd Time: 9:30 PM\nSport: Basketball\nGender: Boys\nLevel: Varsity\nLocation: Bloomfield Jr-Sr High School\nOpponent(s): Bloomfield Jr-Sr High School
URL:https://duggerunionschools.org/administration/event/basketball-boys-v-bloomfield-jr-sr-high-school/
LOCATION:Bloomfield Jr-Sr High School
END:VEVENT
BEGIN:VEVENT
DTSTART;TZID=America/Indiana/Indianapolis:20270201T180000
DTEND;TZID=America/Indiana/Indianapolis:20270201T200000
DTSTAMP:20260419T133811
CREATED:20260203T084924Z
LAST-MODIFIED:20260419T173409Z
UID:178600-1801504800-1801512000@duggerunionschools.org
SUMMARY:Basketball (Boys 5 & 6) @ Sullivan Elementary
DESCRIPTION:Start Time: 6:00 PM\nEnd Time: 8:00 PM\nSport: Basketball\nGender: Boys\nLevel: 6th Grade\nLocation: Sullivan Elementary\nOpponent(s): Sullivan Elementary
URL:https://duggerunionschools.org/administration/event/basketball-boys-5-6-sullivan-elementary-4/
LOCATION:Sullivan Elementary
END:VEVENT
BEGIN:VEVENT
DTSTART;TZID=America/Indiana/Indianapolis:20270202T180000
DTEND;TZID=America/Indiana/Indianapolis:20270202T200000
DTSTAMP:20260419T133811
CREATED:20260204T093318Z
LAST-MODIFIED:20260419T173409Z
UID:178667-1801591200-1801598400@duggerunionschools.org
SUMMARY:Basketball (Girls V) @ Sectional
DESCRIPTION:Start Time: 6:00 PM\nEnd Time: 8:00 PM\nSport: Basketball\nGender: Girls\nLevel: Varsity\nLocation: Clay City Jr/Sr. High School
URL:https://duggerunionschools.org/administration/event/basketball-girls-v-sectional/
LOCATION:Clay City Jr/Sr. High School
END:VEVENT
BEGIN:VEVENT
DTSTART;TZID=America/Indiana/Indianapolis:20270202T180000
DTEND;TZID=America/Indiana/Indianapolis:20270202T200000
DTSTAMP:20260419T133811
CREATED:20260204T093319Z
LAST-MODIFIED:20260419T173409Z
UID:178668-1801591200-1801598400@duggerunionschools.org
SUMMARY:Basketball (Girls 5 & 6) @ Carlisle Elementary/Jr. High
DESCRIPTION:Start Time: 6:00 PM\nEnd Time: 8:00 PM\nSport: Basketball\nGender: Girls\nLevel: 5th Grade\nLocation: Carlisle Elementary/Jr. High\nOpponent(s): Carlisle Elementary/Jr. High
URL:https://duggerunionschools.org/administration/event/basketball-girls-5-6-carlisle-elementary-jr-high-8/
LOCATION:Carlisle Elementary/Jr. High
END:VEVENT
BEGIN:VEVENT
DTSTART;TZID=America/Indiana/Indianapolis:20270204T180000
DTEND;TZID=America/Indiana/Indianapolis:20270204T200000
DTSTAMP:20260419T133811
CREATED:20260206T113417Z
LAST-MODIFIED:20260419T173409Z
UID:178793-1801764000-1801771200@duggerunionschools.org
SUMMARY:Basketball (Boys 5 & 6) - Carlisle Elementary/Jr. High
DESCRIPTION:Start Time: 6:00 PM\nEnd Time: 8:00 PM\nSport: Basketball\nGender: Boys\nLevel: 6th Grade\nLocation: Dugger Union Community School\nOpponent(s): Carlisle Elementary/Jr. High
URL:https://duggerunionschools.org/administration/event/basketball-boys-5-6-carlisle-elementary-jr-high-5/
LOCATION:Dugger Union Community School
END:VEVENT
END:VCALENDAR