BEGIN:VCALENDAR
VERSION:2.0
PRODID:-//Administration - ECPv6.15.15//NONSGML v1.0//EN
CALSCALE:GREGORIAN
METHOD:PUBLISH
X-ORIGINAL-URL:https://duggerunionschools.org/administration
X-WR-CALDESC:Events for Administration
REFRESH-INTERVAL;VALUE=DURATION:PT1H
X-Robots-Tag:noindex
X-PUBLISHED-TTL:PT1H
BEGIN:VTIMEZONE
TZID:America/Indiana/Indianapolis
BEGIN:DAYLIGHT
TZOFFSETFROM:-0500
TZOFFSETTO:-0400
TZNAME:EDT
DTSTART:20230312T070000
END:DAYLIGHT
BEGIN:STANDARD
TZOFFSETFROM:-0400
TZOFFSETTO:-0500
TZNAME:EST
DTSTART:20231105T060000
END:STANDARD
BEGIN:DAYLIGHT
TZOFFSETFROM:-0500
TZOFFSETTO:-0400
TZNAME:EDT
DTSTART:20240310T070000
END:DAYLIGHT
BEGIN:STANDARD
TZOFFSETFROM:-0400
TZOFFSETTO:-0500
TZNAME:EST
DTSTART:20241103T060000
END:STANDARD
BEGIN:DAYLIGHT
TZOFFSETFROM:-0500
TZOFFSETTO:-0400
TZNAME:EDT
DTSTART:20250309T070000
END:DAYLIGHT
BEGIN:STANDARD
TZOFFSETFROM:-0400
TZOFFSETTO:-0500
TZNAME:EST
DTSTART:20251102T060000
END:STANDARD
END:VTIMEZONE
BEGIN:VEVENT
DTSTART;VALUE=DATE:20240102
DTEND;VALUE=DATE:20240103
DTSTAMP:20260421T175711
CREATED:20230730T232722Z
LAST-MODIFIED:20240102T225740Z
UID:48358-1704153600-1704239999@duggerunionschools.org
SUMMARY:Staff Workday
DESCRIPTION:
URL:https://duggerunionschools.org/administration/event/staff-workday-3/
LOCATION:CPI training (even years)
END:VEVENT
BEGIN:VEVENT
DTSTART;VALUE=DATE:20240103
DTEND;VALUE=DATE:20240104
DTSTAMP:20260421T175711
CREATED:20230730T232722Z
LAST-MODIFIED:20240103T225749Z
UID:48359-1704240000-1704326399@duggerunionschools.org
SUMMARY:School Resumes for Students
DESCRIPTION:
URL:https://duggerunionschools.org/administration/event/school-resumes-for-students-3/
END:VEVENT
BEGIN:VEVENT
DTSTART;TZID=America/Indiana/Indianapolis:20240103T180000
DTEND;TZID=America/Indiana/Indianapolis:20240103T200000
DTSTAMP:20260421T175712
CREATED:20231103T134935Z
LAST-MODIFIED:20240104T001650Z
UID:57722-1704304800-1704312000@duggerunionschools.org
SUMMARY:Basketball (Girls 5 & 6) @ North Daviess Elementary School
DESCRIPTION:
URL:https://duggerunionschools.org/administration/event/basketball-girls-5-6-north-daviess-elementary-school/
LOCATION:North Daviess Elementary School
END:VEVENT
BEGIN:VEVENT
DTSTART;TZID=America/Indiana/Indianapolis:20240104T180000
DTEND;TZID=America/Indiana/Indianapolis:20240104T200000
DTSTAMP:20260421T175712
CREATED:20231103T134935Z
LAST-MODIFIED:20240105T001223Z
UID:57724-1704391200-1704398400@duggerunionschools.org
SUMMARY:Basketball (Boys 5 & 6) @ Hymera Elementary School
DESCRIPTION:
URL:https://duggerunionschools.org/administration/event/basketball-boys-5-6-hymera-elementary-school/
LOCATION:Hymera Elementary School
END:VEVENT
BEGIN:VEVENT
DTSTART;TZID=America/Indiana/Indianapolis:20240104T183000
DTEND;TZID=America/Indiana/Indianapolis:20240104T203000
DTSTAMP:20260421T175712
CREATED:20231103T134935Z
LAST-MODIFIED:20240105T012822Z
UID:57723-1704393000-1704400200@duggerunionschools.org
SUMMARY:Basketball (Girls V) - Palestine High School
DESCRIPTION:
URL:https://duggerunionschools.org/administration/event/basketball-girls-v-palestine-high-school-2/
LOCATION:Dugger Union Community School
END:VEVENT
BEGIN:VEVENT
DTSTART;VALUE=DATE:20240105
DTEND;VALUE=DATE:20240107
DTSTAMP:20260421T175712
CREATED:20231215T194309Z
LAST-MODIFIED:20240106T235737Z
UID:71860-1704412800-1704585599@duggerunionschools.org
SUMMARY:Archery tournament
DESCRIPTION:
URL:https://duggerunionschools.org/administration/event/archery-tournament/
LOCATION:New gym
END:VEVENT
BEGIN:VEVENT
DTSTART;TZID=America/Indiana/Indianapolis:20240106T143000
DTEND;TZID=America/Indiana/Indianapolis:20240106T163000
DTSTAMP:20260421T175712
CREATED:20231103T134935Z
LAST-MODIFIED:20240106T204255Z
UID:57725-1704551400-1704558600@duggerunionschools.org
SUMMARY:Basketball (Girls V) @ LOVC tournament
DESCRIPTION:
URL:https://duggerunionschools.org/administration/event/basketball-girls-v-lovc-tournament/
END:VEVENT
BEGIN:VEVENT
DTSTART;TZID=America/Indiana/Indianapolis:20240106T180000
DTEND;TZID=America/Indiana/Indianapolis:20240106T200000
DTSTAMP:20260421T175712
CREATED:20231103T134936Z
LAST-MODIFIED:20240107T001316Z
UID:57728-1704564000-1704571200@duggerunionschools.org
SUMMARY:Basketball (Boys JV) @ Vincennes Rivet Jr/Sr. High School
DESCRIPTION:
URL:https://duggerunionschools.org/administration/event/basketball-boys-jv-vincennes-rivet-jr-sr-high-school/
LOCATION:Vincennes Rivet Jr/Sr. High School
END:VEVENT
BEGIN:VEVENT
DTSTART;TZID=America/Indiana/Indianapolis:20240106T193000
DTEND;TZID=America/Indiana/Indianapolis:20240106T213000
DTSTAMP:20260421T175712
CREATED:20231103T134935Z
LAST-MODIFIED:20240107T022843Z
UID:57727-1704569400-1704576600@duggerunionschools.org
SUMMARY:Basketball (Boys V) @ Vincennes Rivet Jr/Sr. High School
DESCRIPTION:
URL:https://duggerunionschools.org/administration/event/basketball-boys-v-vincennes-rivet-jr-sr-high-school/
LOCATION:Vincennes Rivet Middle/High School
END:VEVENT
BEGIN:VEVENT
DTSTART;TZID=America/Indiana/Indianapolis:20240108T180000
DTEND;TZID=America/Indiana/Indianapolis:20240108T200000
DTSTAMP:20260421T175712
CREATED:20231103T134936Z
LAST-MODIFIED:20240109T004317Z
UID:57731-1704736800-1704744000@duggerunionschools.org
SUMMARY:Basketball (Boys 5 & 6) @ St Patricks Middle School
DESCRIPTION:
URL:https://duggerunionschools.org/administration/event/basketball-boys-5-6-st-patricks-middle-school-2/
LOCATION:St Patricks Middle School
END:VEVENT
BEGIN:VEVENT
DTSTART;TZID=America/Indiana/Indianapolis:20240108T190000
DTEND;TZID=America/Indiana/Indianapolis:20240108T210000
DTSTAMP:20260421T175713
CREATED:20231103T134936Z
LAST-MODIFIED:20240109T014319Z
UID:57730-1704740400-1704747600@duggerunionschools.org
SUMMARY:Basketball (Boys 7 & 8) @ St Patricks Middle School
DESCRIPTION:
URL:https://duggerunionschools.org/administration/event/basketball-boys-7-8-st-patricks-middle-school/
LOCATION:St Patricks Middle School
END:VEVENT
BEGIN:VEVENT
DTSTART;TZID=America/Indiana/Indianapolis:20240109T180000
DTEND;TZID=America/Indiana/Indianapolis:20240109T200000
DTSTAMP:20260421T175713
CREATED:20231103T134936Z
LAST-MODIFIED:20240110T004217Z
UID:57732-1704823200-1704830400@duggerunionschools.org
SUMMARY:Basketball (Boys JV) @ Clay City Jr/Sr. High School
DESCRIPTION:
URL:https://duggerunionschools.org/administration/event/basketball-boys-jv-clay-city-jr-sr-high-school/
LOCATION:Clay City Jr/Sr. High School
END:VEVENT
BEGIN:VEVENT
DTSTART;TZID=America/Indiana/Indianapolis:20240109T193000
DTEND;TZID=America/Indiana/Indianapolis:20240109T213000
DTSTAMP:20260421T175713
CREATED:20231103T134936Z
LAST-MODIFIED:20240110T014248Z
UID:57733-1704828600-1704835800@duggerunionschools.org
SUMMARY:Basketball (Boys V) @ Clay City Jr/Sr. High School
DESCRIPTION:
URL:https://duggerunionschools.org/administration/event/basketball-boys-v-clay-city-jr-sr-high-school-2/
LOCATION:Clay City Jr/Sr. High School
END:VEVENT
BEGIN:VEVENT
DTSTART;TZID=America/Indiana/Indianapolis:20240110T180000
DTEND;TZID=America/Indiana/Indianapolis:20240110T200000
DTSTAMP:20260421T175713
CREATED:20231103T134936Z
LAST-MODIFIED:20240110T235822Z
UID:57734-1704909600-1704916800@duggerunionschools.org
SUMMARY:Basketball (Boys 7 & 8) - Clay City
DESCRIPTION:
URL:https://duggerunionschools.org/administration/event/basketball-boys-7-8-clay-city/
LOCATION:Dugger Union Community School
END:VEVENT
BEGIN:VEVENT
DTSTART;TZID=America/Indiana/Indianapolis:20240110T180000
DTEND;TZID=America/Indiana/Indianapolis:20240110T200000
DTSTAMP:20260421T175713
CREATED:20231103T134938Z
LAST-MODIFIED:20240110T235822Z
UID:57746-1704909600-1704916800@duggerunionschools.org
SUMMARY:Basketball (Girls V) @ Greencastle
DESCRIPTION:
URL:https://duggerunionschools.org/administration/event/basketball-girls-v-greencastle/
LOCATION:Greencastle High School
END:VEVENT
BEGIN:VEVENT
DTSTART;TZID=America/Indiana/Indianapolis:20240111T180000
DTEND;TZID=America/Indiana/Indianapolis:20240111T200000
DTSTAMP:20260421T175713
CREATED:20231103T134936Z
LAST-MODIFIED:20240112T004249Z
UID:57737-1704996000-1705003200@duggerunionschools.org
SUMMARY:Basketball (Girls 5 & 6) @ Clay City Elementary School
DESCRIPTION:
URL:https://duggerunionschools.org/administration/event/basketball-girls-5-6-clay-city-elementary-school/
LOCATION:Clay City Elementary School
END:VEVENT
BEGIN:VEVENT
DTSTART;TZID=America/Indiana/Indianapolis:20240111T180000
DTEND;TZID=America/Indiana/Indianapolis:20240111T200000
DTSTAMP:20260421T175713
CREATED:20231103T134937Z
LAST-MODIFIED:20240112T004247Z
UID:57738-1704996000-1705003200@duggerunionschools.org
SUMMARY:Basketball (Boys 5 & 6) - Clay City Elementary School
DESCRIPTION:
URL:https://duggerunionschools.org/administration/event/basketball-boys-5-6-clay-city-elementary-school/
LOCATION:Dugger Union Community School
END:VEVENT
BEGIN:VEVENT
DTSTART;TZID=America/Indiana/Indianapolis:20240111T183000
DTEND;TZID=America/Indiana/Indianapolis:20240111T203000
DTSTAMP:20260421T175713
CREATED:20231103T134936Z
LAST-MODIFIED:20240112T004246Z
UID:57735-1704997800-1705005000@duggerunionschools.org
SUMMARY:Basketball (Girls V) @ RED HILL HIGH SCHOOL
DESCRIPTION:
URL:https://duggerunionschools.org/administration/event/basketball-girls-v-red-hill-high-school-2/
LOCATION:RED HILL HIGH SCHOOL
END:VEVENT
BEGIN:VEVENT
DTSTART;TZID=America/Indiana/Indianapolis:20240113T150000
DTEND;TZID=America/Indiana/Indianapolis:20240113T170000
DTSTAMP:20260421T175713
CREATED:20231103T134937Z
LAST-MODIFIED:20240113T212818Z
UID:57741-1705158000-1705165200@duggerunionschools.org
SUMMARY:Basketball (Girls V) @ Crothersville Jr-Sr High School
DESCRIPTION:
URL:https://duggerunionschools.org/administration/event/basketball-girls-v-crothersville-jr-sr-high-school/
LOCATION:Crothersville Jr-Sr High School
END:VEVENT
BEGIN:VEVENT
DTSTART;TZID=America/Indiana/Indianapolis:20240115T180000
DTEND;TZID=America/Indiana/Indianapolis:20240115T190000
DTSTAMP:20260421T175713
CREATED:20230802T001357Z
LAST-MODIFIED:20230814T135748Z
UID:48753-1705341600-1705345200@duggerunionschools.org
SUMMARY:DUCS public board meeting
DESCRIPTION:
URL:https://duggerunionschools.org/administration/event/ducs-public-board-meeting-7/
LOCATION:Cafeteria
END:VEVENT
BEGIN:VEVENT
DTSTART;TZID=America/Indiana/Indianapolis:20240115T180000
DTEND;TZID=America/Indiana/Indianapolis:20240115T190000
DTSTAMP:20260421T175713
CREATED:20230802T182820Z
LAST-MODIFIED:20230816T125836Z
UID:48857-1705341600-1705345200@duggerunionschools.org
SUMMARY:DUCS public board meeting
DESCRIPTION:
URL:https://duggerunionschools.org/administration/event/ducs-public-board-meeting-8/
LOCATION:Cafeteria
END:VEVENT
BEGIN:VEVENT
DTSTART;TZID=America/Indiana/Indianapolis:20240115T180000
DTEND;TZID=America/Indiana/Indianapolis:20240115T190000
DTSTAMP:20260421T175713
CREATED:20240102T152750Z
LAST-MODIFIED:20240115T232731Z
UID:77029-1705341600-1705345200@duggerunionschools.org
SUMMARY:DUCS public board meeting
DESCRIPTION:
URL:https://duggerunionschools.org/administration/event/ducs-public-board-meeting-11/
LOCATION:Cafeteria
END:VEVENT
BEGIN:VEVENT
DTSTART;TZID=America/Indiana/Indianapolis:20240115T183000
DTEND;TZID=America/Indiana/Indianapolis:20240115T203000
DTSTAMP:20260421T175713
CREATED:20231103T134937Z
LAST-MODIFIED:20240116T004244Z
UID:57742-1705343400-1705350600@duggerunionschools.org
SUMMARY:Basketball (Girls V) - White River Valley High School
DESCRIPTION:
URL:https://duggerunionschools.org/administration/event/basketball-girls-v-white-river-valley-high-school/
LOCATION:Dugger Union Community School
END:VEVENT
BEGIN:VEVENT
DTSTART;TZID=America/Indiana/Indianapolis:20240116T080000
DTEND;TZID=America/Indiana/Indianapolis:20240116T140000
DTSTAMP:20260421T175713
CREATED:20231230T154228Z
LAST-MODIFIED:20240116T184346Z
UID:76270-1705392000-1705413600@duggerunionschools.org
SUMMARY:Ivy Tech Dual Credit Enroll w/ Jeremy
DESCRIPTION:
URL:https://duggerunionschools.org/administration/event/ivy-tech-dual-credit-enroll-w-jeremy/
END:VEVENT
BEGIN:VEVENT
DTSTART;TZID=America/Indiana/Indianapolis:20240116T183000
DTEND;TZID=America/Indiana/Indianapolis:20240116T203000
DTSTAMP:20260421T175713
CREATED:20231103T134937Z
LAST-MODIFIED:20240117T011400Z
UID:57743-1705429800-1705437000@duggerunionschools.org
SUMMARY:Basketball (Boys 7 & 8) @ Parkview Jr High School
DESCRIPTION:
URL:https://duggerunionschools.org/administration/event/basketball-boys-7-8-parkview-jr-high-school/
LOCATION:Parkview Jr High School
END:VEVENT
BEGIN:VEVENT
DTSTART;TZID=America/Indiana/Indianapolis:20240117T183000
DTEND;TZID=America/Indiana/Indianapolis:20240117T203000
DTSTAMP:20260421T175714
CREATED:20231205T125749Z
LAST-MODIFIED:20240118T012820Z
UID:67925-1705516200-1705523400@duggerunionschools.org
SUMMARY:Basketball (Girls V) - Shoals Jr/Sr High School
DESCRIPTION:
URL:https://duggerunionschools.org/administration/event/basketball-girls-v-shoals-jr-sr-high-school-2/
LOCATION:Dugger Union Community School
END:VEVENT
BEGIN:VEVENT
DTSTART;TZID=America/Indiana/Indianapolis:20240118T180000
DTEND;TZID=America/Indiana/Indianapolis:20240118T200000
DTSTAMP:20260421T175714
CREATED:20231103T134937Z
LAST-MODIFIED:20240119T001415Z
UID:57745-1705600800-1705608000@duggerunionschools.org
SUMMARY:Basketball (Girls 5 & 6) @ Spencer Elementary School
DESCRIPTION:
URL:https://duggerunionschools.org/administration/event/basketball-girls-5-6-spencer-elementary-school-3/
LOCATION:Spencer Elementary School
END:VEVENT
BEGIN:VEVENT
DTSTART;TZID=America/Indiana/Indianapolis:20240118T190000
DTEND;TZID=America/Indiana/Indianapolis:20240118T210000
DTSTAMP:20260421T175714
CREATED:20231103T134937Z
LAST-MODIFIED:20240119T011323Z
UID:57744-1705604400-1705611600@duggerunionschools.org
SUMMARY:Basketball (Girls V) - Clay City
DESCRIPTION:
URL:https://duggerunionschools.org/administration/event/basketball-girls-v-clay-city/
LOCATION:Dugger Union Community School
END:VEVENT
BEGIN:VEVENT
DTSTART;VALUE=DATE:20240120
DTEND;VALUE=DATE:20240121
DTSTAMP:20260421T175714
CREATED:20230828T185947Z
LAST-MODIFIED:20240120T232746Z
UID:52803-1705708800-1705795199@duggerunionschools.org
SUMMARY:Winter Homecoming
DESCRIPTION:Time is approximate.  Homecoming will be between the JV and varsity basketball games.
URL:https://duggerunionschools.org/administration/event/winter-homecoming-4/
END:VEVENT
BEGIN:VEVENT
DTSTART;TZID=America/Indiana/Indianapolis:20240120T110000
DTEND;TZID=America/Indiana/Indianapolis:20240120T130000
DTSTAMP:20260421T175714
CREATED:20231103T134938Z
LAST-MODIFIED:20240120T171328Z
UID:57747-1705748400-1705755600@duggerunionschools.org
SUMMARY:Basketball (Girls V) @ Martinsville\, IL Hi School
DESCRIPTION:
URL:https://duggerunionschools.org/administration/event/basketball-girls-v-martinsville-il-hi-school/
LOCATION:Martinsville\, IL High School
END:VEVENT
END:VCALENDAR