BEGIN:VCALENDAR
VERSION:2.0
PRODID:-//Administration - ECPv6.15.15//NONSGML v1.0//EN
CALSCALE:GREGORIAN
METHOD:PUBLISH
X-WR-CALNAME:Administration
X-ORIGINAL-URL:https://duggerunionschools.org/administration
X-WR-CALDESC:Events for Administration
REFRESH-INTERVAL;VALUE=DURATION:PT1H
X-Robots-Tag:noindex
X-PUBLISHED-TTL:PT1H
BEGIN:VTIMEZONE
TZID:America/Indiana/Indianapolis
BEGIN:DAYLIGHT
TZOFFSETFROM:-0500
TZOFFSETTO:-0400
TZNAME:EDT
DTSTART:20220313T070000
END:DAYLIGHT
BEGIN:STANDARD
TZOFFSETFROM:-0400
TZOFFSETTO:-0500
TZNAME:EST
DTSTART:20221106T060000
END:STANDARD
BEGIN:DAYLIGHT
TZOFFSETFROM:-0500
TZOFFSETTO:-0400
TZNAME:EDT
DTSTART:20230312T070000
END:DAYLIGHT
BEGIN:STANDARD
TZOFFSETFROM:-0400
TZOFFSETTO:-0500
TZNAME:EST
DTSTART:20231105T060000
END:STANDARD
BEGIN:DAYLIGHT
TZOFFSETFROM:-0500
TZOFFSETTO:-0400
TZNAME:EDT
DTSTART:20240310T070000
END:DAYLIGHT
BEGIN:STANDARD
TZOFFSETFROM:-0400
TZOFFSETTO:-0500
TZNAME:EST
DTSTART:20241103T060000
END:STANDARD
END:VTIMEZONE
BEGIN:VEVENT
DTSTART;TZID=America/Indiana/Indianapolis:20231212T193000
DTEND;TZID=America/Indiana/Indianapolis:20231212T213000
DTSTAMP:20260421T122748
CREATED:20231004T004308Z
LAST-MODIFIED:20231213T014245Z
UID:56011-1702409400-1702416600@duggerunionschools.org
SUMMARY:Basketball (Boys V) @ Seven Oaks Classical School
DESCRIPTION:
URL:https://duggerunionschools.org/administration/event/basketball-boys-v-seven-oaks-classical-school-2/
LOCATION:Seven Oaks Classical School
END:VEVENT
BEGIN:VEVENT
DTSTART;VALUE=DATE:20231213
DTEND;VALUE=DATE:20231214
DTSTAMP:20260421T122748
CREATED:20231012T181247Z
LAST-MODIFIED:20231213T234243Z
UID:56444-1702425600-1702511999@duggerunionschools.org
SUMMARY:JH/HS Final Exams - Period 5
DESCRIPTION:
URL:https://duggerunionschools.org/administration/event/jh-hs-final-exams-period-5/
END:VEVENT
BEGIN:VEVENT
DTSTART;TZID=America/Indiana/Indianapolis:20231213T090000
DTEND;TZID=America/Indiana/Indianapolis:20231213T100000
DTSTAMP:20260421T122748
CREATED:20230807T184222Z
LAST-MODIFIED:20231213T145746Z
UID:49548-1702458000-1702461600@duggerunionschools.org
SUMMARY:K-12 Christmas program
DESCRIPTION:
URL:https://duggerunionschools.org/administration/event/k-12-christmas-program-4/
END:VEVENT
BEGIN:VEVENT
DTSTART;TZID=America/Indiana/Indianapolis:20231213T180000
DTEND;TZID=America/Indiana/Indianapolis:20231213T190000
DTSTAMP:20260421T122748
CREATED:20230807T184222Z
LAST-MODIFIED:20231213T234244Z
UID:49549-1702490400-1702494000@duggerunionschools.org
SUMMARY:K-12 Christmas program
DESCRIPTION:
URL:https://duggerunionschools.org/administration/event/k-12-christmas-program-5/
END:VEVENT
BEGIN:VEVENT
DTSTART;VALUE=DATE:20231214
DTEND;VALUE=DATE:20231215
DTSTAMP:20260421T122748
CREATED:20231012T181247Z
LAST-MODIFIED:20231214T235805Z
UID:56443-1702512000-1702598399@duggerunionschools.org
SUMMARY:JH/HS Final Exams - Periods 6-9
DESCRIPTION:
URL:https://duggerunionschools.org/administration/event/jh-hs-final-exams-periods-6-9/
END:VEVENT
BEGIN:VEVENT
DTSTART;TZID=America/Indiana/Indianapolis:20231214T150000
DTEND;TZID=America/Indiana/Indianapolis:20231214T170000
DTSTAMP:20260421T122748
CREATED:20230907T151530Z
LAST-MODIFIED:20231214T215743Z
UID:54116-1702566000-1702573200@duggerunionschools.org
SUMMARY:Junior Dance Camp practice
DESCRIPTION:
URL:https://duggerunionschools.org/administration/event/junior-dance-camp-practice-2/
END:VEVENT
BEGIN:VEVENT
DTSTART;TZID=America/Indiana/Indianapolis:20231214T180000
DTEND;TZID=America/Indiana/Indianapolis:20231214T200000
DTSTAMP:20260421T122748
CREATED:20231005T024240Z
LAST-MODIFIED:20231215T001329Z
UID:56072-1702576800-1702584000@duggerunionschools.org
SUMMARY:Basketball (Girls 5 & 6) @ Washington Catholic Middle and High School
DESCRIPTION:
URL:https://duggerunionschools.org/administration/event/basketball-girls-5-6-washington-catholic-middle-and-high-school/
LOCATION:Washington Catholic Middle and High School
END:VEVENT
BEGIN:VEVENT
DTSTART;TZID=America/Indiana/Indianapolis:20231214T183000
DTEND;TZID=America/Indiana/Indianapolis:20231214T203000
DTSTAMP:20260421T122749
CREATED:20231005T014242Z
LAST-MODIFIED:20231215T011327Z
UID:56065-1702578600-1702585800@duggerunionschools.org
SUMMARY:CANCELED - Basketball (Boys 5 & 6) @ Springville Community Academy
DESCRIPTION:
URL:https://duggerunionschools.org/administration/event/basketball-boys-5-6-springville-community-academy/
LOCATION:Springville Community Academy
END:VEVENT
BEGIN:VEVENT
DTSTART;TZID=America/Indiana/Indianapolis:20231214T190000
DTEND;TZID=America/Indiana/Indianapolis:20231214T210000
DTSTAMP:20260421T122749
CREATED:20231005T002819Z
LAST-MODIFIED:20231215T011327Z
UID:56061-1702580400-1702587600@duggerunionschools.org
SUMMARY:Basketball (Girls 7 & 8) @ Washington Catholic Middle and High School
DESCRIPTION:
URL:https://duggerunionschools.org/administration/event/basketball-girls-7-8-washington-catholic-middle-and-high-school/
LOCATION:Washington Catholic Middle and High School
END:VEVENT
BEGIN:VEVENT
DTSTART;VALUE=DATE:20231215
DTEND;VALUE=DATE:20231216
DTSTAMP:20260421T122749
CREATED:20230730T232721Z
LAST-MODIFIED:20231215T234235Z
UID:48345-1702598400-1702684799@duggerunionschools.org
SUMMARY:Last Day of 1st Semester/2nd Nine Week Grading Period
DESCRIPTION:
URL:https://duggerunionschools.org/administration/event/last-day-of-1st-semester-2nd-nine-week-grading-period/
END:VEVENT
BEGIN:VEVENT
DTSTART;VALUE=DATE:20231215
DTEND;VALUE=DATE:20231216
DTSTAMP:20260421T122749
CREATED:20231012T181247Z
LAST-MODIFIED:20231215T234235Z
UID:56445-1702598400-1702684799@duggerunionschools.org
SUMMARY:JH/HS Final Exams - Periods 2-4
DESCRIPTION:
URL:https://duggerunionschools.org/administration/event/jh-hs-final-exams-periods-2-4/
END:VEVENT
BEGIN:VEVENT
DTSTART;TZID=America/Indiana/Indianapolis:20231215T180000
DTEND;TZID=America/Indiana/Indianapolis:20231215T193000
DTSTAMP:20260421T122749
CREATED:20231007T014728Z
LAST-MODIFIED:20231215T234246Z
UID:56175-1702663200-1702668600@duggerunionschools.org
SUMMARY:Basketball (Boys JV) - Riverton Parke Jr-Sr High School
DESCRIPTION:
URL:https://duggerunionschools.org/administration/event/basketball-boys-jv-riverton-parke-jr-sr-high-school/
LOCATION:Union (Dugger)
END:VEVENT
BEGIN:VEVENT
DTSTART;TZID=America/Indiana/Indianapolis:20231215T184500
DTEND;TZID=America/Indiana/Indianapolis:20231215T194500
DTSTAMP:20260421T122749
CREATED:20230907T151530Z
LAST-MODIFIED:20231216T002734Z
UID:54117-1702665900-1702669500@duggerunionschools.org
SUMMARY:Junior Dance Camp performance
DESCRIPTION:
URL:https://duggerunionschools.org/administration/event/junior-dance-camp-performance/
END:VEVENT
BEGIN:VEVENT
DTSTART;TZID=America/Indiana/Indianapolis:20231215T193000
DTEND;TZID=America/Indiana/Indianapolis:20231215T213000
DTSTAMP:20260421T122749
CREATED:20231007T003221Z
LAST-MODIFIED:20231216T014310Z
UID:56171-1702668600-1702675800@duggerunionschools.org
SUMMARY:Basketball (Boys V) - Riverton Parke Jr-Sr High School
DESCRIPTION:
URL:https://duggerunionschools.org/administration/event/basketball-boys-v-riverton-parke-jr-sr-high-school/
LOCATION:Dugger Union Community School
END:VEVENT
BEGIN:VEVENT
DTSTART;TZID=America/Indiana/Indianapolis:20231216T100000
DTEND;TZID=America/Indiana/Indianapolis:20231216T120000
DTSTAMP:20260421T122749
CREATED:20231007T213020Z
LAST-MODIFIED:20231216T165734Z
UID:56214-1702720800-1702728000@duggerunionschools.org
SUMMARY:Basketball (Girls 7 & 8) @ White River Valley-Lyons
DESCRIPTION:
URL:https://duggerunionschools.org/administration/event/basketball-girls-7-8-white-river-valley-lyons/
LOCATION:White River Valley-Lyons
END:VEVENT
BEGIN:VEVENT
DTSTART;TZID=America/Indiana/Indianapolis:20231216T100000
DTEND;TZID=America/Indiana/Indianapolis:20231216T130000
DTSTAMP:20260421T122749
CREATED:20231110T124254Z
LAST-MODIFIED:20231216T174242Z
UID:60010-1702720800-1702731600@duggerunionschools.org
SUMMARY:Pictures with Santa
DESCRIPTION:
URL:https://duggerunionschools.org/administration/event/pictures-with-santa/
LOCATION:New gym
END:VEVENT
BEGIN:VEVENT
DTSTART;TZID=America/Indiana/Indianapolis:20231216T183000
DTEND;TZID=America/Indiana/Indianapolis:20231216T203000
DTSTAMP:20260421T122749
CREATED:20231014T125518Z
LAST-MODIFIED:20231217T005745Z
UID:56537-1702751400-1702758600@duggerunionschools.org
SUMMARY:Basketball (Boys JV) @ Tecumseh
DESCRIPTION:
URL:https://duggerunionschools.org/administration/event/basketball-boys-jv-tecumseh/
LOCATION:Tecumseh Middle/High School
END:VEVENT
BEGIN:VEVENT
DTSTART;TZID=America/Indiana/Indianapolis:20231216T190000
DTEND;TZID=America/Indiana/Indianapolis:20231216T210000
DTSTAMP:20260421T122750
CREATED:20231011T001235Z
LAST-MODIFIED:20231217T015850Z
UID:56364-1702753200-1702760400@duggerunionschools.org
SUMMARY:Basketball (Boys V) @ Tecumseh Jr/Sr. High School
DESCRIPTION:
URL:https://duggerunionschools.org/administration/event/basketball-boys-v-tecumseh-jr-sr-high-school-2/
LOCATION:Tecumseh Jr/Sr. High School
END:VEVENT
BEGIN:VEVENT
DTSTART;VALUE=DATE:20231218
DTEND;VALUE=DATE:20231219
DTSTAMP:20260421T122750
CREATED:20230730T232722Z
LAST-MODIFIED:20231218T232732Z
UID:48347-1702857600-1702943999@duggerunionschools.org
SUMMARY:Christmas Break - No School
DESCRIPTION:
URL:https://duggerunionschools.org/administration/event/christmas-break-no-school-6/
END:VEVENT
BEGIN:VEVENT
DTSTART;TZID=America/Indiana/Indianapolis:20231218T180000
DTEND;TZID=America/Indiana/Indianapolis:20231218T200000
DTSTAMP:20260421T122750
CREATED:20231015T005750Z
LAST-MODIFIED:20231219T002814Z
UID:56563-1702922400-1702929600@duggerunionschools.org
SUMMARY:Basketball (Girls 7 & 8) @ Sullivan Jr. High School
DESCRIPTION:
URL:https://duggerunionschools.org/administration/event/basketball-girls-7-8-sullivan-jr-high-school/
LOCATION:Sullivan Jr. High School
END:VEVENT
BEGIN:VEVENT
DTSTART;TZID=America/Indiana/Indianapolis:20231218T180000
DTEND;TZID=America/Indiana/Indianapolis:20231218T200000
DTSTAMP:20260421T122750
CREATED:20231022T004557Z
LAST-MODIFIED:20231219T002813Z
UID:56881-1702922400-1702929600@duggerunionschools.org
SUMMARY:Basketball (Boys 7 & 8) - North Central HS-Farmersburg
DESCRIPTION:
URL:https://duggerunionschools.org/administration/event/basketball-boys-7-8-north-central-hs-farmersburg/
LOCATION:Dugger Union Community School
END:VEVENT
BEGIN:VEVENT
DTSTART;VALUE=DATE:20231219
DTEND;VALUE=DATE:20231220
DTSTAMP:20260421T122750
CREATED:20230730T232722Z
LAST-MODIFIED:20231220T002724Z
UID:48346-1702944000-1703030399@duggerunionschools.org
SUMMARY:Christmas Break - No School
DESCRIPTION:
URL:https://duggerunionschools.org/administration/event/christmas-break-no-school-5/
END:VEVENT
BEGIN:VEVENT
DTSTART;TZID=America/Indiana/Indianapolis:20231219T140000
DTEND;TZID=America/Indiana/Indianapolis:20231219T160000
DTSTAMP:20260421T122750
CREATED:20231103T134935Z
LAST-MODIFIED:20231129T085902Z
UID:57715-1702994400-1703001600@duggerunionschools.org
SUMMARY:Basketball (Girls V) @ Henryville Jr & Sr High School
DESCRIPTION:
URL:https://duggerunionschools.org/administration/event/basketball-girls-v-henryville-jr-sr-high-school/
LOCATION:Henryville Jr & Sr High School
END:VEVENT
BEGIN:VEVENT
DTSTART;TZID=America/Indiana/Indianapolis:20231219T170000
DTEND;TZID=America/Indiana/Indianapolis:20231219T190000
DTSTAMP:20260421T122750
CREATED:20231129T095740Z
LAST-MODIFIED:20231219T224351Z
UID:65592-1703005200-1703012400@duggerunionschools.org
SUMMARY:Basketball (Girls V) @ Henryville Jr & Sr High School
DESCRIPTION:
URL:https://duggerunionschools.org/administration/event/basketball-girls-v-henryville-jr-sr-high-school-2/
LOCATION:Henryville Jr & Sr High School
END:VEVENT
BEGIN:VEVENT
DTSTART;VALUE=DATE:20231220
DTEND;VALUE=DATE:20231221
DTSTAMP:20260421T122750
CREATED:20230730T232722Z
LAST-MODIFIED:20231220T234237Z
UID:48350-1703030400-1703116799@duggerunionschools.org
SUMMARY:Christmas Break - No School
DESCRIPTION:
URL:https://duggerunionschools.org/administration/event/christmas-break-no-school-9/
END:VEVENT
BEGIN:VEVENT
DTSTART;TZID=America/Indiana/Indianapolis:20231220T180000
DTEND;TZID=America/Indiana/Indianapolis:20231220T200000
DTSTAMP:20260421T122750
CREATED:20231208T014247Z
LAST-MODIFIED:20231221T005822Z
UID:69053-1703095200-1703102400@duggerunionschools.org
SUMMARY:Basketball (Boys JV) - North Central HS-Farmersburg
DESCRIPTION:
URL:https://duggerunionschools.org/administration/event/basketball-boys-jv-north-central-hs-farmersburg/
LOCATION:Dugger Union Community School
END:VEVENT
BEGIN:VEVENT
DTSTART;TZID=America/Indiana/Indianapolis:20231220T193000
DTEND;TZID=America/Indiana/Indianapolis:20231220T213000
DTSTAMP:20260421T122750
CREATED:20231103T134935Z
LAST-MODIFIED:20231221T021234Z
UID:57716-1703100600-1703107800@duggerunionschools.org
SUMMARY:Basketball (Boys V) - North Central HS-Farmersburg
DESCRIPTION:
URL:https://duggerunionschools.org/administration/event/basketball-boys-v-north-central-hs-farmersburg/
LOCATION:Dugger Union Community School
END:VEVENT
BEGIN:VEVENT
DTSTART;VALUE=DATE:20231221
DTEND;VALUE=DATE:20231222
DTSTAMP:20260421T122750
CREATED:20230730T232722Z
LAST-MODIFIED:20231221T235733Z
UID:48349-1703116800-1703203199@duggerunionschools.org
SUMMARY:Christmas Break - No School
DESCRIPTION:
URL:https://duggerunionschools.org/administration/event/christmas-break-no-school-8/
END:VEVENT
BEGIN:VEVENT
DTSTART;VALUE=DATE:20231222
DTEND;VALUE=DATE:20231223
DTSTAMP:20260421T122750
CREATED:20230730T232722Z
LAST-MODIFIED:20231222T234230Z
UID:48348-1703203200-1703289599@duggerunionschools.org
SUMMARY:Christmas Break - No School
DESCRIPTION:
URL:https://duggerunionschools.org/administration/event/christmas-break-no-school-7/
END:VEVENT
BEGIN:VEVENT
DTSTART;VALUE=DATE:20231225
DTEND;VALUE=DATE:20231226
DTSTAMP:20260421T122750
CREATED:20230730T232722Z
LAST-MODIFIED:20231225T234218Z
UID:48351-1703462400-1703548799@duggerunionschools.org
SUMMARY:Christmas Break - No School
DESCRIPTION:
URL:https://duggerunionschools.org/administration/event/christmas-break-no-school-10/
END:VEVENT
END:VCALENDAR