BEGIN:VCALENDAR
VERSION:2.0
PRODID:-//Administration - ECPv6.15.15//NONSGML v1.0//EN
CALSCALE:GREGORIAN
METHOD:PUBLISH
X-WR-CALNAME:Administration
X-ORIGINAL-URL:https://duggerunionschools.org/administration
X-WR-CALDESC:Events for Administration
REFRESH-INTERVAL;VALUE=DURATION:PT1H
X-Robots-Tag:noindex
X-PUBLISHED-TTL:PT1H
BEGIN:VTIMEZONE
TZID:America/Indiana/Indianapolis
BEGIN:DAYLIGHT
TZOFFSETFROM:-0500
TZOFFSETTO:-0400
TZNAME:EDT
DTSTART:20240310T070000
END:DAYLIGHT
BEGIN:STANDARD
TZOFFSETFROM:-0400
TZOFFSETTO:-0500
TZNAME:EST
DTSTART:20241103T060000
END:STANDARD
BEGIN:DAYLIGHT
TZOFFSETFROM:-0500
TZOFFSETTO:-0400
TZNAME:EDT
DTSTART:20250309T070000
END:DAYLIGHT
BEGIN:STANDARD
TZOFFSETFROM:-0400
TZOFFSETTO:-0500
TZNAME:EST
DTSTART:20251102T060000
END:STANDARD
BEGIN:DAYLIGHT
TZOFFSETFROM:-0500
TZOFFSETTO:-0400
TZNAME:EDT
DTSTART:20260308T070000
END:DAYLIGHT
BEGIN:STANDARD
TZOFFSETFROM:-0400
TZOFFSETTO:-0500
TZNAME:EST
DTSTART:20261101T060000
END:STANDARD
END:VTIMEZONE
BEGIN:VEVENT
DTSTART;TZID=America/Indiana/Indianapolis:20250204T193000
DTEND;TZID=America/Indiana/Indianapolis:20250204T213000
DTSTAMP:20260419T081511
CREATED:20250203T071253Z
LAST-MODIFIED:20250205T015720Z
UID:138404-1738697400-1738704600@duggerunionschools.org
SUMMARY:Basketball (Girls V) @ Sectional vs Cloverdale
DESCRIPTION:Start Time: 7:30 PM\nEnd Time: 9:30 PM\nSport: Basketball\nGender: Girls\nLevel: Varsity\nLocation: Clay City Jr/Sr. High School
URL:https://duggerunionschools.org/administration/event/basketball-girls-v-sectional-vs-cloverdale/
LOCATION:Clay City Jr/Sr. High School
END:VEVENT
BEGIN:VEVENT
DTSTART;TZID=America/Indiana/Indianapolis:20250204T180000
DTEND;TZID=America/Indiana/Indianapolis:20250204T200000
DTSTAMP:20260419T081511
CREATED:20240205T161331Z
LAST-MODIFIED:20250205T004235Z
UID:85198-1738692000-1738699200@duggerunionschools.org
SUMMARY:Basketball (Girls 5 & 6) @ Carlisle Elementary/Jr. High
DESCRIPTION:Start Time: 6:00 PM\nEnd Time: 8:00 PM\nSport: Basketball\nGender: Girls\nLevel: 5th Grade\nLocation: Carlisle Elementary/Jr. High\nOpponent(s): Carlisle Elementary/Jr. High
URL:https://duggerunionschools.org/administration/event/basketball-girls-5-6-carlisle-elementary-jr-high-3/
LOCATION:Carlisle Elementary/Jr. High
END:VEVENT
BEGIN:VEVENT
DTSTART;TZID=America/Indiana/Indianapolis:20250203T180000
DTEND;TZID=America/Indiana/Indianapolis:20250203T200000
DTSTAMP:20260419T081511
CREATED:20240205T161331Z
LAST-MODIFIED:20250204T004238Z
UID:85197-1738605600-1738612800@duggerunionschools.org
SUMMARY:Basketball (Boys 5 & 6) @ Sullivan Elementary
DESCRIPTION:Start Time: 6:00 PM\nEnd Time: 8:00 PM\nSport: Basketball\nGender: Boys\nLevel: 6th Grade\nLocation: Sullivan Elementary\nOpponent(s): Sullivan Elementary
URL:https://duggerunionschools.org/administration/event/basketball-boys-5-6-sullivan-elementary-2/
LOCATION:Sullivan Elementary
END:VEVENT
BEGIN:VEVENT
DTSTART;TZID=America/Indiana/Indianapolis:20250201T190000
DTEND;TZID=America/Indiana/Indianapolis:20250201T210000
DTSTAMP:20260419T081511
CREATED:20240402T094356Z
LAST-MODIFIED:20250202T011657Z
UID:95601-1738436400-1738443600@duggerunionschools.org
SUMMARY:Basketball (Boys V) @ Vincennes Rivet Jr/Sr. High School
DESCRIPTION:Start Time: 7:00 PM\nEnd Time: 9:00 PM\nSport: Basketball\nGender: Boys\nLevel: Varsity\nLocation: Vincennes Rivet Jr/Sr. High School\nOpponent(s): Vincennes Rivet Jr/Sr. High School
URL:https://duggerunionschools.org/administration/event/basketball-boys-v-vincennes-rivet-jr-sr-high-school-2/
LOCATION:Vincennes Rivet Jr/Sr. High School
END:VEVENT
BEGIN:VEVENT
DTSTART;TZID=America/Indiana/Indianapolis:20250201T180000
DTEND;TZID=America/Indiana/Indianapolis:20250201T200000
DTSTAMP:20260419T081511
CREATED:20240112T035823Z
LAST-MODIFIED:20250201T235806Z
UID:79745-1738432800-1738440000@duggerunionschools.org
SUMMARY:Basketball (Boys JV) @ Vincennes Rivet Jr/Sr. High School
DESCRIPTION:Start Time: 6:00 PM\nEnd Time: 8:00 PM\nSport: Basketball\nGender: Boys\nLevel: Junior Varsity\nOpponent(s): Vincennes Rivet Jr/Sr. High School
URL:https://duggerunionschools.org/administration/event/basketball-boys-jv/
END:VEVENT
BEGIN:VEVENT
DTSTART;TZID=America/Indiana/Indianapolis:20250201T143000
DTEND;TZID=America/Indiana/Indianapolis:20250201T163000
DTSTAMP:20260419T081512
CREATED:20240307T054339Z
LAST-MODIFIED:20250201T203106Z
UID:92162-1738420200-1738427400@duggerunionschools.org
SUMMARY:Basketball (Girls V) @ LOVC tournament
DESCRIPTION:Start Time: 2:30 PM\nEnd Time: 4:30 PM\nSport: Basketball\nGender: Girls\nLevel: Varsity\nLocation: RED HILL HIGH SCHOOL
URL:https://duggerunionschools.org/administration/event/basketball-girls-v-lovc-tournament-2/
LOCATION:RED HILL HIGH SCHOOL
END:VEVENT
BEGIN:VEVENT
DTSTART;TZID=America/Indiana/Indianapolis:20250201T070000
DTEND;TZID=America/Indiana/Indianapolis:20250201T090000
DTSTAMP:20260419T081512
CREATED:20250117T151555Z
LAST-MODIFIED:20250201T131632Z
UID:134890-1738393200-1738400400@duggerunionschools.org
SUMMARY:Archery - Tournament
DESCRIPTION:Start Time: 7:00 AM\nEnd Time: 9:00 AM\nSport: Archery\nGender: Coed\nLevel: High School\nLocation: Dugger Union Community School
URL:https://duggerunionschools.org/administration/event/archery-tournament-4/
LOCATION:Dugger Union Community School
END:VEVENT
BEGIN:VEVENT
DTSTART;TZID=America/Indiana/Indianapolis:20250131T183000
DTEND;TZID=America/Indiana/Indianapolis:20250131T203000
DTSTAMP:20260419T081512
CREATED:20240202T025820Z
LAST-MODIFIED:20250201T004308Z
UID:84955-1738348200-1738355400@duggerunionschools.org
SUMMARY:CANCELED - Basketball (Girls V) - Medora
DESCRIPTION:Start Time: 6:30 PM\nEnd Time: 8:30 PM\nSport: Basketball\nGender: Girls\nLevel: Varsity\nLocation: Dugger Union Community School\nOpponent(s): Medora Junior/Senior High School
URL:https://duggerunionschools.org/administration/event/basketball-girls-v-medora-2/
LOCATION:Dugger Union Community School
END:VEVENT
BEGIN:VEVENT
DTSTART;TZID=America/Indiana/Indianapolis:20250131T150000
DTEND;TZID=America/Indiana/Indianapolis:20250131T170000
DTSTAMP:20260419T081512
CREATED:20250117T151555Z
LAST-MODIFIED:20250131T210106Z
UID:134888-1738335600-1738342800@duggerunionschools.org
SUMMARY:Archery - Tournament
DESCRIPTION:Start Time: 3:00 PM\nEnd Time: 5:00 PM\nSport: Archery\nGender: Coed\nLevel: High School\nLocation: Dugger Union Community School
URL:https://duggerunionschools.org/administration/event/archery-tournament-3/
LOCATION:Dugger Union Community School
END:VEVENT
BEGIN:VEVENT
DTSTART;TZID=America/Indiana/Indianapolis:20250130T190000
DTEND;TZID=America/Indiana/Indianapolis:20250130T210000
DTSTAMP:20260419T081512
CREATED:20240201T074316Z
LAST-MODIFIED:20250131T010149Z
UID:84896-1738263600-1738270800@duggerunionschools.org
SUMMARY:Basketball (Girls 7 & 8) - St Patricks Middle School
DESCRIPTION:Start Time: 7:00 PM\nEnd Time: 9:00 PM\nSport: Basketball\nGender: Girls\nLevel: 7th Grade\nLocation: Dugger Union Community School\nOpponent(s): St Patricks Middle School
URL:https://duggerunionschools.org/administration/event/basketball-girls-7-8-st-patricks-middle-school-2/
LOCATION:Dugger Union Community School
END:VEVENT
BEGIN:VEVENT
DTSTART;TZID=America/Indiana/Indianapolis:20250130T180000
DTEND;TZID=America/Indiana/Indianapolis:20250130T200000
DTSTAMP:20260419T081512
CREATED:20240201T074316Z
LAST-MODIFIED:20250131T010145Z
UID:84894-1738260000-1738267200@duggerunionschools.org
SUMMARY:Basketball (Girls 5 & 6) - St Patricks Middle School
DESCRIPTION:Start Time: 6:00 PM\nEnd Time: 8:00 PM\nSport: Basketball\nGender: Girls\nLevel: 5th Grade\nLocation: Dugger Union Community School\nOpponent(s): St Patricks Middle School
URL:https://duggerunionschools.org/administration/event/basketball-girls-5-6-st-patricks-middle-school-3/
LOCATION:Dugger Union Community School
END:VEVENT
BEGIN:VEVENT
DTSTART;TZID=America/Indiana/Indianapolis:20250130T180000
DTEND;TZID=America/Indiana/Indianapolis:20250130T200000
DTSTAMP:20260419T081512
CREATED:20240201T074316Z
LAST-MODIFIED:20250131T010140Z
UID:84895-1738260000-1738267200@duggerunionschools.org
SUMMARY:Basketball (Boys 7 & 8) @ Carlisle Elementary/Jr. High
DESCRIPTION:Start Time: 6:00 PM\nEnd Time: 8:00 PM\nSport: Basketball\nGender: Boys\nLevel: 7th Grade\nLocation: Carlisle Elementary/Jr. High\nOpponent(s): Carlisle Elementary/Jr. High
URL:https://duggerunionschools.org/administration/event/basketball-boys-7-8-carlisle-elementary-jr-high-5/
LOCATION:Carlisle Elementary/Jr. High
END:VEVENT
BEGIN:VEVENT
DTSTART;TZID=America/Indiana/Indianapolis:20250130T170000
DTEND;TZID=America/Indiana/Indianapolis:20250130T190000
DTSTAMP:20260419T081512
CREATED:20240529T201227Z
LAST-MODIFIED:20250130T234229Z
UID:102719-1738256400-1738263600@duggerunionschools.org
SUMMARY:FAFSA Night
DESCRIPTION:
URL:https://duggerunionschools.org/administration/event/fafsa-night-7/
LOCATION:Cafeteria
END:VEVENT
BEGIN:VEVENT
DTSTART;TZID=America/Indiana/Indianapolis:20250129T190000
DTEND;TZID=America/Indiana/Indianapolis:20250129T210000
DTSTAMP:20260419T081512
CREATED:20240131T082831Z
LAST-MODIFIED:20250130T011645Z
UID:84821-1738177200-1738184400@duggerunionschools.org
SUMMARY:Basketball (Boys 7 & 8) - Washington Catholic Middle and High School
DESCRIPTION:Start Time: 7:00 PM\nEnd Time: 9:00 PM\nSport: Basketball\nGender: Boys\nLevel: 7th Grade\nLocation: Dugger Union Community School\nOpponent(s): Washington Catholic Middle and High School
URL:https://duggerunionschools.org/administration/event/basketball-boys-7-8-washington-catholic-middle-and-high-school-2/
LOCATION:Dugger Union Community School
END:VEVENT
BEGIN:VEVENT
DTSTART;TZID=America/Indiana/Indianapolis:20250129T183000
DTEND;TZID=America/Indiana/Indianapolis:20250129T203000
DTSTAMP:20260419T081512
CREATED:20240307T054338Z
LAST-MODIFIED:20250130T011641Z
UID:92161-1738175400-1738182600@duggerunionschools.org
SUMMARY:Basketball (Girls V) @ OPH
DESCRIPTION:Start Time: 6:30 PM\nEnd Time: 8:30 PM\nSport: Basketball\nGender: Girls\nLevel: Varsity\nLocation: Palestine High School\nOpponent(s): Palestine High School
URL:https://duggerunionschools.org/administration/event/basketball-girls-v-oph-2/
LOCATION:Palestine High School
END:VEVENT
BEGIN:VEVENT
DTSTART;TZID=America/Indiana/Indianapolis:20250129T180000
DTEND;TZID=America/Indiana/Indianapolis:20250129T200000
DTSTAMP:20260419T081512
CREATED:20240131T082831Z
LAST-MODIFIED:20250130T000134Z
UID:84822-1738173600-1738180800@duggerunionschools.org
SUMMARY:Basketball (Boys 5 & 6) - Washington Catholic Middle and High School
DESCRIPTION:Start Time: 6:00 PM\nEnd Time: 8:00 PM\nSport: Basketball\nGender: Boys\nLevel: 6th Grade\nLocation: Dugger Union Community School\nOpponent(s): Dugger Union Community School
URL:https://duggerunionschools.org/administration/event/basketball-boys-5-6-washington-catholic-middle-and-high-school-2/
LOCATION:Dugger Union Community School
END:VEVENT
BEGIN:VEVENT
DTSTART;VALUE=DATE:20250129
DTEND;VALUE=DATE:20250131
DTSTAMP:20260419T081512
CREATED:20240820T204230Z
LAST-MODIFIED:20250130T234232Z
UID:113989-1738108800-1738281599@duggerunionschools.org
SUMMARY:WIDA testing - various grades
DESCRIPTION:
URL:https://duggerunionschools.org/administration/event/wida-testing-various-grades/
END:VEVENT
BEGIN:VEVENT
DTSTART;TZID=America/Indiana/Indianapolis:20250128T193000
DTEND;TZID=America/Indiana/Indianapolis:20250128T213000
DTSTAMP:20260419T081512
CREATED:20240524T154358Z
LAST-MODIFIED:20250129T014634Z
UID:102003-1738092600-1738099800@duggerunionschools.org
SUMMARY:Basketball (Boys V) - Lighthouse Christian Academy - Bloomington
DESCRIPTION:Start Time: 7:30 PM\nEnd Time: 9:30 PM\nSport: Basketball\nGender: Boys\nLevel: Varsity\nLocation: Dugger Union Community School\nOpponent(s): Lighthouse Christian Academy – Bloomington
URL:https://duggerunionschools.org/administration/event/basketball-boys-v-lighthouse-christian-academy-bloomington-3/
LOCATION:Dugger Union Community School
END:VEVENT
BEGIN:VEVENT
DTSTART;TZID=America/Indiana/Indianapolis:20250128T180000
DTEND;TZID=America/Indiana/Indianapolis:20250128T200000
DTSTAMP:20260419T081512
CREATED:20240724T202930Z
LAST-MODIFIED:20250129T003118Z
UID:110510-1738087200-1738094400@duggerunionschools.org
SUMMARY:Basketball (Boys JV) - Lighthouse Christian Academy - Bloomington
DESCRIPTION:Start Time: 6:00 PM\nEnd Time: 8:00 PM\nSport: Basketball\nGender: Boys\nLevel: Junior Varsity\nLocation: Dugger Union Community School\nOpponent(s): Lighthouse Christian Academy – Bloomington
URL:https://duggerunionschools.org/administration/event/basketball-boys-jv-lighthouse-christian-academy-bloomington-2/
LOCATION:Dugger Union Community School
END:VEVENT
BEGIN:VEVENT
DTSTART;TZID=America/Indiana/Indianapolis:20250128T180000
DTEND;TZID=America/Indiana/Indianapolis:20250128T200000
DTSTAMP:20260419T081512
CREATED:20240717T045922Z
LAST-MODIFIED:20250129T003115Z
UID:109350-1738087200-1738094400@duggerunionschools.org
SUMMARY:Basketball (Girls 5 & 6) @ Carlisle Elementary/Jr. High
DESCRIPTION:Start Time: 6:00 PM\nEnd Time: 8:00 PM\nSport: Basketball\nGender: Girls\nLevel: 5th Grade\nLocation: Carlisle Elementary/Jr. High\nOpponent(s): Carlisle Elementary/Jr. High
URL:https://duggerunionschools.org/administration/event/basketball-girls-5-6-carlisle-elementary-jr-high-4/
LOCATION:Carlisle Elementary/Jr. High
END:VEVENT
BEGIN:VEVENT
DTSTART;TZID=America/Indiana/Indianapolis:20250128T115000
DTEND;TZID=America/Indiana/Indianapolis:20250128T132000
DTSTAMP:20260419T081512
CREATED:20250113T172731Z
LAST-MODIFIED:20250128T181220Z
UID:134340-1738065000-1738070400@duggerunionschools.org
SUMMARY:Marine recruiter - JH/HS lunch time
DESCRIPTION:
URL:https://duggerunionschools.org/administration/event/marine-recruiter-jh-hs-lunch-time/
END:VEVENT
BEGIN:VEVENT
DTSTART;TZID=America/Indiana/Indianapolis:20250127T183000
DTEND;TZID=America/Indiana/Indianapolis:20250127T203000
DTSTAMP:20260419T081512
CREATED:20240307T054341Z
LAST-MODIFIED:20250128T004619Z
UID:92164-1738002600-1738009800@duggerunionschools.org
SUMMARY:Basketball (Girls V) @ Shoals Jr/Sr High School
DESCRIPTION:Start Time: 6:30 PM\nEnd Time: 8:30 PM\nSport: Basketball\nGender: Girls\nLevel: Varsity\nLocation: Shoals Jr/Sr High School\nOpponent(s): Shoals Jr/Sr High School
URL:https://duggerunionschools.org/administration/event/basketball-girls-v-shoals-jr-sr-high-school-3/
LOCATION:Shoals Jr/Sr High School
END:VEVENT
BEGIN:VEVENT
DTSTART;TZID=America/Indiana/Indianapolis:20250127T180000
DTEND;TZID=America/Indiana/Indianapolis:20250127T200000
DTSTAMP:20260419T081512
CREATED:20240129T142819Z
LAST-MODIFIED:20250128T004616Z
UID:84488-1738000800-1738008000@duggerunionschools.org
SUMMARY:Basketball (Girls 7 & 8) @ Clay City
DESCRIPTION:Start Time: 6:00 PM\nEnd Time: 8:00 PM\nSport: Basketball\nGender: Girls\nLevel: 7th Grade\nLocation: Clay City Jr/Sr. High School\nOpponent(s): Clay City Jr/Sr. High School
URL:https://duggerunionschools.org/administration/event/basketball-girls-7-8-clay-city-2/
LOCATION:Clay City Jr/Sr. High School
END:VEVENT
BEGIN:VEVENT
DTSTART;TZID=America/Indiana/Indianapolis:20250125T193000
DTEND;TZID=America/Indiana/Indianapolis:20250125T213000
DTSTAMP:20260419T081512
CREATED:20240309T005833Z
LAST-MODIFIED:20250126T013221Z
UID:92433-1737833400-1737840600@duggerunionschools.org
SUMMARY:Basketball (Boys V) @ South Putnam High School
DESCRIPTION:Start Time: 7:30 PM\nEnd Time: 9:30 PM\nSport: Basketball\nGender: Boys\nLevel: Varsity\nLocation: South Putnam High School\nOpponent(s): Dugger Union Community School
URL:https://duggerunionschools.org/administration/event/basketball-boys-v-south-putnam-high-school-2/
LOCATION:South Putnam High School
END:VEVENT
BEGIN:VEVENT
DTSTART;TZID=America/Indiana/Indianapolis:20250125T180000
DTEND;TZID=America/Indiana/Indianapolis:20250125T200000
DTSTAMP:20260419T081512
CREATED:20240724T202929Z
LAST-MODIFIED:20250126T001627Z
UID:110509-1737828000-1737835200@duggerunionschools.org
SUMMARY:Basketball (Boys JV) @ South Putnam High School
DESCRIPTION:Start Time: 6:00 PM\nEnd Time: 8:00 PM\nSport: Basketball\nGender: Boys\nLevel: Junior Varsity\nLocation: South Putnam High School\nOpponent(s): South Putnam High School
URL:https://duggerunionschools.org/administration/event/basketball-boys-jv-south-putnam-high-school-2/
LOCATION:South Putnam High School
END:VEVENT
BEGIN:VEVENT
DTSTART;TZID=America/Indiana/Indianapolis:20250125T110000
DTEND;TZID=America/Indiana/Indianapolis:20250125T130000
DTSTAMP:20260419T081513
CREATED:20240307T054342Z
LAST-MODIFIED:20250125T174635Z
UID:92166-1737802800-1737810000@duggerunionschools.org
SUMMARY:Basketball (Girls V) - Martinsville\, IL Hi School
DESCRIPTION:Start Time: 11:00 AM\nEnd Time: 1:00 PM\nSport: Basketball\nGender: Girls\nLevel: Varsity\nLocation: Dugger Union Community School\nOpponent(s): Martinsville\, IL High School
URL:https://duggerunionschools.org/administration/event/basketball-girls-v-martinsville-il-hi-school-2/
LOCATION:Dugger Union Community School
END:VEVENT
BEGIN:VEVENT
DTSTART;TZID=America/Indiana/Indianapolis:20250123T183000
DTEND;TZID=America/Indiana/Indianapolis:20250123T203000
DTSTAMP:20260419T081513
CREATED:20240307T054341Z
LAST-MODIFIED:20250124T003111Z
UID:92165-1737657000-1737664200@duggerunionschools.org
SUMMARY:Basketball (Girls V) @ Clay City Jr/Sr. High School
DESCRIPTION:Start Time: 6:30 PM\nEnd Time: 8:30 PM\nSport: Basketball\nGender: Girls\nLevel: Varsity\nLocation: Clay City Jr-Sr High School\nOpponent(s): Clay City Jr/Sr. High School
URL:https://duggerunionschools.org/administration/event/basketball-girls-v-clay-city-jr-sr-high-school/
LOCATION:Clay City Jr-Sr High School
END:VEVENT
BEGIN:VEVENT
DTSTART;TZID=America/Indiana/Indianapolis:20250123T180000
DTEND;TZID=America/Indiana/Indianapolis:20250123T200000
DTSTAMP:20260419T081513
CREATED:20240125T091337Z
LAST-MODIFIED:20240724T085949Z
UID:83300-1737655200-1737662400@duggerunionschools.org
SUMMARY:Basketball (Boys 5 & 6) - Spencer Elementary School
DESCRIPTION:
URL:https://duggerunionschools.org/administration/event/basketball-boys-5-6-spencer-elementary-school-3/
LOCATION:Dugger Union Community School
END:VEVENT
BEGIN:VEVENT
DTSTART;TZID=America/Indiana/Indianapolis:20250123T180000
DTEND;TZID=America/Indiana/Indianapolis:20250123T200000
DTSTAMP:20260419T081513
CREATED:20240125T091337Z
LAST-MODIFIED:20250124T003118Z
UID:83301-1737655200-1737662400@duggerunionschools.org
SUMMARY:Basketball (Girls 5 & 6) - Spencer Elementary School
DESCRIPTION:Start Time: 6:00 PM\nEnd Time: 8:00 PM\nSport: Basketball\nGender: Girls\nLevel: 5th Grade\nLocation: Dugger Union Community School\nOpponent(s): Spencer Elementary School
URL:https://duggerunionschools.org/administration/event/basketball-girls-5-6-spencer-elementary-school-4/
LOCATION:Dugger Union Community School
END:VEVENT
BEGIN:VEVENT
DTSTART;TZID=America/Indiana/Indianapolis:20250123T180000
DTEND;TZID=America/Indiana/Indianapolis:20250123T200000
DTSTAMP:20260419T081513
CREATED:20231224T084339Z
LAST-MODIFIED:20250124T003114Z
UID:74453-1737655200-1737662400@duggerunionschools.org
SUMMARY:Basketball (Boys 7 & 8) @ North Central HS-Farmersburg
DESCRIPTION:Start Time: 6:00 PM\nEnd Time: 8:00 PM\nSport: Basketball\nGender: Boys\nLevel: 7th Grade\nLocation: North Central HS-Farmersburg\nOpponent(s): North Central HS-Farmersburg
URL:https://duggerunionschools.org/administration/event/basketball-boys-7-8-north-central-hs-farmersburg-2/
LOCATION:North Central HS-Farmersburg
END:VEVENT
END:VCALENDAR