BEGIN:VCALENDAR
VERSION:2.0
PRODID:-//Administration - ECPv6.15.15//NONSGML v1.0//EN
CALSCALE:GREGORIAN
METHOD:PUBLISH
X-ORIGINAL-URL:https://duggerunionschools.org/administration
X-WR-CALDESC:Events for Administration
REFRESH-INTERVAL;VALUE=DURATION:PT1H
X-Robots-Tag:noindex
X-PUBLISHED-TTL:PT1H
BEGIN:VTIMEZONE
TZID:America/Indiana/Indianapolis
BEGIN:DAYLIGHT
TZOFFSETFROM:-0500
TZOFFSETTO:-0400
TZNAME:EDT
DTSTART:20240310T070000
END:DAYLIGHT
BEGIN:STANDARD
TZOFFSETFROM:-0400
TZOFFSETTO:-0500
TZNAME:EST
DTSTART:20241103T060000
END:STANDARD
BEGIN:DAYLIGHT
TZOFFSETFROM:-0500
TZOFFSETTO:-0400
TZNAME:EDT
DTSTART:20250309T070000
END:DAYLIGHT
BEGIN:STANDARD
TZOFFSETFROM:-0400
TZOFFSETTO:-0500
TZNAME:EST
DTSTART:20251102T060000
END:STANDARD
BEGIN:DAYLIGHT
TZOFFSETFROM:-0500
TZOFFSETTO:-0400
TZNAME:EDT
DTSTART:20260308T070000
END:DAYLIGHT
BEGIN:STANDARD
TZOFFSETFROM:-0400
TZOFFSETTO:-0500
TZNAME:EST
DTSTART:20261101T060000
END:STANDARD
END:VTIMEZONE
BEGIN:VEVENT
DTSTART;VALUE=DATE:20250220
DTEND;VALUE=DATE:20250223
DTSTAMP:20260421T044523
CREATED:20250203T205742Z
LAST-MODIFIED:20250222T235745Z
UID:138485-1740009600-1740268799@duggerunionschools.org
SUMMARY:Mini Cheer Camp sponsored by the HS Cheer Team
DESCRIPTION:
URL:https://duggerunionschools.org/administration/event/mini-cheer-camp-sponsored-by-the-hs-cheer-team/
END:VEVENT
BEGIN:VEVENT
DTSTART;TZID=America/Indiana/Indianapolis:20250220T180000
DTEND;TZID=America/Indiana/Indianapolis:20250220T190000
DTSTAMP:20260421T044523
CREATED:20250210T195718Z
LAST-MODIFIED:20250220T235721Z
UID:139414-1740074400-1740078000@duggerunionschools.org
SUMMARY:HS Softball parent meeting in Cafe.
DESCRIPTION:
URL:https://duggerunionschools.org/administration/event/softball-parent-meeting-in-cafe/
END:VEVENT
END:VCALENDAR