BEGIN:VCALENDAR
VERSION:2.0
PRODID:-//Administration - ECPv6.15.15//NONSGML v1.0//EN
CALSCALE:GREGORIAN
METHOD:PUBLISH
X-ORIGINAL-URL:https://duggerunionschools.org/administration
X-WR-CALDESC:Events for Administration
REFRESH-INTERVAL;VALUE=DURATION:PT1H
X-Robots-Tag:noindex
X-PUBLISHED-TTL:PT1H
BEGIN:VTIMEZONE
TZID:America/Indiana/Indianapolis
BEGIN:DAYLIGHT
TZOFFSETFROM:-0500
TZOFFSETTO:-0400
TZNAME:EDT
DTSTART:20240310T070000
END:DAYLIGHT
BEGIN:STANDARD
TZOFFSETFROM:-0400
TZOFFSETTO:-0500
TZNAME:EST
DTSTART:20241103T060000
END:STANDARD
BEGIN:DAYLIGHT
TZOFFSETFROM:-0500
TZOFFSETTO:-0400
TZNAME:EDT
DTSTART:20250309T070000
END:DAYLIGHT
BEGIN:STANDARD
TZOFFSETFROM:-0400
TZOFFSETTO:-0500
TZNAME:EST
DTSTART:20251102T060000
END:STANDARD
BEGIN:DAYLIGHT
TZOFFSETFROM:-0500
TZOFFSETTO:-0400
TZNAME:EDT
DTSTART:20260308T070000
END:DAYLIGHT
BEGIN:STANDARD
TZOFFSETFROM:-0400
TZOFFSETTO:-0500
TZNAME:EST
DTSTART:20261101T060000
END:STANDARD
END:VTIMEZONE
BEGIN:VEVENT
DTSTART;TZID=America/Indiana/Indianapolis:20250128T115000
DTEND;TZID=America/Indiana/Indianapolis:20250128T132000
DTSTAMP:20260421T044441
CREATED:20250113T172731Z
LAST-MODIFIED:20250128T181220Z
UID:134340-1738065000-1738070400@duggerunionschools.org
SUMMARY:Marine recruiter - JH/HS lunch time
DESCRIPTION:
URL:https://duggerunionschools.org/administration/event/marine-recruiter-jh-hs-lunch-time/
END:VEVENT
BEGIN:VEVENT
DTSTART;TZID=America/Indiana/Indianapolis:20250128T180000
DTEND;TZID=America/Indiana/Indianapolis:20250128T200000
DTSTAMP:20260421T044442
CREATED:20240717T045922Z
LAST-MODIFIED:20250129T003115Z
UID:109350-1738087200-1738094400@duggerunionschools.org
SUMMARY:Basketball (Girls 5 & 6) @ Carlisle Elementary/Jr. High
DESCRIPTION:Start Time: 6:00 PM\nEnd Time: 8:00 PM\nSport: Basketball\nGender: Girls\nLevel: 5th Grade\nLocation: Carlisle Elementary/Jr. High\nOpponent(s): Carlisle Elementary/Jr. High
URL:https://duggerunionschools.org/administration/event/basketball-girls-5-6-carlisle-elementary-jr-high-4/
LOCATION:Carlisle Elementary/Jr. High
END:VEVENT
BEGIN:VEVENT
DTSTART;TZID=America/Indiana/Indianapolis:20250128T180000
DTEND;TZID=America/Indiana/Indianapolis:20250128T200000
DTSTAMP:20260421T044442
CREATED:20240724T202930Z
LAST-MODIFIED:20250129T003118Z
UID:110510-1738087200-1738094400@duggerunionschools.org
SUMMARY:Basketball (Boys JV) - Lighthouse Christian Academy - Bloomington
DESCRIPTION:Start Time: 6:00 PM\nEnd Time: 8:00 PM\nSport: Basketball\nGender: Boys\nLevel: Junior Varsity\nLocation: Dugger Union Community School\nOpponent(s): Lighthouse Christian Academy – Bloomington
URL:https://duggerunionschools.org/administration/event/basketball-boys-jv-lighthouse-christian-academy-bloomington-2/
LOCATION:Dugger Union Community School
END:VEVENT
BEGIN:VEVENT
DTSTART;TZID=America/Indiana/Indianapolis:20250128T193000
DTEND;TZID=America/Indiana/Indianapolis:20250128T213000
DTSTAMP:20260421T044442
CREATED:20240524T154358Z
LAST-MODIFIED:20250129T014634Z
UID:102003-1738092600-1738099800@duggerunionschools.org
SUMMARY:Basketball (Boys V) - Lighthouse Christian Academy - Bloomington
DESCRIPTION:Start Time: 7:30 PM\nEnd Time: 9:30 PM\nSport: Basketball\nGender: Boys\nLevel: Varsity\nLocation: Dugger Union Community School\nOpponent(s): Lighthouse Christian Academy – Bloomington
URL:https://duggerunionschools.org/administration/event/basketball-boys-v-lighthouse-christian-academy-bloomington-3/
LOCATION:Dugger Union Community School
END:VEVENT
END:VCALENDAR