BEGIN:VCALENDAR
VERSION:2.0
PRODID:-//Administration - ECPv6.15.15//NONSGML v1.0//EN
CALSCALE:GREGORIAN
METHOD:PUBLISH
X-ORIGINAL-URL:https://duggerunionschools.org/administration
X-WR-CALDESC:Events for Administration
REFRESH-INTERVAL;VALUE=DURATION:PT1H
X-Robots-Tag:noindex
X-PUBLISHED-TTL:PT1H
BEGIN:VTIMEZONE
TZID:America/Indiana/Indianapolis
BEGIN:DAYLIGHT
TZOFFSETFROM:-0500
TZOFFSETTO:-0400
TZNAME:EDT
DTSTART:20240310T070000
END:DAYLIGHT
BEGIN:STANDARD
TZOFFSETFROM:-0400
TZOFFSETTO:-0500
TZNAME:EST
DTSTART:20241103T060000
END:STANDARD
BEGIN:DAYLIGHT
TZOFFSETFROM:-0500
TZOFFSETTO:-0400
TZNAME:EDT
DTSTART:20250309T070000
END:DAYLIGHT
BEGIN:STANDARD
TZOFFSETFROM:-0400
TZOFFSETTO:-0500
TZNAME:EST
DTSTART:20251102T060000
END:STANDARD
BEGIN:DAYLIGHT
TZOFFSETFROM:-0500
TZOFFSETTO:-0400
TZNAME:EDT
DTSTART:20260308T070000
END:DAYLIGHT
BEGIN:STANDARD
TZOFFSETFROM:-0400
TZOFFSETTO:-0500
TZNAME:EST
DTSTART:20261101T060000
END:STANDARD
END:VTIMEZONE
BEGIN:VEVENT
DTSTART;TZID=America/Indiana/Indianapolis:20250127T180000
DTEND;TZID=America/Indiana/Indianapolis:20250127T200000
DTSTAMP:20260421T062048
CREATED:20240129T142819Z
LAST-MODIFIED:20250128T004616Z
UID:84488-1738000800-1738008000@duggerunionschools.org
SUMMARY:Basketball (Girls 7 & 8) @ Clay City
DESCRIPTION:Start Time: 6:00 PM\nEnd Time: 8:00 PM\nSport: Basketball\nGender: Girls\nLevel: 7th Grade\nLocation: Clay City Jr/Sr. High School\nOpponent(s): Clay City Jr/Sr. High School
URL:https://duggerunionschools.org/administration/event/basketball-girls-7-8-clay-city-2/
LOCATION:Clay City Jr/Sr. High School
END:VEVENT
BEGIN:VEVENT
DTSTART;TZID=America/Indiana/Indianapolis:20250127T183000
DTEND;TZID=America/Indiana/Indianapolis:20250127T203000
DTSTAMP:20260421T062048
CREATED:20240307T054341Z
LAST-MODIFIED:20250128T004619Z
UID:92164-1738002600-1738009800@duggerunionschools.org
SUMMARY:Basketball (Girls V) @ Shoals Jr/Sr High School
DESCRIPTION:Start Time: 6:30 PM\nEnd Time: 8:30 PM\nSport: Basketball\nGender: Girls\nLevel: Varsity\nLocation: Shoals Jr/Sr High School\nOpponent(s): Shoals Jr/Sr High School
URL:https://duggerunionschools.org/administration/event/basketball-girls-v-shoals-jr-sr-high-school-3/
LOCATION:Shoals Jr/Sr High School
END:VEVENT
END:VCALENDAR