BEGIN:VCALENDAR
VERSION:2.0
PRODID:-//Administration - ECPv6.15.15//NONSGML v1.0//EN
CALSCALE:GREGORIAN
METHOD:PUBLISH
X-WR-CALNAME:Administration
X-ORIGINAL-URL:https://duggerunionschools.org/administration
X-WR-CALDESC:Events for Administration
REFRESH-INTERVAL;VALUE=DURATION:PT1H
X-Robots-Tag:noindex
X-PUBLISHED-TTL:PT1H
BEGIN:VTIMEZONE
TZID:America/Indiana/Indianapolis
BEGIN:DAYLIGHT
TZOFFSETFROM:-0500
TZOFFSETTO:-0400
TZNAME:EDT
DTSTART:20240310T070000
END:DAYLIGHT
BEGIN:STANDARD
TZOFFSETFROM:-0400
TZOFFSETTO:-0500
TZNAME:EST
DTSTART:20241103T060000
END:STANDARD
BEGIN:DAYLIGHT
TZOFFSETFROM:-0500
TZOFFSETTO:-0400
TZNAME:EDT
DTSTART:20250309T070000
END:DAYLIGHT
BEGIN:STANDARD
TZOFFSETFROM:-0400
TZOFFSETTO:-0500
TZNAME:EST
DTSTART:20251102T060000
END:STANDARD
BEGIN:DAYLIGHT
TZOFFSETFROM:-0500
TZOFFSETTO:-0400
TZNAME:EDT
DTSTART:20260308T070000
END:DAYLIGHT
BEGIN:STANDARD
TZOFFSETFROM:-0400
TZOFFSETTO:-0500
TZNAME:EST
DTSTART:20261101T060000
END:STANDARD
END:VTIMEZONE
BEGIN:VEVENT
DTSTART;TZID=America/Indiana/Indianapolis:20250122T180000
DTEND;TZID=America/Indiana/Indianapolis:20250122T200000
DTSTAMP:20260421T073914
CREATED:20240110T085822Z
LAST-MODIFIED:20250123T004623Z
UID:79257-1737568800-1737576000@duggerunionschools.org
SUMMARY:Basketball (Girls 5 & 6) - North Daviess Elementary School
DESCRIPTION:Start Time: 6:00 PM\nEnd Time: 8:00 PM\nSport: Basketball\nGender: Girls\nLevel: 5th Grade\nLocation: Dugger Union Community School\nOpponent(s): North Daviess Elementary School
URL:https://duggerunionschools.org/administration/event/basketball-girls-5-6-north-daviess-elementary-school-2/
LOCATION:Dugger Union Community School
END:VEVENT
BEGIN:VEVENT
DTSTART;TZID=America/Indiana/Indianapolis:20250122T180000
DTEND;TZID=America/Indiana/Indianapolis:20250122T200000
DTSTAMP:20260421T073915
CREATED:20240717T045916Z
LAST-MODIFIED:20250123T004617Z
UID:109349-1737568800-1737576000@duggerunionschools.org
SUMMARY:Basketball (Girls 7 & 8) @ Carlisle Elementary/Jr. High
DESCRIPTION:Start Time: 6:00 PM\nEnd Time: 8:00 PM\nSport: Basketball\nGender: Girls\nLevel: 7th Grade\nLocation: Carlisle Elementary/Jr. High\nOpponent(s): Carlisle Elementary/Jr. High
URL:https://duggerunionschools.org/administration/event/basketball-girls-7-8-carlisle-elementary-jr-high-3/
LOCATION:Carlisle Elementary/Jr. High
END:VEVENT
END:VCALENDAR